Workbook

Sheet 104大台南移轉-6層以下
A1: 臺南市大台南不動產開發商業同業公會
A2: 彙整大台南市104年度【建物第一次移轉】登記統計表
A3: 完成保存登記後第一次移轉之筆數。面積(六層以下，含六層)
A4: 月份 分區 | C4: 1月 | D4: 2月 | E4: 3月 | F4: 4月 | G4: 5月 | H4: 6月 | I4: 7月 | J4: 8月 | K4: 9月 | L4: 10月 | M4: 11月 | N4: 12月 | O4: 小計
A5: 新營 | B5: 筆數 | C5: 19 | D5: 31 | E5: 21 | F5: 11 | G5: 26 | H5: 18 | I5: 22 | J5: 25 | K5: 37 | L5: 19 | M5: 14 | N5: 46 | O5: =SUM(C5:N5) -> 289
B6: 面積㎡ | C6: 3373.72 | D6: 6169.26 | E6: 3870.16 | F6: 2549.13 | G6: 5586.54 | H6: 3618.81 | I6: 6129.85 | J6: 6369.42 | K6: 7205.55 | L6: 4015.75 | M6: 3761.48 | N6: 10583.07 | O6: =SUM(C6:N6) -> 63232.74
A7: 鹽水 | B7: 筆數 | C7: ='地政局(彙)104年-移轉'!J4 -> 0 | D7: 1 | E7: 14 | F7: 1 | G7: 0 | H7: 4 | I7: 3 | J7: 3 | K7: 5 | L7: 6 | M7: 1 | N7: 1 | O7: =SUM(C7:N7) -> 39
B8: 面積㎡ | C8: ='地政局(彙)104年-移轉'!J5 -> 0 | D8: 212.73 | E8: 2787.5 | F8: 212.73 | G8: 0 | H8: 881.19 | I8: 754.12 | J8: 665.82 | K8: 1023.65 | L8: 1174.55 | M8: 186.69 | N8: 189.31 | O8: =SUM(C8:N8) -> 8088.29
A9: 白河 | B9: 筆數 | C9: 1 | D9: 0 | E9: 0 | F9: 2 | G9: 5 | H9: 1 | I9: 2 | J9: 2 | K9: 1 | L9: 1 | M9: 0 | N9: 0 | O9: =SUM(C9:N9) -> 15
B10: 面積㎡ | C10: 159.5 | D10: 0 | E10: 0 | F10: 347.01 | G10: 940.02 | H10: 191.51 | I10: 329.08 | J10: 389.92 | K10: 167.13 | L10: 143.96 | M10: 0 | N10: 0 | O10: =SUM(C10:N10) -> 2668.13
A11: 柳營 | B11: 筆數 | C11: 4 | D11: 2 | E11: 6 | F11: 7 | G11: 3 | H11: 3 | I11: 1 | J11: 0 | K11: 0 | L11: 7 | M11: 1 | N11: 16 | O11: =SUM(C11:N11) -> 50
B12: 面積㎡ | C12: 661.78 | D12: 396.21 | E12: 1001.48 | F12: 1129.5 | G12: 447.86 | H12: 421.68 | I12: 153.65 | J12: 0 | K12: 0 | L12: 1392.74 | M12: 183.97 | N12: 3038.31 | O12: =SUM(C12:N12) -> 8827.18
A13: 後壁 | B13: 筆數 | C13: 4 | D13: 3 | E13: 7 | F13: 3 | G13: 5 | H13: 6 | I13: 7 | J13: 3 | K13: 0 | L13: 0 | M13: 0 | N13: 0 | O13: =SUM(C13:N13) -> 38
B14: 面積㎡ | C14: 1177.27 | D14: 855.71 | E14: 1933.53 | F14: 977.13 | G14: 1087.17 | H14: 1383.7 | I14: 1708.65 | J14: 878.05 | K14: 0 | L14: 0 | M14: 0 | N14: 0 | O14: =SUM(C14:N14) -> 10001.21
A15: 東山 | B15: 筆數 | C15: 0 | D15: 0 | E15: 0 | F15: 0 | G15: 0 | H15: 0 | I15: 1 | J15: 9 | K15: 2 | L15: 7 | M15: 0 | N15: 4 | O15: =SUM(C15:N15) -> 23
B16: 面積㎡ | C16: 0 | D16: 0 | E16: 0 | F16: 0 | G16: 0 | H16: 0 | I16: 153.8 | J16: 1455.08 | K16: 263.02 | L16: 992.19 | M16: 0 | N16: 549.51 | O16: =SUM(C16:N16) -> 3413.6
A17: 麻豆 | B17: 筆數 | C17: 11 | D17: 5 | E17: 7 | F17: 17 | G17: 7 | H17: 14 | I17: 19 | J17: 9 | K17: 25 | L17: 9 | M17: 15 | N17: 32 | O17: =SUM(C17:N17) -> 170
B18: 面積㎡ | C18: 2076.39 | D18: 1172.07 | E18: 1797.4 | F18: 3315.21 | G18: 1501.87 | H18: 2874.11 | I18: 3976.6 | J18: 1750.71 | K18: 4555.92 | L18: 1601.24 | M18: 3063.29 | N18: 6237.97 | O18: =SUM(C18:N18) -> 33922.78
A19: 下營 | B19: 筆數 | C19: 11 | D19: 1 | E19: 1 | F19: 0 | G19: 0 | H19: 4 | I19: 3 | J19: 0 | K19: 3 | L19: 0 | M19: 1 | N19: 3 | O19: =SUM(C19:N19) -> 27
B20: 面積㎡ | C20: 1958.8 | D20: 180.4 | E20: 180.4 | F20: 0 | G20: 0 | H20: 722.74 | I20: 569.29 | J20: 0 | K20: 763.68 | L20: 0 | M20: 206.92 | N20: 484.74 | O20: =SUM(C20:N20) -> 5066.97
A21: 六甲 | B21: 筆數 | C21: 1 | D21: 0 | E21: 24 | F21: 5 | G21: 0 | H21: 3 | I21: 2 | J21: 7 | K21: 3 | L21: 4 | M21: 3 | N21: 6 | O21: =SUM(C21:N21) -> 58
B22: 面積㎡ | C22: 236.36 | D22: 0 | E22: 3895.69 | F22: 765.35 | G22: 0 | H22: 495.36 | I22: 383.37 | J22: 1278.86 | K22: 450.63 | L22: 723.83 | M22: 445.14 | N22: 1189.34 | O22: =SUM(C22:N22) -> 9863.93
A23: 官田 | B23: 筆數 | C23: 0 | D23: 0 | E23: 0 | F23: 0 | G23: 0 | H23: 11 | I23: 10 | J23: 3 | K23: 9 | L23: 0 | M23: 1 | N23: 0 | O23: =SUM(C23:N23) -> 34
B24: 面積㎡ | C24: 0 | D24: 0 | E24: 0 | F24: 0 | G24: 0 | H24: 1830.17 | I24: 1819.09 | J24: 477.48 | K24: 1414.25 | L24: 0 | M24: 155.04 | N24: 0 | O24: =SUM(C24:N24) -> 5696.03
A25: 大內 | B25: 筆數 | C25: 0 | D25: 0 | E25: 0 | F25: 0 | G25: 0 | H25: 0 | I25: 0 | J25: 0 | K25: 0 | L25: 0 | M25: 0 | N25: 0 | O25: =SUM(C25:N25) -> 0
B26: 面積㎡ | C26: 0 | D26: 0 | E26: 0 | F26: 0 | G26: 0 | H26: 0 | I26: 0 | J26: 0 | K26: 0 | L26: 0 | M26: 0 | N26: 0 | O26: =SUM(C26:N26) -> 0
A27: 佳里 | B27: 筆數 | C27: 5 | D27: 3 | E27: 6 | F27: 8 | G27: 20 | H27: 7 | I27: 18 | J27: 43 | K27: 19 | L27: 13 | M27: 24 | N27: 42 | O27: =SUM(C27:N27) -> 208
B28: 面積㎡ | C28: 974.95 | D28: 527.27 | E28: 1135.8 | F28: 1568.71 | G28: 3707.23 | H28: 1438.01 | I28: 3616.98 | J28: 8420.96 | K28: 3271.64 | L28: 2218.51 | M28: 4709.94 | N28: 7631.41 | O28: =SUM(C28:N28) -> 39221.41
A29: 西港 | B29: 筆數 | C29: 0 | D29: 0 | E29: 0 | F29: 10 | G29: 16 | H29: 9 | I29: 1 | J29: 0 | K29: 0 | L29: 6 | M29: 1 | N29: 2 | O29: =SUM(C29:N29) -> 45
B30: 面積㎡ | C30: 0 | D30: 0 | E30: 0 | F30: 1856.35 | G30: 2602.74 | H30: 1437.01 | I30: 181.37 | J30: 0 | K30: 0 | L30: 988.69 | M30: 158.96 | N30: 465.6 | O30: =SUM(C30:N30) -> 7690.72
A31: 七股 | B31: 筆數 | C31: 0 | D31: 0 | E31: 0 | F31: 0 | G31: 0 | H31: 0 | I31: 0 | J31: 0 | K31: 0 | L31: 0 | M31: 0 | N31: 0 | O31: =SUM(C31:N31) -> 0
B32: 面積㎡ | C32: 0 | D32: 0 | E32: 0 | F32: 0 | G32: 0 | H32: 0 | I32: 0 | J32: 0 | K32: 0 | L32: 0 | M32: 0 | N32: 0 | O32: =SUM(C32:N32) -> 0
A33: 將軍 | B33: 筆數 | C33: 0 | D33: 0 | E33: 0 | F33: 0 | G33: 1 | H33: 5 | I33: 2 | J33: 1 | K33: 2 | L33: 1 | M33: 0 | N33: 9 | O33: =SUM(C33:N33) -> 21
B34: 面積㎡ | C34: 0 | D34: 0 | E34: 0 | F34: 0 | G34: 151.67 | H34: 876.7 | I34: 302.4 | J34: 187.99 | K34: 375.98 | L34: 187.99 | M34: 0 | N34: 1299.85 | O34: =SUM(C34:N34) -> 3382.58
A35: 北門 | B35: 筆數 | C35: 0 | D35: 0 | E35: 0 | F35: 0 | G35: 0 | H35: 0 | I35: 0 | J35: 0 | K35: 0 | L35: 0 | M35: 0 | N35: 0 | O35: =SUM(C35:N35) -> 0
B36: 面積㎡ | C36: 0 | D36: 0 | E36: 0 | F36: 0 | G36: 0 | H36: 0 | I36: 0 | J36: 0 | K36: 0 | L36: 0 | M36: 0 | N36: 0 | O36: =SUM(C36:N36) -> 0
A37: 學甲 | B37: 筆數 | C37: 0 | D37: 1 | E37: 19 | F37: 11 | G37: 0 | H37: 0 | I37: 8 | J37: 13 | K37: 1 | L37: 0 | M37: 0 | N37: 37 | O37: =SUM(C37:N37) -> 90
B38: 面積㎡ | C38: 0 | D38: 146.75 | E38: 2880.14 | F38: 1632.04 | G38: 0 | H38: 0 | I38: 3005.36 | J38: 3655.09 | K38: 163.45 | L38: 0 | M38: 0 | N38: 6147.07 | O38: =SUM(C38:N38) -> 17629.9
A39: 新化 | B39: 筆數 | C39: 0 | D39: 0 | E39: 3 | F39: 16 | G39: 6 | H39: 1 | I39: 0 | J39: 53 | K39: 2 | L39: 1 | M39: 0 | N39: 2 | O39: =SUM(C39:N39) -> 84
B40: 面積㎡ | C40: 0 | D40: 0 | E40: 523.87 | F40: 2553.57 | G40: 943.31 | H40: 215.39 | I40: 0 | J40: 9363.76 | K40: 324.03 | L40: 171.91 | M40: 0 | N40: 411.14 | O40: =SUM(C40:N40) -> 14506.98
A41: 善化 | B41: 筆數 | C41: 52 | D41: 25 | E41: 68 | F41: 34 | G41: 19 | H41: 30 | I41: 18 | J41: 16 | K41: 19 | L41: 50 | M41: 82 | N41: 191 | O41: =SUM(C41:N41) -> 604
B42: 面積㎡ | C42: 10463.71 | D42: 4472.71 | E42: 12797.63 | F42: 7872.97 | G42: 4054.94 | H42: 6431.32 | I42: 4528.2 | J42: 3225.98 | K42: 4380.71 | L42: 10705.87 | M42: 17816.92 | N42: 36359.62 | O42: =SUM(C42:N42) -> 123110.58
A43: 新市 | B43: 筆數 | C43: 36 | D43: 31 | E43: 13 | F43: 11 | G43: 20 | H43: 44 | I43: 38 | J43: 26 | K43: 24 | L43: 34 | M43: 26 | N43: 76 | O43: =SUM(C43:N43) -> 379
B44: 面積㎡ | C44: 8441.28 | D44: 6371.47 | E44: 2327.93 | F44: 1916.84 | G44: 3492.25 | H44: 9276.57 | I44: 7305.5 | J44: 4953.94 | K44: 4327.3 | L44: 6457.11 | M44: 4820.06 | N44: 11188.49 | O44: =SUM(C44:N44) -> 70878.74
A45: 安定 | B45: 筆數 | C45: 43 | D45: 8 | E45: 12 | F45: 16 | G45: 15 | H45: 8 | I45: 8 | J45: 6 | K45: 4 | L45: 6 | M45: 9 | N45: 34 | O45: =SUM(C45:N45) -> 169
B46: 面積㎡ | C46: 6618.5 | D46: 1607.23 | E46: 2454.2 | F46: 2691.66 | G46: 2422.91 | H46: 1353.68 | I46: 1549.77 | J46: 958.38 | K46: 632.56 | L46: 995.41 | M46: 1465.72 | N46: 5377.84 | O46: =SUM(C46:N46) -> 28127.86
A47: 山上 | B47: 筆數 | C47: 0 | D47: 0 | E47: 0 | F47: 0 | G47: 0 | H47: 0 | I47: 0 | J47: 0 | K47: 0 | L47: 0 | M47: 0 | N47: 0 | O47: =SUM(C47:N47) -> 0
B48: 面積㎡ | C48: 0 | D48: 0 | E48: 0 | F48: 0 | G48: 0 | H48: 0 | I48: 0 | J48: 0 | K48: 0 | L48: 0 | M48: 0 | N48: 0 | O48: =SUM(C48:N48) -> 0
A49: 玉井 | B49: 筆數 | C49: 0 | D49: 0 | E49: 0 | F49: 0 | G49: 0 | H49: 0 | I49: 0 | J49: 3 | K49: 1 | L49: 0 | M49: 0 | N49: 39 | O49: =SUM(C49:N49) -> 43
B50: 面積㎡ | C50: 0 | D50: 0 | E50: 0 | F50: 0 | G50: 0 | H50: 0 | I50: 0 | J50: 634.21 | K50: 229.86 | L50: 0 | M50: 0 | N50: 6485.87 | O50: =SUM(C50:N50) -> 7349.94
A51: 楠西 | B51: 筆數 | C51: 0 | D51: 0 | E51: 0 | F51: 0 | G51: 0 | H51: 0 | I51: 0 | J51: 0 | K51: 0 | L51: 0 | M51: 0 | N51: 0 | O51: =SUM(C51:N51) -> 0
B52: 面積㎡ | C52: 0 | D52: 0 | E52: 0 | F52: 0 | G52: 0 | H52: 0 | I52: 0 | J52: 0 | K52: 0 | L52: 0 | M52: 0 | N52: 0 | O52: =SUM(C52:N52) -> 0
A53: 南化 | B53: 筆數 | C53: 0 | D53: 0 | E53: 0 | F53: 0 | G53: 0 | H53: 0 | I53: 0 | J53: 0 | K53: 0 | L53: 0 | M53: 0 | N53: 0 | O53: =SUM(C53:N53) -> 0
B54: 面積㎡ | C54: 0 | D54: 0 | E54: 0 | F54: 0 | G54: 0 | H54: 0 | I54: 0 | J54: 0 | K54: 0 | L54: 0 | M54: 0 | N54: 0 | O54: =SUM(C54:N54) -> 0
A55: 左鎮 | B55: 筆數 | C55: 0 | D55: 0 | E55: 0 | F55: 0 | G55: 0 | H55: 0 | I55: 0 | J55: 0 | K55: 0 | L55: 0 | M55: 0 | N55: 0 | O55: =SUM(C55:N55) -> 0
B56: 面積㎡ | C56: 0 | D56: 0 | E56: 0 | F56: 0 | G56: 0 | H56: 0 | I56: 0 | J56: 0 | K56: 0 | L56: 0 | M56: 0 | N56: 0 | O56: =SUM(C56:N56) -> 0
A57: 仁德 | B57: 筆數 | C57: 52 | D57: 23 | E57: 19 | F57: 9 | G57: 8 | H57: 15 | I57: 19 | J57: 27 | K57: 30 | L57: 47 | M57: 25 | N57: 68 | O57: =SUM(C57:N57) -> 342
B58: 面積㎡ | C58: 9840.49 | D58: 4312.43 | E58: 4034.46 | F58: 2324.41 | G58: 1627.99 | H58: 4157.45 | I58: 4149.45 | J58: 4748.09 | K58: 6381.31 | L58: 8720.13 | M58: 5230.69 | N58: 15300.93 | O58: =SUM(C58:N58) -> 70827.83
A59: 歸仁 | B59: 筆數 | C59: 10 | D59: 0 | E59: 10 | F59: 14 | G59: 12 | H59: 11 | I59: 56 | J59: 8 | K59: 10 | L59: 20 | M59: 17 | N59: 40 | O59: =SUM(C59:N59) -> 208
B60: 面積㎡ | C60: 2345.33 | D60: 0 | E60: 2156.76 | F60: 4153.55 | G60: 2559.71 | H60: 2549.3 | I60: 7608.14 | J60: 1337.12 | K60: 2314.04 | L60: 3552.97 | M60: 3032.66 | N60: 7190.58 | O60: =SUM(C60:N60) -> 38800.16
A61: 關廟 | B61: 筆數 | C61: 0 | D61: 5 | E61: 5 | F61: 16 | G61: 3 | H61: 22 | I61: 29 | J61: 8 | K61: 4 | L61: 4 | M61: 25 | N61: 49 | O61: =SUM(C61:N61) -> 170
B62: 面積㎡ | C62: 0 | D62: 904.22 | E62: 1031.73 | F62: 3017.39 | G62: 508.82 | H62: 3706.47 | I62: 4916.43 | J62: 1249.74 | K62: 649.08 | L62: 694.02 | M62: 4523.09 | N62: 10302.67 | O62: =SUM(C62:N62) -> 31503.66
A63: 龍崎 | B63: 筆數 | C63: 0 | D63: 0 | E63: 0 | F63: 0 | G63: 0 | H63: 0 | I63: 0 | J63: 0 | K63: 0 | L63: 0 | M63: 0 | N63: 0 | O63: =SUM(C63:N63) -> 0
B64: 面積㎡ | C64: 0 | D64: 0 | E64: 0 | F64: 0 | G64: 0 | H64: 0 | I64: 0 | J64: 0 | K64: 0 | L64: 0 | M64: 0 | N64: 0 | O64: =SUM(C64:N64) -> 0
A65: 永康 | B65: 筆數 | C65: 129 | D65: 103 | E65: 62 | F65: 56 | G65: 36 | H65: 30 | I65: 50 | J65: 14 | K65: 30 | L65: 15 | M65: 61 | N65: 74 | O65: =SUM(C65:N65) -> 660
B66: 面積㎡ | C66: 22216.35 | D66: 21142.56 | E66: 12208.66 | F66: 11413.69 | G66: 7027.47 | H66: 5775.15 | I66: 9520.41 | J66: 2451.76 | K66: 7183.86 | L66: 3076.5 | M66: 12893.24 | N66: 15757.41 | O66: =SUM(C66:N66) -> 130667.06
A67: 東區 | B67: 筆數 | C67: ='地政局(彙)104年-移轉'!C4 -> 14 | D67: 6 | E67: 20 | F67: 11 | G67: 13 | H67: 5 | I67: 18 | J67: 8 | K67: 6 | L67: 9 | M67: 8 | N67: 34 | O67: =SUM(C67:N67) -> 152
B68: 面積㎡ | C68: ='地政局(彙)104年-移轉'!C5 -> 4130.57 | D68: 1518.24 | E68: 4199.69 | F68: 2584.13 | G68: 3900.13 | H68: 1529.07 | I68: 3588.3 | J68: 1848.45 | K68: 1540.9 | L68: 2213.41 | M68: 2102.88 | N68: 6545.77 | O68: =SUM(C68:N68) -> 35701.54
A69: 南區 | B69: 筆數 | C69: ='地政局(彙)104年-移轉'!D4 -> 4 | D69: 5 | E69: 6 | F69: 7 | G69: 14 | H69: 14 | I69: 3 | J69: 4 | K69: 14 | L69: 4 | M69: 59 | N69: 46 | O69: =SUM(C69:N69) -> 180
B70: 面積㎡ | C70: ='地政局(彙)104年-移轉'!D5 -> 811.08 | D70: 1022.86 | E70: 1340.15 | F70: 1696.86 | G70: 2879.74 | H70: 3025 | I70: 734.3 | J70: 982.44 | K70: 2962.82 | L70: 757.69 | M70: 9997.8 | N70: 13429.63 | O70: =SUM(C70:N70) -> 39640.37
A71: 北區 | B71: 筆數 | C71: 5 | D71: 4 | E71: 8 | F71: 10 | G71: 9 | H71: 2 | I71: 7 | J71: 5 | K71: 5 | L71: 4 | M71: 12 | N71: 56 | O71: =SUM(C71:N71) -> 127
B72: 面積㎡ | C72: 1600.93 | D72: 940.21 | E72: 1969.9 | F72: 3318.66 | G72: 2821.44 | H72: 528.19 | I72: 1745.61 | J72: 1826.55 | K72: 1746.86 | L72: 1246.6 | M72: 2655.44 | N72: 14600.68 | O72: =SUM(C72:N72) -> 35001.07
A73: 安南 | B73: 筆數 | C73: 27 | D73: 16 | E73: 52 | F73: 73 | G73: 84 | H73: 119 | I73: 65 | J73: 49 | K73: 38 | L73: 115 | M73: 62 | N73: 230 | O73: =SUM(C73:N73) -> 930
B74: 面積㎡ | C74: 5448.69 | D74: 2855.91 | E74: 10523.23 | F74: 12562.49 | G74: 15233.29 | H74: 22248.48 | I74: 12648.2 | J74: 9347.36 | K74: 6058.53 | L74: 19665.83 | M74: 10753.8 | N74: 49800.95 | O74: =SUM(C74:N74) -> 177146.76
A75: 安平 | B75: 筆數 | C75: 6 | D75: 3 | E75: 3 | F75: 6 | G75: 7 | H75: 4 | I75: 5 | J75: 5 | K75: 5 | L75: 1 | M75: 11 | N75: 15 | O75: =SUM(C75:N75) -> 71
B76: 面積㎡ | C76: 1740.65 | D76: 1125.98 | E76: 809.62 | F76: 2141.78 | G76: 2452.5 | H76: 1488.96 | I76: 2003.85 | J76: 1880.84 | K76: 1496.27 | L76: 310.99 | M76: 4096.67 | N76: 5612.93 | O76: =SUM(C76:N76) -> 25161.04
A77: 中西 | B77: 筆數 | C77: 5 | D77: 5 | E77: 3 | F77: 0 | G77: 3 | H77: 1 | I77: 0 | J77: 6 | K77: 1 | L77: 3 | M77: 3 | N77: 6 | O77: =SUM(C77:N77) -> 36
B78: 面積㎡ | C78: 1880.09 | D78: 1795.4 | E78: 910.91 | F78: 0 | G78: 860.39 | H78: 364.56 | I78: 0 | J78: 2749.3 | K78: 302.7 | L78: 1137.78 | M78: 1377.61 | N78: 2006.47 | O78: =SUM(C78:N78) -> 13385.21
A79: 合計 | B79: 筆數 | C79: =C67+C5+C69+C7+C9+C71+C11+C13+C73+C15+C75+C17+C19+C77+C21+C23+C25+C27+C29+C31+C33+C35+C37+C39+C41+C43+C45+C47+C49+C51+C53+C55+C57+C59+C61+C63+C65 -> 439 | D79: =D67+D5+D69+D7+D9+D71+D11+D13+D73+D15+D75+D17+D19+D77+D21+D23+D25+D27+D29+D31+D33+D35+D37+D39+D41+D43+D45+D47+D49+D51+D53+D55+D57+D59+D61+D63+D65 -> 281 | E79: =E67+E5+E69+E7+E9+E71+E11+E13+E73+E15+E75+E17+E19+E77+E21+E23+E25+E27+E29+E31+E33+E35+E37+E39+E41+E43+E45+E47+E49+E51+E53+E55+E57+E59+E61+E63+E65 -> 389 | F79: =F67+F5+F69+F7+F9+F71+F11+F13+F73+F15+F75+F17+F19+F77+F21+F23+F25+F27+F29+F31+F33+F35+F37+F39+F41+F43+F45+F47+F49+F51+F53+F55+F57+F59+F61+F63+F65 -> 354 | G79: =G67+G5+G69+G7+G9+G71+G11+G13+G73+G15+G75+G17+G19+G77+G21+G23+G25+G27+G29+G31+G33+G35+G37+G39+G41+G43+G45+G47+G49+G51+G53+G55+G57+G59+G61+G63+G65 -> 332 | H79: =H67+H5+H69+H7+H9+H71+H11+H13+H73+H15+H75+H17+H19+H77+H21+H23+H25+H27+H29+H31+H33+H35+H37+H39+H41+H43+H45+H47+H49+H51+H53+H55+H57+H59+H61+H63+H65 -> 391 | I79: =I67+I5+I69+I7+I9+I71+I11+I13+I73+I15+I75+I17+I19+I77+I21+I23+I25+I27+I29+I31+I33+I35+I37+I39+I41+I43+I45+I47+I49+I51+I53+I55+I57+I59+I61+I63+I65 -> 415 | J79: =J5+J7+J9+J11+J13+J15+J17+J19+J21+J23+J25+J27+J29+J31+J33+J35+J37+J39+J41+J43+J45+J47+J49+J51+J53+J55+J57+J59+J61+J63+J65+J67+J69+J71+J73+J75+J77 -> 356 | K79: =K67+K5+K69+K7+K9+K71+K11+K13+K73+K15+K75+K17+K19+K77+K21+K23+K25+K27+K29+K31+K33+K35+K37+K39+K41+K43+K45+K47+K49+K51+K53+K55+K57+K59+K61+K63+K65 -> 300 | L79: =L67+L5+L69+L7+L9+L71+L11+L13+L73+L15+L75+L17+L19+L77+L21+L23+L25+L27+L29+L31+L33+L35+L37+L39+L41+L43+L45+L47+L49+L51+L53+L55+L57+L59+L61+L63+L65 -> 386 | M79: =M67+M5+M69+M7+M9+M71+M11+M13+M73+M15+M75+M17+M19+M77+M21+M23+M25+M27+M29+M31+M33+M35+M37+M39+M41+M43+M45+M47+M49+M51+M53+M55+M57+M59+M61+M63+M65 -> 461 | N79: =N67+N5+N69+N7+N9+N71+N11+N13+N73+N15+N75+N17+N19+N77+N21+N23+N25+N27+N29+N31+N33+N35+N37+N39+N41+N43+N45+N47+N49+N51+N53+N55+N57+N59+N61+N63+N65 -> 1158 | O79: =SUM(C79:N79) -> 5262
B80: 面積㎡ | C80: =C68+C6+C70+C8+C10+C72+C12+C14+C74+C16+C76+C18+C20+C78+C22+C24+C26+C28+C30+C32+C34+C36+C38+C40+C42+C44+C46+C48+C50+C52+C54+C56+C58+C60+C62+C64+C66 -> 86156.44 | D80: =D68+D6+D70+D8+D10+D72+D12+D14+D74+D16+D76+D18+D20+D78+D22+D24+D26+D28+D30+D32+D34+D36+D38+D40+D42+D44+D46+D48+D50+D52+D54+D56+D58+D60+D62+D64+D66 -> 57729.62 | E80: =E68+E6+E70+E8+E10+E72+E12+E14+E74+E16+E76+E18+E20+E78+E22+E24+E26+E28+E30+E32+E34+E36+E38+E40+E42+E44+E46+E48+E50+E52+E54+E56+E58+E60+E62+E64+E66 -> 76770.84 | F80: =F68+F6+F70+F8+F10+F72+F12+F14+F74+F16+F76+F18+F20+F78+F22+F24+F26+F28+F30+F32+F34+F36+F38+F40+F42+F44+F46+F48+F50+F52+F54+F56+F58+F60+F62+F64+F66 -> 72601.16 | G80: =G68+G6+G70+G8+G10+G72+G12+G14+G74+G16+G76+G18+G20+G78+G22+G24+G26+G28+G30+G32+G34+G36+G38+G40+G42+G44+G46+G48+G50+G52+G54+G56+G58+G60+G62+G64+G66 -> 66809.99 | H80: =H68+H6+H70+H8+H10+H72+H12+H14+H74+H16+H76+H18+H20+H78+H22+H24+H26+H28+H30+H32+H34+H36+H38+H40+H42+H44+H46+H48+H50+H52+H54+H56+H58+H60+H62+H64+H66 -> 78820.58 | I80: =I68+I6+I70+I8+I10+I72+I12+I14+I74+I16+I76+I18+I20+I78+I22+I24+I26+I28+I30+I32+I34+I36+I38+I40+I42+I44+I46+I48+I50+I52+I54+I56+I58+I60+I62+I64+I66 -> 83381.77 | J80: =J68+J6+J70+J8+J10+J72+J12+J14+J74+J16+J76+J18+J20+J78+J22+J24+J26+J28+J30+J32+J34+J36+J38+J40+J42+J44+J46+J48+J50+J52+J54+J56+J58+J60+J62+J64+J66 -> 73087.3 | ... N80: =N68+N6+N70+N8+N10+N72+N12+N14+N74+N16+N76+N18+N20+N78+N22+N24+N26+N28+N30+N32+N34+N36+N38+N40+N42+N44+N46+N48+N50+N52+N54+N56+N58+N60+N62+N64+N66 -> 238187.16 | O80: =SUM(C80:N80) -> 1060514.3
A82: 備註 | B82: 1.資料來源：臺南市政府地政局 http://land.tainan.gov.tw
B83: 2.本表係統計所有權人為本國私法人，建物主要用途為住家用、商業用、住商用、見使用執照或見其他事項，建築完成日期自92年1月1日起
B84: 迄今，完成建物第一次登記後以買賣為登記原因移轉之建物筆數與面積(單位為平方公尺)。

Sheet 104大台南移轉-7層以上
A1: 臺南市大台南不動產開發商業同業公會
A2: 彙整大台南市104年度【建物第一次移轉】登記統計表
A3: 完成保存登記後第一次移轉之筆數。面積(七層以上)
A4: 月份 分區 | C4: 1月 | D4: 2月 | E4: 3月 | F4: 4月 | G4: 5月 | H4: 6月 | I4: 7月 | J4: 8月 | K4: 9月 | L4: 10月 | M4: 11月 | N4: 12月 | O4: 小計
A5: 新營 | B5: 筆數 | C5: 0 | D5: 0 | E5: 0 | F5: 0 | G5: 0 | H5: 0 | I5: 0 | J5: 0 | K5: 0 | L5: 0 | M5: 0 | N5: 0 | O5: =SUM(C5:N5) -> 0
B6: 面積㎡ | C6: 0 | D6: 0 | E6: 0 | F6: 0 | G6: 0 | H6: 0 | I6: 0 | J6: 0 | K6: 0 | L6: 0 | M6: 0 | N6: 0 | O6: =SUM(C6:N6) -> 0
A7: 鹽水 | B7: 筆數 | C7: 0 | D7: 0 | E7: 0 | F7: 0 | G7: 0 | H7: 0 | I7: 0 | J7: 0 | K7: 0 | L7: 0 | M7: 0 | N7: 0 | O7: =SUM(C7:N7) -> 0
B8: 面積㎡ | C8: 0 | D8: 0 | E8: 0 | F8: 0 | G8: 0 | H8: 0 | I8: 0 | J8: 0 | K8: 0 | L8: 0 | M8: 0 | N8: 0 | O8: =SUM(C8:N8) -> 0
A9: 白河 | B9: 筆數 | C9: 0 | D9: 0 | E9: 0 | F9: 0 | G9: 0 | H9: 0 | I9: 0 | J9: 0 | K9: 0 | L9: 0 | M9: 0 | N9: 0 | O9: =SUM(C9:N9) -> 0
B10: 面積㎡ | C10: 0 | D10: 0 | E10: 0 | F10: 0 | G10: 0 | H10: 0 | I10: 0 | J10: 0 | K10: 0 | L10: 0 | M10: 0 | N10: 0 | O10: =SUM(C10:N10) -> 0
A11: 柳營 | B11: 筆數 | C11: 0 | D11: 0 | E11: 0 | F11: 0 | G11: 0 | H11: 0 | I11: 0 | J11: 0 | K11: 0 | L11: 0 | M11: 0 | N11: 0 | O11: =SUM(C11:N11) -> 0
B12: 面積㎡ | C12: 0 | D12: 0 | E12: 0 | F12: 0 | G12: 0 | H12: 0 | I12: 0 | J12: 0 | K12: 0 | L12: 0 | M12: 0 | N12: 0 | O12: =SUM(C12:N12) -> 0
A13: 後壁 | B13: 筆數 | C13: 0 | D13: 0 | E13: 0 | F13: 0 | G13: 0 | H13: 0 | I13: 0 | J13: 0 | K13: 0 | L13: 0 | M13: 0 | N13: 0 | O13: =SUM(C13:N13) -> 0
B14: 面積㎡ | C14: 0 | D14: 0 | E14: 0 | F14: 0 | G14: 0 | H14: 0 | I14: 0 | J14: 0 | K14: 0 | L14: 0 | M14: 0 | N14: 0 | O14: =SUM(C14:N14) -> 0
A15: 東山 | B15: 筆數 | C15: 0 | D15: 0 | E15: 0 | F15: 0 | G15: 0 | H15: 0 | I15: 0 | J15: 0 | K15: 0 | L15: 0 | M15: 0 | N15: 0 | O15: =SUM(C15:N15) -> 0
B16: 面積㎡ | C16: 0 | D16: 0 | E16: 0 | F16: 0 | G16: 0 | H16: 0 | I16: 0 | J16: 0 | K16: 0 | L16: 0 | M16: 0 | N16: 0 | O16: =SUM(C16:N16) -> 0
A17: 麻豆 | B17: 筆數 | C17: 0 | D17: 0 | E17: 0 | F17: 0 | G17: 0 | H17: 0 | I17: 0 | J17: 0 | K17: 0 | L17: 0 | M17: 0 | N17: 0 | O17: =SUM(C17:N17) -> 0
B18: 面積㎡ | C18: 0 | D18: 0 | E18: 0 | F18: 0 | G18: 0 | H18: 0 | I18: 0 | J18: 0 | K18: 0 | L18: 0 | M18: 0 | N18: 0 | O18: =SUM(C18:N18) -> 0
A19: 下營 | B19: 筆數 | C19: 0 | D19: 0 | E19: 0 | F19: 0 | G19: 0 | H19: 0 | I19: 0 | J19: 0 | K19: 0 | L19: 0 | M19: 0 | N19: 0 | O19: =SUM(C19:N19) -> 0
B20: 面積㎡ | C20: 0 | D20: 0 | E20: 0 | F20: 0 | G20: 0 | H20: 0 | I20: 0 | J20: 0 | K20: 0 | L20: 0 | M20: 0 | N20: 0 | O20: =SUM(C20:N20) -> 0
A21: 六甲 | B21: 筆數 | C21: 0 | D21: 0 | E21: 0 | F21: 0 | G21: 0 | H21: 0 | I21: 0 | J21: 0 | K21: 0 | L21: 0 | M21: 0 | N21: 0 | O21: =SUM(C21:N21) -> 0
B22: 面積㎡ | C22: 0 | D22: 0 | E22: 0 | F22: 0 | G22: 0 | H22: 0 | I22: 0 | J22: 0 | K22: 0 | L22: 0 | M22: 0 | N22: 0 | O22: =SUM(C22:N22) -> 0
A23: 官田 | B23: 筆數 | C23: 0 | D23: 0 | E23: 0 | F23: 0 | G23: 0 | H23: 0 | I23: 0 | J23: 0 | K23: 0 | L23: 0 | M23: 0 | N23: 0 | O23: =SUM(C23:N23) -> 0
B24: 面積㎡ | C24: 0 | D24: 0 | E24: 0 | F24: 0 | G24: 0 | H24: 0 | I24: 0 | J24: 0 | K24: 0 | L24: 0 | M24: 0 | N24: 0 | O24: =SUM(C24:N24) -> 0
A25: 大內 | B25: 筆數 | C25: 0 | D25: 0 | E25: 0 | F25: 0 | G25: 0 | H25: 0 | I25: 0 | J25: 0 | K25: 0 | L25: 0 | M25: 0 | N25: 0 | O25: =SUM(C25:N25) -> 0
B26: 面積㎡ | C26: 0 | D26: 0 | E26: 0 | F26: 0 | G26: 0 | H26: 0 | I26: 0 | J26: 0 | K26: 0 | L26: 0 | M26: 0 | N26: 0 | O26: =SUM(C26:N26) -> 0
A27: 佳里 | B27: 筆數 | C27: 0 | D27: 0 | E27: 0 | F27: 0 | G27: 0 | H27: 0 | I27: 0 | J27: 0 | K27: 0 | L27: 0 | M27: 0 | N27: 0 | O27: =SUM(C27:N27) -> 0
B28: 面積㎡ | C28: 0 | D28: 0 | E28: 0 | F28: 0 | G28: 0 | H28: 0 | I28: 0 | J28: 0 | K28: 0 | L28: 0 | M28: 0 | N28: 0 | O28: =SUM(C28:N28) -> 0
A29: 西港 | B29: 筆數 | C29: 0 | D29: 0 | E29: 0 | F29: 0 | G29: 0 | H29: 0 | I29: 0 | J29: 0 | K29: 0 | L29: 0 | M29: 0 | N29: 0 | O29: =SUM(C29:N29) -> 0
B30: 面積㎡ | C30: 0 | D30: 0 | E30: 0 | F30: 0 | G30: 0 | H30: 0 | I30: 0 | J30: 0 | K30: 0 | L30: 0 | M30: 0 | N30: 0 | O30: =SUM(C30:N30) -> 0
A31: 七股 | B31: 筆數 | C31: 0 | D31: 0 | E31: 0 | F31: 0 | G31: 0 | H31: 0 | I31: 0 | J31: 0 | K31: 0 | L31: 0 | M31: 0 | N31: 0 | O31: =SUM(C31:N31) -> 0
B32: 面積㎡ | C32: 0 | D32: 0 | E32: 0 | F32: 0 | G32: 0 | H32: 0 | I32: 0 | J32: 0 | K32: 0 | L32: 0 | M32: 0 | N32: 0 | O32: =SUM(C32:N32) -> 0
A33: 將軍 | B33: 筆數 | C33: 0 | D33: 0 | E33: 0 | F33: 0 | G33: 0 | H33: 0 | I33: 0 | J33: 0 | K33: 0 | L33: 0 | M33: 0 | N33: 0 | O33: =SUM(C33:N33) -> 0
B34: 面積㎡ | C34: 0 | D34: 0 | E34: 0 | F34: 0 | G34: 0 | H34: 0 | I34: 0 | J34: 0 | K34: 0 | L34: 0 | M34: 0 | N34: 0 | O34: =SUM(C34:N34) -> 0
A35: 北門 | B35: 筆數 | C35: 0 | D35: 0 | E35: 0 | F35: 0 | G35: 0 | H35: 0 | I35: 0 | J35: 0 | K35: 0 | L35: 0 | M35: 0 | N35: 0 | O35: =SUM(C35:N35) -> 0
B36: 面積㎡ | C36: 0 | D36: 0 | E36: 0 | F36: 0 | G36: 0 | H36: 0 | I36: 0 | J36: 0 | K36: 0 | L36: 0 | M36: 0 | N36: 0 | O36: =SUM(C36:N36) -> 0
A37: 學甲 | B37: 筆數 | C37: 0 | D37: 0 | E37: 0 | F37: 0 | G37: 0 | H37: 0 | I37: 0 | J37: 0 | K37: 0 | L37: 0 | M37: 0 | N37: 0 | O37: =SUM(C37:N37) -> 0
B38: 面積㎡ | C38: 0 | D38: 0 | E38: 0 | F38: 0 | G38: 0 | H38: 0 | I38: 0 | J38: 0 | K38: 0 | L38: 0 | M38: 0 | N38: 0 | O38: =SUM(C38:N38) -> 0
A39: 新化 | B39: 筆數 | C39: 0 | D39: 0 | E39: 0 | F39: 0 | G39: 0 | H39: 0 | I39: 0 | J39: 0 | K39: 0 | L39: 0 | M39: 0 | N39: 0 | O39: =SUM(C39:N39) -> 0
B40: 面積㎡ | C40: 0 | D40: 0 | E40: 0 | F40: 0 | G40: 0 | H40: 0 | I40: 0 | J40: 0 | K40: 0 | L40: 0 | M40: 0 | N40: 0 | O40: =SUM(C40:N40) -> 0
A41: 善化 | B41: 筆數 | C41: 0 | D41: 1 | E41: 1 | F41: 0 | G41: 0 | H41: 0 | I41: 0 | J41: 0 | K41: 0 | L41: 0 | M41: 0 | N41: 1 | O41: =SUM(C41:N41) -> 3
B42: 面積㎡ | C42: 0 | D42: 60.28 | E42: 51.55 | F42: 0 | G42: 0 | H42: 0 | I42: 0 | J42: 0 | K42: 0 | L42: 0 | M42: 0 | N42: 185.01 | O42: =SUM(C42:N42) -> 296.84
A43: 新市 | B43: 筆數 | C43: 0 | D43: 0 | E43: 0 | F43: 0 | G43: 0 | H43: 38 | I43: 13 | J43: 1 | K43: 1 | L43: 0 | M43: 0 | N43: 4 | O43: =SUM(C43:N43) -> 57
B44: 面積㎡ | C44: 0 | D44: 0 | E44: 0 | F44: 0 | G44: 0 | H44: 1863.84 | I44: 644.71 | J44: 46.07 | K44: 49.62 | L44: 0 | M44: 0 | N44: 223.55 | O44: =SUM(C44:N44) -> 2827.79
A45: 安定 | B45: 筆數 | C45: 0 | D45: 0 | E45: 0 | F45: 0 | G45: 0 | H45: 0 | I45: 0 | J45: 0 | K45: 0 | L45: 0 | M45: 0 | N45: 0 | O45: =SUM(C45:N45) -> 0
B46: 面積㎡ | C46: 0 | D46: 0 | E46: 0 | F46: 0 | G46: 0 | H46: 0 | I46: 0 | J46: 0 | K46: 0 | L46: 0 | M46: 0 | N46: 0 | O46: =SUM(C46:N46) -> 0
A47: 山上 | B47: 筆數 | C47: 0 | D47: 0 | E47: 0 | F47: 0 | G47: 0 | H47: 0 | I47: 0 | J47: 0 | K47: 0 | L47: 0 | M47: 0 | N47: 0 | O47: =SUM(C47:N47) -> 0
B48: 面積㎡ | C48: 0 | D48: 0 | E48: 0 | F48: 0 | G48: 0 | H48: 0 | I48: 0 | J48: 0 | K48: 0 | L48: 0 | M48: 0 | N48: 0 | O48: =SUM(C48:N48) -> 0
A49: 玉井 | B49: 筆數 | C49: 0 | D49: 0 | E49: 0 | F49: 0 | G49: 0 | H49: 0 | I49: 0 | J49: 0 | K49: 0 | L49: 0 | M49: 0 | N49: 0 | O49: =SUM(C49:N49) -> 0
B50: 面積㎡ | C50: 0 | D50: 0 | E50: 0 | F50: 0 | G50: 0 | H50: 0 | I50: 0 | J50: 0 | K50: 0 | L50: 0 | M50: 0 | N50: 0 | O50: =SUM(C50:N50) -> 0
A51: 楠西 | B51: 筆數 | C51: 0 | D51: 0 | E51: 0 | F51: 0 | G51: 0 | H51: 0 | I51: 0 | J51: 0 | K51: 0 | L51: 0 | M51: 0 | N51: 0 | O51: =SUM(C51:N51) -> 0
B52: 面積㎡ | C52: 0 | D52: 0 | E52: 0 | F52: 0 | G52: 0 | H52: 0 | I52: 0 | J52: 0 | K52: 0 | L52: 0 | M52: 0 | N52: 0 | O52: =SUM(C52:N52) -> 0
A53: 南化 | B53: 筆數 | C53: 0 | D53: 0 | E53: 0 | F53: 0 | G53: 0 | H53: 0 | I53: 0 | J53: 0 | K53: 0 | L53: 0 | M53: 0 | N53: 0 | O53: =SUM(C53:N53) -> 0
B54: 面積㎡ | C54: 0 | D54: 0 | E54: 0 | F54: 0 | G54: 0 | H54: 0 | I54: 0 | J54: 0 | K54: 0 | L54: 0 | M54: 0 | N54: 0 | O54: =SUM(C54:N54) -> 0
A55: 左鎮 | B55: 筆數 | C55: 0 | D55: 0 | E55: 0 | F55: 0 | G55: 0 | H55: 0 | I55: 0 | J55: 0 | K55: 0 | L55: 0 | M55: 0 | N55: 0 | O55: =SUM(C55:N55) -> 0
B56: 面積㎡ | C56: 0 | D56: 0 | E56: 0 | F56: 0 | G56: 0 | H56: 0 | I56: 0 | J56: 0 | K56: 0 | L56: 0 | M56: 0 | N56: 0 | O56: =SUM(C56:N56) -> 0
A57: 仁德 | B57: 筆數 | C57: 0 | D57: 0 | E57: 0 | F57: 0 | G57: 0 | H57: 0 | I57: 0 | J57: 0 | K57: 0 | L57: 0 | M57: 1 | N57: 0 | O57: =SUM(C57:N57) -> 1
B58: 面積㎡ | C58: 0 | D58: 0 | E58: 0 | F58: 0 | G58: 0 | H58: 0 | I58: 0 | J58: 0 | K58: 0 | L58: 0 | M58: 89.06 | N58: 0 | O58: =SUM(C58:N58) -> 89.06
A59: 歸仁 | B59: 筆數 | C59: 0 | D59: 0 | E59: 0 | F59: 0 | G59: 0 | H59: 0 | I59: 0 | J59: 0 | K59: 0 | L59: 0 | M59: 0 | N59: 0 | O59: =SUM(C59:N59) -> 0
B60: 面積㎡ | C60: 0 | D60: 0 | E60: 0 | F60: 0 | G60: 0 | H60: 0 | I60: 0 | J60: 0 | K60: 0 | L60: 0 | M60: 0 | N60: 0 | O60: =SUM(C60:N60) -> 0
A61: 關廟 | B61: 筆數 | C61: 0 | D61: 0 | E61: 0 | F61: 0 | G61: 0 | H61: 0 | I61: 0 | J61: 0 | K61: 0 | L61: 0 | M61: 0 | N61: 0 | O61: =SUM(C61:N61) -> 0
B62: 面積㎡ | C62: 0 | D62: 0 | E62: 0 | F62: 0 | G62: 0 | H62: 0 | I62: 0 | J62: 0 | K62: 0 | L62: 0 | M62: 0 | N62: 0 | O62: =SUM(C62:N62) -> 0
A63: 龍崎 | B63: 筆數 | C63: 0 | D63: 0 | E63: 0 | F63: 0 | G63: 0 | H63: 0 | I63: 0 | J63: 0 | K63: 0 | L63: 0 | M63: 0 | N63: 0 | O63: =SUM(C63:N63) -> 0
B64: 面積㎡ | C64: 0 | D64: 0 | E64: 0 | F64: 0 | G64: 0 | H64: 0 | I64: 0 | J64: 0 | K64: 0 | L64: 0 | M64: 0 | N64: 0 | O64: =SUM(C64:N64) -> 0
A65: 永康 | B65: 筆數 | C65: 8 | D65: 1 | E65: 0 | F65: 0 | G65: 0 | H65: 0 | I65: 0 | J65: 49 | K65: 55 | L65: 31 | M65: 11 | N65: 4 | O65: =SUM(C65:N65) -> 159
B66: 面積㎡ | C66: 1058.84 | D66: 123.5 | E66: 0 | F66: 0 | G66: 0 | H66: 0 | I66: 0 | J66: 2316.8 | K66: 2894.7 | L66: 2064.82 | M66: 1151 | N66: 442.49 | O66: =SUM(C66:N66) -> 10052.15
A67: 東區 | B67: 筆數 | C67: 0 | D67: 0 | E67: 0 | F67: 0 | G67: 0 | H67: 0 | I67: 2 | J67: 0 | K67: 9 | L67: 14 | M67: 3 | N67: 208 | O67: =SUM(C67:N67) -> 236
B68: 面積㎡ | C68: 0 | D68: 0 | E68: 0 | F68: 0 | G68: 0 | H68: 0 | I68: 256.09 | J68: 0 | K68: 996.41 | L68: 1304.19 | M68: 309.16 | N68: 49659.45 | O68: =SUM(C68:N68) -> 52525.3
A69: 南區 | B69: 筆數 | C69: 17 | D69: 3 | E69: 5 | F69: 1 | G69: 0 | H69: 0 | I69: 0 | J69: 0 | K69: 0 | L69: 0 | M69: 0 | N69: 0 | O69: =SUM(C69:N69) -> 26
B70: 面積㎡ | C70: 1558.83 | D70: 260.24 | E70: 407.37 | F70: 85.49 | G70: 0 | H70: 0 | I70: 0 | J70: 0 | K70: 0 | L70: 0 | M70: 0 | N70: 0 | O70: =SUM(C70:N70) -> 2311.93
A71: 北區 | B71: 筆數 | C71: 1 | D71: 1 | E71: 6 | F71: 17 | G71: 1 | H71: 61 | I71: 12 | J71: 6 | K71: 11 | L71: 2 | M71: 5 | N71: 595 | O71: =SUM(C71:N71) -> 718
B72: 面積㎡ | C72: 223.58 | D72: 273.57 | E72: 291.68 | F72: 1887.57 | G72: 46.88 | H72: 15742.77 | I72: 2920.29 | J72: 871.03 | K72: 2567.11 | L72: 320.45 | M72: 962.05 | N72: 36525.73 | O72: =SUM(C72:N72) -> 62632.71
A73: 安南 | B73: 筆數 | C73: 40 | D73: 6 | E73: 0 | F73: 0 | G73: 0 | H73: 0 | I73: 0 | J73: 0 | K73: 0 | L73: 0 | M73: 0 | N73: 0 | O73: =SUM(C73:N73) -> 46
B74: 面積㎡ | C74: 3061.98 | D74: 485.1 | E74: 0 | F74: 0 | G74: 0 | H74: 0 | I74: 0 | J74: 0 | K74: 0 | L74: 0 | M74: 0 | N74: 0 | O74: =SUM(C74:N74) -> 3547.08
A75: 安平 | B75: 筆數 | C75: 12 | D75: 4 | E75: 6 | F75: 19 | G75: 11 | H75: 8 | I75: 13 | J75: 6 | K75: 3 | L75: 92 | M75: 38 | N75: 88 | O75: =SUM(C75:N75) -> 300
B76: 面積㎡ | C76: 723.73 | D76: 176.3 | E76: 666.06 | F76: 1047.26 | G76: 769.2 | H76: 436.83 | I76: 1572.83 | J76: 323.9 | K76: 186.33 | L76: 16433.69 | M76: 6795.77 | N76: 16790.16 | O76: =SUM(C76:N76) -> 45922.06
A77: 中西 | B77: 筆數 | C77: 0 | D77: 0 | E77: 0 | F77: 4 | G77: 17 | H77: 1 | I77: 1 | J77: 1 | K77: 0 | L77: 2 | M77: 0 | N77: 3 | O77: =SUM(C77:N77) -> 29
B78: 面積㎡ | C78: 0 | D78: 0 | E78: 0 | F78: 883.36 | G78: 3929.88 | H78: 210.44 | I78: 231.24 | J78: 440.3 | K78: 0 | L78: 167.5 | M78: 0 | N78: 702.83 | O78: =SUM(C78:N78) -> 6565.55
A79: 合計 | B79: 筆數 | C79: =C67+C5+C69+C7+C9+C71+C11+C13+C73+C15+C75+C17+C19+C77+C21+C23+C25+C27+C29+C31+C33+C35+C37+C39+C41+C43+C45+C47+C49+C51+C53+C55+C57+C59+C61+C63+C65 -> 78 | D79: =D67+D5+D69+D7+D9+D71+D11+D13+D73+D15+D75+D17+D19+D77+D21+D23+D25+D27+D29+D31+D33+D35+D37+D39+D41+D43+D45+D47+D49+D51+D53+D55+D57+D59+D61+D63+D65 -> 16 | E79: =E67+E5+E69+E7+E9+E71+E11+E13+E73+E15+E75+E17+E19+E77+E21+E23+E25+E27+E29+E31+E33+E35+E37+E39+E41+E43+E45+E47+E49+E51+E53+E55+E57+E59+E61+E63+E65 -> 18 | F79: =F67+F5+F69+F7+F9+F71+F11+F13+F73+F15+F75+F17+F19+F77+F21+F23+F25+F27+F29+F31+F33+F35+F37+F39+F41+F43+F45+F47+F49+F51+F53+F55+F57+F59+F61+F63+F65 -> 41 | G79: =G67+G5+G69+G7+G9+G71+G11+G13+G73+G15+G75+G17+G19+G77+G21+G23+G25+G27+G29+G31+G33+G35+G37+G39+G41+G43+G45+G47+G49+G51+G53+G55+G57+G59+G61+G63+G65 -> 29 | H79: =H67+H5+H69+H7+H9+H71+H11+H13+H73+H15+H75+H17+H19+H77+H21+H23+H25+H27+H29+H31+H33+H35+H37+H39+H41+H43+H45+H47+H49+H51+H53+H55+H57+H59+H61+H63+H65 -> 108 | I79: =I67+I5+J69+I7+I9+I71+I11+I13+I73+I15+I75+I17+I19+I77+I21+I23+I25+I27+I29+I31+I33+I35+I37+I39+I41+I43+I45+I47+I49+I51+I53+I55+I57+I59+I61+I63+I65 -> 41 | J79: =J67+J5+K69+J7+J9+J71+J11+J13+J73+J15+J75+J17+J19+J77+J21+J23+J25+J27+J29+J31+J33+J35+J37+J39+J41+J43+J45+J47+J49+J51+J53+J55+J57+J59+J61+J63+J65 -> 63 | K79: =K67+K5+K69+K7+K9+K71+K11+K13+K73+K15+K75+K17+K19+K77+K21+K23+K25+K27+K29+K31+K33+K35+K37+K39+K41+K43+K45+K47+K49+K51+K53+K55+K57+K59+K61+K63+K65 -> 79 | L79: =L67+L5+L69+L7+L9+L71+L11+L13+L73+L15+L75+L17+L19+L77+L21+L23+L25+L27+L29+L31+L33+L35+L37+L39+L41+L43+L45+L47+L49+L51+L53+L55+L57+L59+L61+L63+L65 -> 141 | M79: =M67+M5+M69+M7+M9+M71+M11+M13+M73+M15+M75+M17+M19+M77+M21+M23+M25+M27+M29+M31+M33+M35+M37+M39+M41+M43+M45+M47+M49+M51+M53+M55+M57+M59+M61+M63+M65 -> 58 | N79: =N67+N5+N69+N7+N9+N71+N11+N13+N73+N15+N75+N17+N19+N77+N21+N23+N25+N27+N29+N31+N33+N35+N37+N39+N41+N43+N45+N47+N49+N51+N53+N55+N57+N59+N61+N63+N65 -> 903 | O79: =SUM(C79:N79) -> 1575
B80: 面積㎡ | C80: =C68+C6+C70+C8+C10+C72+C12+C14+C74+C16+C76+C18+C20+C78+C22+C24+C26+C28+C30+C32+C34+C36+C38+C40+C42+C44+C46+C48+C50+C52+C54+C56+C58+C60+C62+C64+C66 -> 6626.96 | D80: =D68+D6+D70+D8+D10+D72+D12+D14+D74+D16+D76+D18+D20+D78+D22+D24+D26+D28+D30+D32+D34+D36+D38+D40+D42+D44+D46+D48+D50+D52+D54+D56+D58+D60+D62+D64+D66 -> 1378.99 | E80: =E68+E6+E70+E8+E10+E72+E12+E14+E74+E16+E76+E18+E20+E78+E22+E24+E26+E28+E30+E32+E34+E36+E38+E40+E42+E44+E46+E48+E50+E52+E54+E56+E58+E60+E62+E64+E66 -> 1416.66 | F80: =F68+F6+F70+F8+F10+F72+F12+F14+F74+F16+F76+F18+F20+F78+F22+F24+F26+F28+F30+F32+F34+F36+F38+F40+F42+F44+F46+F48+F50+F52+F54+F56+F58+F60+F62+F64+F66 -> 3903.68 | G80: =G68+G6+G70+G8+G10+G72+G12+G14+G74+G16+G76+G18+G20+G78+G22+G24+G26+G28+G30+G32+G34+G36+G38+G40+G42+G44+G46+G48+G50+G52+G54+G56+G58+G60+G62+G64+G66 -> 4745.96 | H80: =H68+H6+H70+H8+H10+H72+H12+H14+H74+H16+H76+H18+H20+H78+H22+H24+H26+H28+H30+H32+H34+H36+H38+H40+H42+H44+H46+H48+H50+H52+H54+H56+H58+H60+H62+H64+H66 -> 18253.88 | I80: =I68+I6+J70+I8+I10+I72+I12+I14+I74+I16+I76+I18+I20+I78+I22+I24+I26+I28+I30+I32+I34+I36+I38+I40+I42+I44+I46+I48+I50+I52+I54+I56+I58+I60+I62+I64+I66 -> 5625.16 | J80: =J68+J6+K70+J8+J10+J72+J12+J14+J74+J16+J76+J18+J20+J78+J22+J24+J26+J28+J30+J32+J34+J36+J38+J40+J42+J44+J46+J48+J50+J52+J54+J56+J58+J60+J62+J64+J66 -> 3998.1 | K80: =K68+K6+K70+K8+K10+K72+K12+K14+K74+K16+K76+K18+K20+K78+K22+K24+K26+K28+K30+K32+K34+K36+K38+K40+K42+K44+K46+K48+K50+K52+K54+K56+K58+K60+K62+K64+K66 -> 6694.17 | L80: =L68+L6+L70+L8+L10+L72+L12+L14+L74+L16+L76+L18+L20+L78+L22+L24+L26+L28+L30+L32+L34+L36+L38+L40+L42+L44+L46+L48+L50+L52+L54+L56+L58+L60+L62+L64+L66 -> 20290.65 | M80: =M68+M6+M70+M8+M10+M72+M12+M14+M74+M16+M76+M18+M20+M78+M22+M24+M26+M28+M30+M32+M34+M36+M38+M40+M42+M44+M46+M48+M50+M52+M54+M56+M58+M60+M62+M64+M66 -> 9307.04 | N80: =N68+N6+N70+N8+N10+N72+N12+N14+N74+N16+N76+N18+N20+N78+N22+N24+N26+N28+N30+N32+N34+N36+N38+N40+N42+N44+N46+N48+N50+N52+N54+N56+N58+N60+N62+N64+N66 -> 104529.22 | O80: =SUM(C80:N80) -> 186770.47
A82: 備註 | B82: 1.資料來源：臺南市政府地政局 http://land.tainan.gov.tw
B83: 2.本表係統計所有權人為本國私法人，建物主要用途為住家用、商業用、住商用、見使用執照或見其他事項，建築完成日期自92年1月1日起
B84: 迄今，完成建物第一次登記後以買賣為登記原因移轉之建物筆數與面積(單位為平方公尺)。

Sheet 104大台南登記-6層以下
A1: 臺南市大台南不動產開發商業同業公會
A2: 彙整大台南市104年度【建物第一次登記】統計表
A3: 完成保存登記後第一次登記之筆數。面積(六層以下，含六層)
A4: 月份 分區 | C4: 1月 | D4: 2月 | E4: 3月 | F4: 4月 | G4: 5月 | H4: 6月 | I4: 7月 | J4: 8月 | K4: 9月 | L4: 10月 | M4: 11月 | N4: 12月 | O4: 小計
A5: 新營 | B5: 筆數 | C5: 0 | D5: 13 | E5: 38 | F5: 10 | G5: 18 | H5: 21 | I5: 43 | J5: 28 | K5: 28 | L5: 17 | M5: 3 | N5: 34 | O5: =SUM(C5:N5) -> 253
B6: 面積㎡ | C6: 0 | D6: 10219.64 | E6: 18579.19 | F6: 2257.56 | G6: 3704.55 | H6: 4231.94 | I6: 10194.35 | J6: 5184.93 | K6: 4461.42 | L6: 39119.61 | M6: 834.33 | N6: 7360.39 | O6: =SUM(C6:N6) -> 106147.91
A7: 鹽水 | B7: 筆數 | C7: 0 | D7: 0 | E7: 0 | F7: 0 | G7: 0 | H7: 0 | I7: 0 | J7: 10 | K7: 6 | L7: 0 | M7: 1 | N7: 0 | O7: =SUM(C7:N7) -> 17
B8: 面積㎡ | C8: 0 | D8: 0 | E8: 0 | F8: 0 | G8: 0 | H8: 0 | I8: 0 | J8: 2076.5 | K8: 6918.67 | L8: 0 | M8: 358.72 | N8: 0 | O8: =SUM(C8:N8) -> 9353.89
A9: 白河 | B9: 筆數 | C9: 0 | D9: 0 | E9: 4 | F9: 1 | G9: 1 | H9: 0 | I9: 0 | J9: 1 | K9: 0 | L9: 0 | M9: 0 | N9: 0 | O9: =SUM(C9:N9) -> 7
B10: 面積㎡ | C10: 0 | D10: 0 | E10: 803.89 | F10: 424.39 | G10: 923.82 | H10: 0 | I10: 0 | J10: 167.13 | K10: 0 | L10: 0 | M10: 0 | N10: 0 | O10: =SUM(C10:N10) -> 2319.23
A11: 柳營 | B11: 筆數 | C11: 2 | D11: 0 | E11: 0 | F11: 0 | G11: 8 | H11: 0 | I11: 0 | J11: 0 | K11: 8 | L11: 1 | M11: 28 | N11: 3 | O11: =SUM(C11:N11) -> 50
B12: 面積㎡ | C12: 6511.61 | D12: 0 | E12: 0 | F12: 0 | G12: 1703.38 | H12: 0 | I12: 0 | J12: 0 | K12: 1571.45 | L12: 449.85 | M12: 5042.28 | N12: 7100.87 | O12: =SUM(C12:N12) -> 22379.44
A13: 後壁 | B13: 筆數 | C13: 0 | D13: 0 | E13: 0 | F13: 0 | G13: 0 | H13: 0 | I13: 0 | J13: 0 | K13: 0 | L13: 0 | M13: 0 | N13: 1 | O13: =SUM(C13:N13) -> 1
B14: 面積㎡ | C14: 0 | D14: 0 | E14: 0 | F14: 0 | G14: 0 | H14: 0 | I14: 0 | J14: 0 | K14: 0 | L14: 0 | M14: 0 | N14: 10501.34 | O14: =SUM(C14:N14) -> 10501.34
A15: 東山 | B15: 筆數 | C15: 0 | D15: 0 | E15: 0 | F15: 0 | G15: 0 | H15: 16 | I15: 0 | J15: 15 | K15: 0 | L15: 0 | M15: 0 | N15: 0 | O15: =SUM(C15:N15) -> 31
B16: 面積㎡ | C16: 0 | D16: 0 | E16: 0 | F16: 0 | G16: 0 | H16: 2399.78 | I16: 0 | J16: 2068.31 | K16: 0 | L16: 0 | M16: 0 | N16: 0 | O16: =SUM(C16:N16) -> 4468.09
A17: 麻豆 | B17: 筆數 | C17: 18 | D17: 29 | E17: 1 | F17: 4 | G17: 38 | H17: 20 | I17: 1 | J17: 10 | K17: 0 | L17: 6 | M17: 12 | N17: 37 | O17: =SUM(C17:N17) -> 176
B18: 面積㎡ | C18: 4792.52 | D18: 5641.37 | E18: 415.81 | F18: 992.36 | G18: 6689.88 | H18: 3838.88 | I18: 2802.28 | J18: 3572.39 | K18: 0 | L18: 1148.55 | M18: 1906.69 | N18: 7492.48 | O18: =SUM(C18:N18) -> 39293.21
A19: 下營 | B19: 筆數 | C19: 0 | D19: 0 | E19: 1 | F19: 0 | G19: 0 | H19: 7 | I19: 0 | J19: 0 | K19: 13 | L19: 0 | M19: 0 | N19: 0 | O19: =SUM(C19:N19) -> 21
B20: 面積㎡ | C20: 0 | D20: 0 | E20: 1274.57 | F20: 0 | G20: 0 | H20: 1292.03 | I20: 0 | J20: 0 | K20: 2696.29 | L20: 0 | M20: 0 | N20: 0 | O20: =SUM(C20:N20) -> 5262.89
A21: 六甲 | B21: 筆數 | C21: 1 | D21: 48 | E21: 48 | F21: 0 | G21: 0 | H21: 8 | I21: 12 | J21: 1 | K21: 0 | L21: 2 | M21: 23 | N21: 0 | O21: =SUM(C21:N21) -> 143
B22: 面積㎡ | C22: 181.14 | D22: 7593.92 | E22: 89111.39 | F22: 0 | G22: 0 | H22: 1690.58 | I22: 2441.66 | J22: 199.59 | K22: 0 | L22: 457.06 | M22: 4692.67 | N22: 0 | O22: =SUM(C22:N22) -> 106368.01
A23: 官田 | B23: 筆數 | C23: 15 | D23: 0 | E23: 0 | F23: 3 | G23: 16 | H23: 12 | I23: 9 | J23: 0 | K23: 0 | L23: 0 | M23: 1 | N23: 21 | O23: =SUM(C23:N23) -> 77
B24: 面積㎡ | C24: 5770.56 | D24: 0 | E24: 0 | F24: 41957.29 | G24: 3130.97 | H24: 4278.94 | I24: 1414.25 | J24: 0 | K24: 0 | L24: 0 | M24: 1441.6 | N24: 3398.15 | O24: =SUM(C24:N24) -> 61391.76
A25: 大內 | B25: 筆數 | C25: 0 | D25: 0 | E25: 0 | F25: 0 | G25: 0 | H25: 0 | I25: 0 | J25: 0 | K25: 0 | L25: 0 | M25: 0 | N25: 0 | O25: =SUM(C25:N25) -> 0
B26: 面積㎡ | C26: 0 | D26: 0 | E26: 0 | F26: 0 | G26: 0 | H26: 0 | I26: 0 | J26: 0 | K26: 0 | L26: 0 | M26: 0 | N26: 0 | O26: =SUM(C26:N26) -> 0
A27: 佳里 | B27: 筆數 | C27: 11 | D27: 19 | E27: 14 | F27: 8 | G27: 55 | H27: 4 | I27: 47 | J27: 0 | K27: 25 | L27: 16 | M27: 29 | N27: 17 | O27: =SUM(C27:N27) -> 245
B28: 面積㎡ | C28: 2485.34 | D28: 5892.67 | E28: 2630.52 | F28: 2383.09 | G28: 9778.16 | H28: 842.72 | I28: 9286.17 | J28: 0 | K28: 13283.41 | L28: 3154.33 | M28: 5358.3 | N28: 3240.84 | O28: =SUM(C28:N28) -> 58335.55
A29: 西港 | B29: 筆數 | C29: 16 | D29: 1 | E29: 16 | F29: 6 | G29: 0 | H29: 4 | I29: 6 | J29: 0 | K29: 0 | L29: 0 | M29: 0 | N29: 0 | O29: =SUM(C29:N29) -> 49
B30: 面積㎡ | C30: 2982.43 | D30: 1491.89 | E30: 2343.88 | F30: 1152.39 | G30: 0 | H30: 718 | I30: 956.83 | J30: 0 | K30: 0 | L30: 0 | M30: 0 | N30: 0 | O30: =SUM(C30:N30) -> 9645.42
A31: 七股 | B31: 筆數 | C31: 0 | D31: 0 | E31: 0 | F31: 0 | G31: 0 | H31: 0 | I31: 0 | J31: 0 | K31: 0 | L31: 2 | M31: 0 | N31: 0 | O31: =SUM(C31:N31) -> 2
B32: 面積㎡ | C32: 0 | D32: 0 | E32: 0 | F32: 0 | G32: 0 | H32: 0 | I32: 0 | J32: 0 | K32: 0 | L32: 396.21 | M32: 0 | N32: 0 | O32: =SUM(C32:N32) -> 396.21
A33: 將軍 | B33: 筆數 | C33: 0 | D33: 11 | E33: 0 | F33: 0 | G33: 0 | H33: 0 | I33: 0 | J33: 0 | K33: 0 | L33: 0 | M33: 0 | N33: 25 | O33: =SUM(C33:N33) -> 36
B34: 面積㎡ | C34: 0 | D34: 1883.41 | E34: 0 | F34: 0 | G34: 0 | H34: 0 | I34: 0 | J34: 0 | K34: 0 | L34: 0 | M34: 0 | N34: 3564.04 | O34: =SUM(C34:N34) -> 5447.45
A35: 北門 | B35: 筆數 | C35: 0 | D35: 0 | E35: 0 | F35: 0 | G35: 0 | H35: 0 | I35: 0 | J35: 0 | K35: 0 | L35: 0 | M35: 0 | N35: 0 | O35: =SUM(C35:N35) -> 0
B36: 面積㎡ | C36: 0 | D36: 0 | E36: 0 | F36: 0 | G36: 0 | H36: 0 | I36: 0 | J36: 0 | K36: 0 | L36: 0 | M36: 0 | N36: 0 | O36: =SUM(C36:N36) -> 0
A37: 學甲 | B37: 筆數 | C37: 31 | D37: 1 | E37: 30 | F37: 1 | G37: 1 | H37: 7 | I37: 4 | J37: 1 | K37: 0 | L37: 9 | M37: 1 | N37: 59 | O37: =SUM(C37:N37) -> 145
B38: 面積㎡ | C38: 4658.93 | D38: 6.99 | E38: 11162.7 | F38: 204.82 | G38: 989.02 | H38: 2323.14 | I38: 654.4 | J38: 618 | K38: 0 | L38: 1595.03 | M38: 852.19 | N38: 10616.61 | O38: =SUM(C38:N38) -> 33681.83
A39: 新化 | B39: 筆數 | C39: 0 | D39: 26 | E39: 0 | F39: 3 | G39: 13 | H39: 43 | I39: 3 | J39: 1 | K39: 0 | L39: 5 | M39: 0 | N39: 0 | O39: =SUM(C39:N39) -> 94
B40: 面積㎡ | C40: 0 | D40: 5396.18 | E40: 0 | F40: 4023 | G40: 2415.21 | H40: 7444.49 | I40: 2617.83 | J40: 3809.94 | K40: 0 | L40: 1040.32 | M40: 0 | N40: 0 | O40: =SUM(C40:N40) -> 26746.97
A41: 善化 | B41: 筆數 | C41: 94 | D41: 82 | E41: 10 | F41: 9 | G41: 7 | H41: 136 | I41: 81 | J41: 6 | K41: 15 | L41: 16 | M41: 117 | N41: 47 | O41: =SUM(C41:N41) -> 620
B42: 面積㎡ | C42: 19237.33 | D42: 46033.69 | E42: 2651.48 | F42: 1804.69 | G42: 1523.88 | H42: 36194.88 | I42: 15741.27 | J42: 3346.7 | K42: 3553.42 | L42: 3607.24 | M42: 27558.58 | N42: 11680.9 | O42: =SUM(C42:N42) -> 172934.06
A43: 新市 | B43: 筆數 | C43: 0 | D43: 18 | E43: 41 | F43: 43 | G43: 70 | H43: 21 | I43: 57 | J43: 3 | K43: 116 | L43: 1 | M43: 53 | N43: 31 | O43: =SUM(C43:N43) -> 454
B44: 面積㎡ | C44: 0 | D44: 3539.38 | E44: 50913.23 | F44: 17200.33 | G44: 12718.75 | H44: 3879.5 | I44: 12202.2 | J44: 11674.45 | K44: 25386.76 | L44: 725.36 | M44: 6301.97 | N44: 5503.98 | O44: =SUM(C44:N44) -> 150045.91
A45: 安定 | B45: 筆數 | C45: 27 | D45: 9 | E45: 9 | F45: 15 | G45: 14 | H45: 0 | I45: 0 | J45: 10 | K45: 16 | L45: 20 | M45: 6 | N45: 36 | O45: =SUM(C45:N45) -> 162
B46: 面積㎡ | C46: 6900.38 | D46: 3942.88 | E46: 1158.87 | F46: 4629.39 | G46: 2167.15 | H46: 0 | I46: 0 | J46: 3456.72 | K46: 2178.33 | L46: 3323.16 | M46: 784.56 | N46: 6524.78 | O46: =SUM(C46:N46) -> 35066.22
A47: 山上 | B47: 筆數 | C47: 0 | D47: 0 | E47: 1 | F47: 3 | G47: 0 | H47: 0 | I47: 0 | J47: 29 | K47: 9 | L47: 2 | M47: 1 | N47: 0 | O47: =SUM(C47:N47) -> 45
B48: 面積㎡ | C48: 0 | D48: 0 | E48: 4456.02 | F48: 14202.23 | G48: 0 | H48: 0 | I48: 0 | J48: 4826.66 | K48: 1394.35 | L48: 359.4 | M48: 2697.28 | N48: 0 | O48: =SUM(C48:N48) -> 27935.94
A49: 玉井 | B49: 筆數 | C49: 0 | D49: 0 | E49: 0 | F49: 0 | G49: 0 | H49: 0 | I49: 6 | J49: 0 | K49: 0 | L49: 0 | M49: 38 | N49: 0 | O49: =SUM(C49:N49) -> 44
B50: 面積㎡ | C50: 0 | D50: 0 | E50: 0 | F50: 0 | G50: 0 | H50: 0 | I50: 1297.34 | J50: 0 | K50: 0 | L50: 0 | M50: 6255.36 | N50: 0 | O50: =SUM(C50:N50) -> 7552.7
A51: 楠西 | B51: 筆數 | C51: 0 | D51: 0 | E51: 0 | F51: 2 | G51: 0 | H51: 0 | I51: 0 | J51: 0 | K51: 0 | L51: 0 | M51: 0 | N51: 0 | O51: =SUM(C51:N51) -> 2
B52: 面積㎡ | C52: 0 | D52: 0 | E52: 0 | F52: 749.54 | G52: 0 | H52: 0 | I52: 0 | J52: 0 | K52: 0 | L52: 0 | M52: 0 | N52: 0 | O52: =SUM(C52:N52) -> 749.54
A53: 南化 | B53: 筆數 | C53: 0 | D53: 0 | E53: 0 | F53: 0 | G53: 0 | H53: 0 | I53: 0 | J53: 0 | K53: 0 | L53: 0 | M53: 0 | N53: 0 | O53: =SUM(C53:N53) -> 0
B54: 面積㎡ | C54: 0 | D54: 0 | E54: 0 | F54: 0 | G54: 0 | H54: 0 | I54: 0 | J54: 0 | K54: 0 | L54: 0 | M54: 0 | N54: 0 | O54: =SUM(C54:N54) -> 0
A55: 左鎮 | B55: 筆數 | C55: 0 | D55: 0 | E55: 0 | F55: 0 | G55: 0 | H55: 0 | I55: 0 | J55: 0 | K55: 0 | L55: 0 | M55: 0 | N55: 0 | O55: =SUM(C55:N55) -> 0
B56: 面積㎡ | C56: 0 | D56: 0 | E56: 0 | F56: 0 | G56: 0 | H56: 0 | I56: 0 | J56: 0 | K56: 0 | L56: 0 | M56: 0 | N56: 0 | O56: =SUM(C56:N56) -> 0
A57: 仁德 | B57: 筆數 | C57: 46 | D57: 6 | E57: 9 | F57: 2 | G57: 13 | H57: 2 | I57: 66 | J57: 79 | K57: 21 | L57: 31 | M57: 16 | N57: 50 | O57: =SUM(C57:N57) -> 341
B58: 面積㎡ | C58: 15934.8 | D58: 19343.03 | E58: 2745.86 | F58: 4755.63 | G58: 7037.37 | H58: 4310.39 | I58: 13592.49 | J58: 15030.42 | K58: 11682.74 | L58: 6551.4 | M58: 2833.24 | N58: 13192.69 | O58: =SUM(C58:N58) -> 117010.06
A59: 歸仁 | B59: 筆數 | C59: 4 | D59: 3 | E59: 0 | F59: 20 | G59: 44 | H59: 42 | I59: 33 | J59: 6 | K59: 29 | L59: 3 | M59: 2 | N59: 116 | O59: =SUM(C59:N59) -> 302
B60: 面積㎡ | C60: 1032.48 | D60: 615.15 | E60: 0 | F60: 21652.01 | G60: 15043.3 | H60: 4124.4 | I60: 6637 | J60: 1328.75 | K60: 5252.12 | L60: 695.62 | M60: 687.79 | N60: 39759.35 | O60: =SUM(C60:N60) -> 96827.97
A61: 關廟 | B61: 筆數 | C61: 10 | D61: 12 | E61: 15 | F61: 25 | G61: 26 | H61: 20 | I61: 1 | J61: 9 | K61: 20 | L61: 11 | M61: 45 | N61: 39 | O61: =SUM(C61:N61) -> 233
B62: 面積㎡ | C62: 1960.3 | D62: 2019.01 | E62: 3559.57 | F62: 4279.35 | G62: 7455.46 | H62: 3601.19 | I62: 206.5 | J62: 1636.72 | K62: 3653.8 | L62: 2388.12 | M62: 14634.02 | N62: 5651.1 | O62: =SUM(C62:N62) -> 51045.14
A63: 龍崎 | B63: 筆數 | C63: 0 | D63: 0 | E63: 2 | F63: 0 | G63: 0 | H63: 0 | I63: 0 | J63: 0 | K63: 0 | L63: 0 | M63: 0 | N63: 0 | O63: =SUM(C63:N63) -> 2
B64: 面積㎡ | C64: 0 | D64: 0 | E64: 1160.12 | F64: 0 | G64: 0 | H64: 0 | I64: 0 | J64: 0 | K64: 0 | L64: 0 | M64: 0 | N64: 0 | O64: =SUM(C64:N64) -> 1160.12
A65: 永康 | B65: 筆數 | C65: 110 | D65: 47 | E65: 10 | F65: 49 | G65: 54 | H65: 129 | I65: 39 | J65: 40 | K65: 43 | L65: 15 | M65: 75 | N65: 72 | O65: =SUM(C65:N65) -> 683
B66: 面積㎡ | C66: 23626.85 | D66: 25619.83 | E66: 2781.66 | F66: 37389.51 | G66: 26591.75 | H66: 27478.33 | I66: 22112.23 | J66: 24165.88 | K66: 14313.76 | L66: 6960.6 | M66: 18148.93 | N66: 18544.61 | O66: =SUM(C66:N66) -> 247733.94
A67: 東區 | B67: 筆數 | C67: 2 | D67: 19 | E67: 2 | F67: 66 | G67: 15 | H67: 17 | I67: 10 | J67: 3 | K67: 1 | L67: 12 | M67: 20 | N67: 9 | O67: =SUM(C67:N67) -> 176
B68: 面積㎡ | C68: 511.25 | D68: 5011.44 | E68: 596.49 | F68: 12482.83 | G68: 4566.33 | H68: 4269.14 | I68: 2603.74 | J68: 1235.85 | K68: 47.59 | L68: 4193.73 | M68: 1230.96 | N68: 1917.47 | O68: =SUM(C68:N68) -> 38666.82
A69: 南區 | B69: 筆數 | C69: 4 | D69: 35 | E69: 18 | F69: 23 | G69: 0 | H69: 28 | I69: 29 | J69: 58 | K69: 25 | L69: 23 | M69: 2 | N69: 36 | O69: =SUM(C69:N69) -> 281
B70: 面積㎡ | C70: 952.5 | D70: 7381.03 | E70: 3024.28 | F70: 4074.4 | G70: 0 | H70: 6806.85 | I70: 4974.26 | J70: 10890.22 | K70: 4130.46 | L70: 4324.45 | M70: 6443.45 | N70: 6338.36 | O70: =SUM(C70:N70) -> 59340.26
A71: 北區 | B71: 筆數 | C71: 1 | D71: 31 | E71: 6 | F71: 1 | G71: 1 | H71: 9 | I71: 11 | J71: 4 | K71: 1 | L71: 24 | M71: 6 | N71: 36 | O71: =SUM(C71:N71) -> 131
B72: 面積㎡ | C72: 193.94 | D72: 9840.76 | E72: 2034.65 | F72: 278.79 | G72: 330.44 | H72: 2414.83 | I72: 2392.77 | J72: 2078.52 | K72: 12214.51 | L72: 2203.48 | M72: 1572.9 | N72: 13370.97 | O72: =SUM(C72:N72) -> 48926.56
A73: 安南 | B73: 筆數 | C73: 163 | D73: 79 | E73: 127 | F73: 85 | G73: 52 | H73: 43 | I73: 32 | J73: 133 | K73: 73 | L73: 31 | M73: 56 | N73: 288 | O73: =SUM(C73:N73) -> 1162
B74: 面積㎡ | C74: 31895.7 | D74: 32391.57 | E74: 20506.97 | F74: 17315.62 | G74: 15670.05 | H74: 9753.73 | I74: 5837.32 | J74: 21350.13 | K74: 14112.23 | L74: 7300.89 | M74: 13833.96 | N74: 76014.55 | O74: =SUM(C74:N74) -> 265982.72
A75: 安平 | B75: 筆數 | C75: 14 | D75: 4 | E75: 2 | F75: 5 | G75: 1 | H75: 10 | I75: 10 | J75: 12 | K75: 13 | L75: 2 | M75: 0 | N75: 5 | O75: =SUM(C75:N75) -> 78
B76: 面積㎡ | C76: 4681.35 | D76: 1590.17 | E76: 585.85 | F76: 1698.81 | G76: 217.17 | H76: 9914.04 | I76: 3096.94 | J76: 3526.95 | K76: 6312.41 | L76: 3270.41 | M76: 0 | N76: 1927.64 | O76: =SUM(C76:N76) -> 36821.74
A77: 中西 | B77: 筆數 | C77: 0 | D77: 0 | E77: 1 | F77: 1 | G77: 9 | H77: 5 | I77: 5 | J77: 0 | K77: 8 | L77: 17 | M77: 1 | N77: 0 | O77: =SUM(C77:N77) -> 47
B78: 面積㎡ | C78: 0 | D78: 0 | E78: 683.52 | F78: 545.57 | G78: 2403.5 | H78: 2133.91 | I78: 4548.43 | J78: 0 | K78: 2756.3 | L78: 6283.54 | M78: 272.81 | N78: 0 | O78: =SUM(C78:N78) -> 19627.58
A79: 合計 | B79: 筆數 | C79: =C5+C7+C9+C11+C13+C15+C17+C19+C21+C23+C25+C27+C29+C31+C33+C35+C37+C39+C41+C43+C45+C47+C49+C51+C53+C55+C57+C59+C61+C63+C65+C67+C69+C71+C73+C75+C77 -> 569 | D79: =D5+D7+D9+D11+D13+D15+D17+D19+D21+D23+D25+D27+D29+D31+D33+D35+D37+D39+D41+D43+D45+D47+D49+D51+D53+D55+D57+D59+D61+D63+D65+D67+D69+D71+D73+D75+D77 -> 493 | E79: =E5+E7+E9+E11+E13+E15+E17+E19+E21+E23+E25+E27+E29+E31+E33+E35+E37+E39+E41+E43+E45+E47+E49+E51+E53+E55+E57+E59+E61+E63+E65+E67+E69+E71+E73+E75+E77 -> 405 | F79: =F5+F7+F9+F11+F13+F15+F17+F19+F21+F23+F25+F27+F29+F31+F33+F35+F37+F39+F41+F43+F45+F47+F49+F51+F53+F55+F57+F59+F61+F63+F65+F67+F69+F71+F73+F75+F77 -> 385 | G79: =G5+G7+G9+G11+G13+G15+G17+G19+G21+G23+G25+G27+G29+G31+G33+G35+G37+G39+G41+G43+G45+G47+G49+G51+G53+G55+G57+G59+G61+G63+G65+G67+G69+G71+G73+G75+G77 -> 456 | H79: =H5+H7+H9+H11+H13+H15+H17+H19+H21+H23+H25+H27+H29+H31+H33+H35+H37+H39+H41+H43+H45+H47+H49+H51+H53+H55+H57+H59+H61+H63+H65+H67+H69+H71+H73+H75+H77 -> 604 | I79: =I5+I7+I9+I11+I13+I15+I17+I19+I21+I23+I25+I27+I29+I31+I33+I35+I37+I39+I41+I43+I45+I47+I49+I51+I53+I55+I57+I59+I61+I63+I65+I67+I69+I71+I73+I75+I77 -> 505 | J79: =J5+J7+J9+J11+J13+J15+J17+J19+J21+J23+J25+J27+J29+J31+J33+J35+J37+J39+J41+J43+J45+J47+J49+J51+J53+J55+J57+J59+J61+J63+J65+J67+J69+J71+J73+J75+J77 -> 459 | ... N79: =N5+N7+N9+N11+N13+N15+N17+N19+N21+N23+N25+N27+N29+N31+N33+N35+N37+N39+N41+N43+N45+N47+N49+N51+N53+N55+N57+N59+N61+N63+N65+N67+N69+N71+N73+N75+N77 -> 962 | O79: =O67+O5+O69+O7+O9+O71+O11+O13+O73+O15+O75+O17+O19+O77+O21+O23+O25+O27+O29+O31+O33+O35+O37+O39+O41+O43+O45+O47+O49+O51+O53+O55+O57+O59+O61+O63+O65 -> 6110
B80: 面積㎡ | C80: =C6+C8+C10+C12+C14+C16+C18+C20+C22+C24+C26+C28+C30+C32+C34+C36+C38+C40+C42+C44+C46+C48+C50+C52+C54+C56+C58+C60+C62+C64+C66+C68+C70+C72+C74+C76+C78 -> 134309.41 | D80: =D6+D8+D10+D12+D14+D16+D18+D20+D22+D24+D26+D28+D30+D32+D34+D36+D38+D40+D42+D44+D46+D48+D50+D52+D54+D56+D58+D60+D62+D64+D66+D68+D70+D72+D74+D76+D78 -> 195454.01 | E80: =E6+E8+E10+E12+E14+E16+E18+E20+E22+E24+E26+E28+E30+E32+E34+E36+E38+E40+E42+E44+E46+E48+E50+E52+E54+E56+E58+E60+E62+E64+E66+E68+E70+E72+E74+E76+E78 -> 223180.52 | F80: =F6+F8+F10+F12+F14+F16+F18+F20+F22+F24+F26+F28+F30+F32+F34+F36+F38+F40+F42+F44+F46+F48+F50+F52+F54+F56+F58+F60+F62+F64+F66+F68+F70+F72+F74+F76+F78 -> 196453.6 | G80: =G6+G8+G10+G12+G14+G16+G18+G20+G22+G24+G26+G28+G30+G32+G34+G36+G38+G40+G42+G44+G46+G48+G50+G52+G54+G56+G58+G60+G62+G64+G66+G68+G70+G72+G74+G76+G78 -> 125060.14 | H80: =H6+H8+H10+H12+H14+H16+H18+H20+H22+H24+H26+H28+H30+H32+H34+H36+H38+H40+H42+H44+H46+H48+H50+H52+H54+H56+H58+H60+H62+H64+H66+H68+H70+H72+H74+H76+H78 -> 143941.69 | I80: =I6+I8+I10+I12+I14+I16+I18+I20+I22+I24+I26+I28+I30+I32+I34+I36+I38+I40+I42+I44+I46+I48+I50+I52+I54+I56+I58+I60+I62+I64+I66+I68+I70+I72+I74+I76+I78 -> 125610.26 | J80: =J6+J8+J10+J12+J14+J16+J18+J20+J22+J24+J26+J28+J30+J32+J34+J36+J38+J40+J42+J44+J46+J48+J50+J52+J54+J56+J58+J60+J62+J64+J66+J68+J70+J72+J74+J76+J78 -> 122244.76 | ... N80: =N6+N8+N10+N12+N14+N16+N18+N20+N22+N24+N26+N28+N30+N32+N34+N36+N38+N40+N42+N44+N46+N48+N50+N52+N54+N56+N58+N60+N62+N64+N66+N68+N70+N72+N74+N76+N78 -> 253701.12 | O80: =O68+O6+O70+O8+O10+O72+O12+O14+O74+O16+O76+O18+O20+O78+O22+O24+O26+O28+O30+O32+O34+O36+O38+O40+O42+O44+O46+O48+O50+O52+O54+O56+O58+O60+O62+O64+O66 -> 1879166.5
A82: 備註 | B82: 1.資料來源：臺南市政府地政局 http://land.tainan.gov.tw
B83: 2.本表係統計所有權人為本國私法人，建物主要用途為住家用、商業用、住商用、見使用執照或見其他事項，建築完成日期自92年1月1日起
B84: 迄今，完成建物第一次登記後以買賣為登記原因移轉之建物筆數與面積(單位為平方公尺)。

Sheet 104大台南登記-7層以上
A1: 臺南市大台南不動產開發商業同業公會
A2: 彙整大台南市104年度【建物第一次登記】統計表
A3: 完成保存登記後第一次登記之筆數。面積(七層以上)
A4: 月份 分區 | C4: 1月 | D4: 2月 | E4: 3月 | F4: 4月 | G4: 5月 | H4: 6月 | I4: 7月 | J4: 8月 | K4: 9月 | L4: 10月 | M4: 11月 | N4: 12月 | O4: 小計
A5: 新營 | B5: 筆數 | C5: 0 | D5: 0 | E5: 0 | F5: 0 | G5: 0 | H5: 0 | I5: 0 | J5: 0 | K5: 0 | L5: 0 | M5: 0 | N5: 0 | O5: =SUM(C5:N5) -> 0
B6: 面積㎡ | C6: 0 | D6: 0 | E6: 0 | F6: 0 | G6: 0 | H6: 0 | I6: 0 | J6: 0 | K6: 0 | L6: 0 | M6: 0 | N6: 0 | O6: =SUM(C6:N6) -> 0
A7: 鹽水 | B7: 筆數 | C7: 0 | D7: 0 | E7: 0 | F7: 0 | G7: 0 | H7: 0 | I7: 0 | J7: 0 | K7: 0 | L7: 0 | M7: 0 | N7: 0 | O7: =SUM(C7:N7) -> 0
B8: 面積㎡ | C8: 0 | D8: 0 | E8: 0 | F8: 0 | G8: 0 | H8: 0 | I8: 0 | J8: 0 | K8: 0 | L8: 0 | M8: 0 | N8: 0 | O8: =SUM(C8:N8) -> 0
A9: 白河 | B9: 筆數 | C9: 0 | D9: 0 | E9: 0 | F9: 0 | G9: 0 | H9: 0 | I9: 0 | J9: 0 | K9: 0 | L9: 0 | M9: 0 | N9: 0 | O9: =SUM(C9:N9) -> 0
B10: 面積㎡ | C10: 0 | D10: 0 | E10: 0 | F10: 0 | G10: 0 | H10: 0 | I10: 0 | J10: 0 | K10: 0 | L10: 0 | M10: 0 | N10: 0 | O10: =SUM(C10:N10) -> 0
A11: 柳營 | B11: 筆數 | C11: 0 | D11: 0 | E11: 0 | F11: 0 | G11: 0 | H11: 0 | I11: 0 | J11: 0 | K11: 0 | L11: 0 | M11: 0 | N11: 0 | O11: =SUM(C11:N11) -> 0
B12: 面積㎡ | C12: 0 | D12: 0 | E12: 0 | F12: 0 | G12: 0 | H12: 0 | I12: 0 | J12: 0 | K12: 0 | L12: 0 | M12: 0 | N12: 0 | O12: =SUM(C12:N12) -> 0
A13: 後壁 | B13: 筆數 | C13: 0 | D13: 0 | E13: 0 | F13: 0 | G13: 0 | H13: 0 | I13: 0 | J13: 0 | K13: 0 | L13: 0 | M13: 0 | N13: 0 | O13: =SUM(C13:N13) -> 0
B14: 面積㎡ | C14: 0 | D14: 0 | E14: 0 | F14: 0 | G14: 0 | H14: 0 | I14: 0 | J14: 0 | K14: 0 | L14: 0 | M14: 0 | N14: 0 | O14: =SUM(C14:N14) -> 0
A15: 東山 | B15: 筆數 | C15: 0 | D15: 0 | E15: 0 | F15: 0 | G15: 0 | H15: 0 | I15: 0 | J15: 0 | K15: 0 | L15: 0 | M15: 0 | N15: 0 | O15: =SUM(C15:N15) -> 0
B16: 面積㎡ | C16: 0 | D16: 0 | E16: 0 | F16: 0 | G16: 0 | H16: 0 | I16: 0 | J16: 0 | K16: 0 | L16: 0 | M16: 0 | N16: 0 | O16: =SUM(C16:N16) -> 0
A17: 麻豆 | B17: 筆數 | C17: 0 | D17: 0 | E17: 0 | F17: 0 | G17: 0 | H17: 0 | I17: 1 | J17: 0 | K17: 0 | L17: 0 | M17: 0 | N17: 0 | O17: =SUM(C17:N17) -> 1
B18: 面積㎡ | C18: 0 | D18: 0 | E18: 0 | F18: 0 | G18: 0 | H18: 0 | I18: 17116.8 | J18: 0 | K18: 0 | L18: 0 | M18: 0 | N18: 0 | O18: =SUM(C18:N18) -> 17116.8
A19: 下營 | B19: 筆數 | C19: 0 | D19: 0 | E19: 0 | F19: 0 | G19: 0 | H19: 0 | I19: 0 | J19: 0 | K19: 0 | L19: 0 | M19: 0 | N19: 0 | O19: =SUM(C19:N19) -> 0
B20: 面積㎡ | C20: 0 | D20: 0 | E20: 0 | F20: 0 | G20: 0 | H20: 0 | I20: 0 | J20: 0 | K20: 0 | L20: 0 | M20: 0 | N20: 0 | O20: =SUM(C20:N20) -> 0
A21: 六甲 | B21: 筆數 | C21: 0 | D21: 0 | E21: 0 | F21: 0 | G21: 0 | H21: 0 | I21: 0 | J21: 0 | K21: 0 | L21: 0 | M21: 0 | N21: 0 | O21: =SUM(C21:N21) -> 0
B22: 面積㎡ | C22: 0 | D22: 0 | E22: 0 | F22: 0 | G22: 0 | H22: 0 | I22: 0 | J22: 0 | K22: 0 | L22: 0 | M22: 0 | N22: 0 | O22: =SUM(C22:N22) -> 0
A23: 官田 | B23: 筆數 | C23: 0 | D23: 0 | E23: 0 | F23: 0 | G23: 0 | H23: 0 | I23: 0 | J23: 0 | K23: 0 | L23: 0 | M23: 0 | N23: 0 | O23: =SUM(C23:N23) -> 0
B24: 面積㎡ | C24: 0 | D24: 0 | E24: 0 | F24: 0 | G24: 0 | H24: 0 | I24: 0 | J24: 0 | K24: 0 | L24: 0 | M24: 0 | N24: 0 | O24: =SUM(C24:N24) -> 0
A25: 大內 | B25: 筆數 | C25: 0 | D25: 0 | E25: 0 | F25: 0 | G25: 0 | H25: 0 | I25: 0 | J25: 0 | K25: 0 | L25: 0 | M25: 0 | N25: 0 | O25: =SUM(C25:N25) -> 0
B26: 面積㎡ | C26: 0 | D26: 0 | E26: 0 | F26: 0 | G26: 0 | H26: 0 | I26: 0 | J26: 0 | K26: 0 | L26: 0 | M26: 0 | N26: 0 | O26: =SUM(C26:N26) -> 0
A27: 佳里 | B27: 筆數 | C27: 0 | D27: 0 | E27: 0 | F27: 0 | G27: 0 | H27: 0 | I27: 0 | J27: 0 | K27: 0 | L27: 0 | M27: 0 | N27: 0 | O27: =SUM(C27:N27) -> 0
B28: 面積㎡ | C28: 0 | D28: 0 | E28: 0 | F28: 0 | G28: 0 | H28: 0 | I28: 0 | J28: 0 | K28: 0 | L28: 0 | M28: 0 | N28: 0 | O28: =SUM(C28:N28) -> 0
A29: 西港 | B29: 筆數 | C29: 0 | D29: 0 | E29: 0 | F29: 0 | G29: 0 | H29: 0 | I29: 0 | J29: 0 | K29: 0 | L29: 0 | M29: 0 | N29: 0 | O29: =SUM(C29:N29) -> 0
B30: 面積㎡ | C30: 0 | D30: 0 | E30: 0 | F30: 0 | G30: 0 | H30: 0 | I30: 0 | J30: 0 | K30: 0 | L30: 0 | M30: 0 | N30: 0 | O30: =SUM(C30:N30) -> 0
A31: 七股 | B31: 筆數 | C31: 0 | D31: 0 | E31: 0 | F31: 0 | G31: 0 | H31: 0 | I31: 0 | J31: 0 | K31: 0 | L31: 0 | M31: 0 | N31: 0 | O31: =SUM(C31:N31) -> 0
B32: 面積㎡ | C32: 0 | D32: 0 | E32: 0 | F32: 0 | G32: 0 | H32: 0 | I32: 0 | J32: 0 | K32: 0 | L32: 0 | M32: 0 | N32: 0 | O32: =SUM(C32:N32) -> 0
A33: 將軍 | B33: 筆數 | C33: 0 | D33: 0 | E33: 0 | F33: 0 | G33: 0 | H33: 0 | I33: 0 | J33: 0 | K33: 0 | L33: 0 | M33: 0 | N33: 0 | O33: =SUM(C33:N33) -> 0
B34: 面積㎡ | C34: 0 | D34: 0 | E34: 0 | F34: 0 | G34: 0 | H34: 0 | I34: 0 | J34: 0 | K34: 0 | L34: 0 | M34: 0 | N34: 0 | O34: =SUM(C34:N34) -> 0
A35: 北門 | B35: 筆數 | C35: 0 | D35: 0 | E35: 0 | F35: 0 | G35: 0 | H35: 0 | I35: 0 | J35: 0 | K35: 0 | L35: 0 | M35: 0 | N35: 0 | O35: =SUM(C35:N35) -> 0
B36: 面積㎡ | C36: 0 | D36: 0 | E36: 0 | F36: 0 | G36: 0 | H36: 0 | I36: 0 | J36: 0 | K36: 0 | L36: 0 | M36: 0 | N36: 0 | O36: =SUM(C36:N36) -> 0
A37: 學甲 | B37: 筆數 | C37: 0 | D37: 0 | E37: 0 | F37: 0 | G37: 0 | H37: 0 | I37: 0 | J37: 0 | K37: 0 | L37: 0 | M37: 0 | N37: 0 | O37: =SUM(C37:N37) -> 0
B38: 面積㎡ | C38: 0 | D38: 0 | E38: 0 | F38: 0 | G38: 0 | H38: 0 | I38: 0 | J38: 0 | K38: 0 | L38: 0 | M38: 0 | N38: 0 | O38: =SUM(C38:N38) -> 0
A39: 新化 | B39: 筆數 | C39: 0 | D39: 0 | E39: 0 | F39: 0 | G39: 0 | H39: 0 | I39: 0 | J39: 0 | K39: 0 | L39: 0 | M39: 0 | N39: 0 | O39: =SUM(C39:N39) -> 0
B40: 面積㎡ | C40: 0 | D40: 0 | E40: 0 | F40: 0 | G40: 0 | H40: 0 | I40: 0 | J40: 0 | K40: 0 | L40: 0 | M40: 0 | N40: 0 | O40: =SUM(C40:N40) -> 0
A41: 善化 | B41: 筆數 | C41: 0 | D41: 0 | E41: 0 | F41: 0 | G41: 0 | H41: 0 | I41: 0 | J41: 0 | K41: 0 | L41: 0 | M41: 0 | N41: 0 | O41: =SUM(C41:N41) -> 0
B42: 面積㎡ | C42: 0 | D42: 0 | E42: 0 | F42: 0 | G42: 0 | H42: 0 | I42: 0 | J42: 0 | K42: 0 | L42: 0 | M42: 0 | N42: 0 | O42: =SUM(C42:N42) -> 0
A43: 新市 | B43: 筆數 | C43: 0 | D43: 0 | E43: 0 | F43: 0 | G43: 0 | H43: 70 | I43: 67 | J43: 0 | K43: 0 | L43: 0 | M43: 0 | N43: 0 | O43: =SUM(C43:N43) -> 137
B44: 面積㎡ | C44: 0 | D44: 0 | E44: 0 | F44: 0 | G44: 0 | H44: 37390.38 | I44: 2217.92 | J44: 0 | K44: 0 | L44: 0 | M44: 0 | N44: 0 | O44: =SUM(C44:N44) -> 39608.3
A45: 安定 | B45: 筆數 | C45: 0 | D45: 0 | E45: 0 | F45: 0 | G45: 0 | H45: 0 | I45: 0 | J45: 0 | K45: 0 | L45: 0 | M45: 0 | N45: 0 | O45: =SUM(C45:N45) -> 0
B46: 面積㎡ | C46: 0 | D46: 0 | E46: 0 | F46: 0 | G46: 0 | H46: 0 | I46: 0 | J46: 0 | K46: 0 | L46: 0 | M46: 0 | N46: 0 | O46: =SUM(C46:N46) -> 0
A47: 山上 | B47: 筆數 | C47: 0 | D47: 0 | E47: 0 | F47: 0 | G47: 0 | H47: 0 | I47: 0 | J47: 0 | K47: 0 | L47: 0 | M47: 0 | N47: 0 | O47: =SUM(C47:N47) -> 0
B48: 面積㎡ | C48: 0 | D48: 0 | E48: 0 | F48: 0 | G48: 0 | H48: 0 | I48: 0 | J48: 0 | K48: 0 | L48: 0 | M48: 0 | N48: 0 | O48: =SUM(C48:N48) -> 0
A49: 玉井 | B49: 筆數 | C49: 0 | D49: 0 | E49: 0 | F49: 0 | G49: 0 | H49: 0 | I49: 0 | J49: 0 | K49: 0 | L49: 0 | M49: 0 | N49: 0 | O49: =SUM(C49:N49) -> 0
B50: 面積㎡ | C50: 0 | D50: 0 | E50: 0 | F50: 0 | G50: 0 | H50: 0 | I50: 0 | J50: 0 | K50: 0 | L50: 0 | M50: 0 | N50: 0 | O50: =SUM(C50:N50) -> 0
A51: 楠西 | B51: 筆數 | C51: 0 | D51: 0 | E51: 0 | F51: 0 | G51: 0 | H51: 0 | I51: 0 | J51: 0 | K51: 0 | L51: 0 | M51: 0 | N51: 0 | O51: =SUM(C51:N51) -> 0
B52: 面積㎡ | C52: 0 | D52: 0 | E52: 0 | F52: 0 | G52: 0 | H52: 0 | I52: 0 | J52: 0 | K52: 0 | L52: 0 | M52: 0 | N52: 0 | O52: =SUM(C52:N52) -> 0
A53: 南化 | B53: 筆數 | C53: 0 | D53: 0 | E53: 0 | F53: 0 | G53: 0 | H53: 0 | I53: 0 | J53: 0 | K53: 0 | L53: 0 | M53: 0 | N53: 0 | O53: =SUM(C53:N53) -> 0
B54: 面積㎡ | C54: 0 | D54: 0 | E54: 0 | F54: 0 | G54: 0 | H54: 0 | I54: 0 | J54: 0 | K54: 0 | L54: 0 | M54: 0 | N54: 0 | O54: =SUM(C54:N54) -> 0
A55: 左鎮 | B55: 筆數 | C55: 0 | D55: 0 | E55: 0 | F55: 0 | G55: 0 | H55: 0 | I55: 0 | J55: 0 | K55: 0 | L55: 0 | M55: 0 | N55: 0 | O55: =SUM(C55:N55) -> 0
B56: 面積㎡ | C56: 0 | D56: 0 | E56: 0 | F56: 0 | G56: 0 | H56: 0 | I56: 0 | J56: 0 | K56: 0 | L56: 0 | M56: 0 | N56: 0 | O56: =SUM(C56:N56) -> 0
A57: 仁德 | B57: 筆數 | C57: 0 | D57: 0 | E57: 0 | F57: 0 | G57: 0 | H57: 0 | I57: 0 | J57: 0 | K57: 0 | L57: 0 | M57: 0 | N57: 0 | O57: =SUM(C57:N57) -> 0
B58: 面積㎡ | C58: 0 | D58: 0 | E58: 0 | F58: 0 | G58: 0 | H58: 0 | I58: 0 | J58: 0 | K58: 0 | L58: 0 | M58: 0 | N58: 0 | O58: =SUM(C58:N58) -> 0
A59: 歸仁 | B59: 筆數 | C59: 0 | D59: 0 | E59: 0 | F59: 0 | G59: 0 | H59: 0 | I59: 0 | J59: 0 | K59: 0 | L59: 0 | M59: 0 | N59: 0 | O59: =SUM(C59:N59) -> 0
B60: 面積㎡ | C60: 0 | D60: 0 | E60: 0 | F60: 0 | G60: 0 | H60: 0 | I60: 0 | J60: 0 | K60: 0 | L60: 0 | M60: 0 | N60: 0 | O60: =SUM(C60:N60) -> 0
A61: 關廟 | B61: 筆數 | C61: 0 | D61: 0 | E61: 0 | F61: 0 | G61: 0 | H61: 0 | I61: 0 | J61: 0 | K61: 0 | L61: 0 | M61: 0 | N61: 0 | O61: =SUM(C61:N61) -> 0
B62: 面積㎡ | C62: 0 | D62: 0 | E62: 0 | F62: 0 | G62: 0 | H62: 0 | I62: 0 | J62: 0 | K62: 0 | L62: 0 | M62: 0 | N62: 0 | O62: =SUM(C62:N62) -> 0
A63: 龍崎 | B63: 筆數 | C63: 0 | D63: 0 | E63: 0 | F63: 0 | G63: 0 | H63: 0 | I63: 0 | J63: 0 | K63: 0 | L63: 0 | M63: 0 | N63: 0 | O63: =SUM(C63:N63) -> 0
B64: 面積㎡ | C64: 0 | D64: 0 | E64: 0 | F64: 0 | G64: 0 | H64: 0 | I64: 0 | J64: 0 | K64: 0 | L64: 0 | M64: 0 | N64: 0 | O64: =SUM(C64:N64) -> 0
A65: 永康 | B65: 筆數 | C65: 1 | D65: 0 | E65: 0 | F65: 0 | G65: 0 | H65: 0 | I65: 0 | J65: 96 | K65: 62 | L65: 0 | M65: 0 | N65: 0 | O65: =SUM(C65:N65) -> 159
B66: 面積㎡ | C66: 4988.74 | D66: 0 | E66: 0 | F66: 0 | G66: 0 | H66: 0 | I66: 0 | J66: 4538.4 | K66: 4971.59 | L66: 0 | M66: 0 | N66: 0 | O66: =SUM(C66:N66) -> 14498.73
A67: 東區 | B67: 筆數 | C67: 0 | D67: 0 | E67: 0 | F67: 0 | G67: 0 | H67: 0 | I67: 0 | J67: 0 | K67: 28 | L67: 0 | M67: 0 | N67: 250 | O67: =SUM(C67:N67) -> 278
B68: 面積㎡ | C68: 0 | D68: 0 | E68: 0 | F68: 0 | G68: 0 | H68: 0 | I68: 0 | J68: 0 | K68: 2757.11 | L68: 0 | M68: 0 | N68: 63871.63 | O68: =SUM(C68:N68) -> 66628.74
A69: 南區 | B69: 筆數 | C69: 0 | D69: 0 | E69: 0 | F69: 0 | G69: 0 | H69: 0 | I69: 0 | J69: 0 | K69: 0 | L69: 0 | M69: 0 | N69: 0 | O69: =SUM(C69:N69) -> 0
B70: 面積㎡ | C70: 0 | D70: 0 | E70: 0 | F70: 0 | G70: 0 | H70: 0 | I70: 0 | J70: 0 | K70: 0 | L70: 0 | M70: 0 | N70: 0 | O70: =SUM(C70:N70) -> 0
A71: 北區 | B71: 筆數 | C71: 0 | D71: 0 | E71: 29 | F71: 96 | G71: 0 | H71: 0 | I71: 0 | J71: 0 | K71: 0 | L71: 0 | M71: 0 | N71: 1247 | O71: =SUM(C71:N71) -> 1372
B72: 面積㎡ | C72: 0 | D72: 0 | E72: 1367.46 | F72: 25309.91 | G72: 0 | H72: 0 | I72: 0 | J72: 0 | K72: 0 | L72: 0 | M72: 0 | N72: 79107.18 | O72: =SUM(C72:N72) -> 105784.55
A73: 安南 | B73: 筆數 | C73: 0 | D73: 0 | E73: 0 | F73: 0 | G73: 0 | H73: 0 | I73: 0 | J73: 0 | K73: 0 | L73: 0 | M73: 0 | N73: 0 | O73: =SUM(C73:N73) -> 0
B74: 面積㎡ | C74: 0 | D74: 0 | E74: 0 | F74: 0 | G74: 0 | H74: 0 | I74: 0 | J74: 0 | K74: 0 | L74: 0 | M74: 0 | N74: 0 | O74: =SUM(C74:N74) -> 0
A75: 安平 | B75: 筆數 | C75: 0 | D75: 0 | E75: 0 | F75: 0 | G75: 0 | H75: 0 | I75: 0 | J75: 0 | K75: 125 | L75: 78 | M75: 0 | N75: 0 | O75: =SUM(C75:N75) -> 203
B76: 面積㎡ | C76: 0 | D76: 0 | E76: 0 | F76: 0 | G76: 0 | H76: 0 | I76: 0 | J76: 0 | K76: 23728.61 | L76: 16473.4 | M76: 0 | N76: 0 | O76: =SUM(C76:N76) -> 40202.01
A77: 中西 | B77: 筆數 | C77: 0 | D77: 0 | E77: 30 | F77: 0 | G77: 2 | H77: 0 | I77: 0 | J77: 0 | K77: 0 | L77: 0 | M77: 0 | N77: 0 | O77: =SUM(C77:N77) -> 32
B78: 面積㎡ | C78: 0 | D78: 0 | E78: 7191.59 | F78: 0 | G78: 1758.99 | H78: 0 | I78: 0 | J78: 0 | K78: 0 | L78: 0 | M78: 0 | N78: 0 | O78: =SUM(C78:N78) -> 8950.58
A79: 合計 | B79: 筆數 | C79: =C67+C5+C69+C7+C9+C71+C11+C13+C73+C15+C75+C17+C19+C77+C21+C23+C25+C27+C29+C31+C33+C35+C37+C39+C41+C43+C45+C47+C49+C51+C53+C55+C57+C59+C61+C63+C65 -> 1 | D79: =D67+D5+D69+D7+D9+D71+D11+D13+D73+D15+D75+D17+D19+D77+D21+D23+D25+D27+D29+D31+D33+D35+D37+D39+D41+D43+D45+D47+D49+D51+D53+D55+D57+D59+D61+D63+D65 -> 0 | E79: =E67+E5+E69+E7+E9+E71+E11+E13+E73+E15+E75+E17+E19+E77+E21+E23+E25+E27+E29+E31+E33+E35+E37+E39+E41+E43+E45+E47+E49+E51+E53+E55+E57+E59+E61+E63+E65 -> 59 | F79: =F67+F5+F69+F7+F9+F71+F11+F13+F73+F15+F75+F17+F19+F77+F21+F23+F25+F27+F29+F31+F33+F35+F37+F39+F41+F43+F45+F47+F49+F51+F53+F55+F57+F59+F61+F63+F65 -> 96 | G79: =G67+G5+G69+G7+G9+G71+G11+G13+G73+G15+G75+G17+G19+G77+G21+G23+G25+G27+G29+G31+G33+G35+G37+G39+G41+G43+G45+G47+G49+G51+G53+G55+G57+G59+G61+G63+G65 -> 2 | H79: =H67+H5+H69+H7+H9+H71+H11+H13+H73+H15+H75+H17+H19+H77+H21+H23+H25+H27+H29+H31+H33+H35+H37+H39+H41+H43+H45+H47+H49+H51+H53+H55+H57+H59+H61+H63+H65 -> 70 | I79: =I67+I5+I69+I7+I9+I71+I11+I13+I73+I15+I75+I17+I19+I77+I21+I23+I25+I27+I29+I31+I33+I35+I37+I39+I41+I43+I45+I47+I49+I51+I53+I55+I57+I59+I61+I63+I65 -> 68 | J79: =J67+J5+J69+J7+J9+J71+J11+J13+J73+J15+J75+J17+J19+J77+J21+J23+J25+J27+J29+J31+J33+J35+J37+J39+J41+J43+J45+J47+J49+J51+J53+J55+J57+J59+J61+J63+J65 -> 96 | ... O79: =O67+O5+O69+O7+O9+O71+O11+O13+O73+O15+O75+O17+O19+O77+O21+O23+O25+O27+O29+O31+O33+O35+O37+O39+O41+O43+O45+O47+O49+O51+O53+O55+O57+O59+O61+O63+O65 -> 2182
B80: 面積㎡ | C80: =C68+C6+C70+C8+C10+C72+C12+C14+C74+C16+C76+C18+C20+C78+C22+C24+C26+C28+C30+C32+C34+C36+C38+C40+C42+C44+C46+C48+C50+C52+C54+C56+C58+C60+C62+C64+C66 -> 4988.74 | D80: =D68+D6+D70+D8+D10+D72+D12+D14+D74+D16+D76+D18+D20+D78+D22+D24+D26+D28+D30+D32+D34+D36+D38+D40+D42+D44+D46+D48+D50+D52+D54+D56+D58+D60+D62+D64+D66 -> 0 | E80: =E68+E6+E70+E8+E10+E72+E12+E14+E74+E16+E76+E18+E20+E78+E22+E24+E26+E28+E30+E32+E34+E36+E38+E40+E42+E44+E46+E48+E50+E52+E54+E56+E58+E60+E62+E64+E66 -> 8559.05 | F80: =F68+F6+F70+F8+F10+F72+F12+F14+F74+F16+F76+F18+F20+F78+F22+F24+F26+F28+F30+F32+F34+F36+F38+F40+F42+F44+F46+F48+F50+F52+F54+F56+F58+F60+F62+F64+F66 -> 25309.91 | G80: =G68+G6+G70+G8+G10+G72+G12+G14+G74+G16+G76+G18+G20+G78+G22+G24+G26+G28+G30+G32+G34+G36+G38+G40+G42+G44+G46+G48+G50+G52+G54+G56+G58+G60+G62+G64+G66 -> 1758.99 | H80: =H68+H6+H70+H8+H10+H72+H12+H14+H74+H16+H76+H18+H20+H78+H22+H24+H26+H28+H30+H32+H34+H36+H38+H40+H42+H44+H46+H48+H50+H52+H54+H56+H58+H60+H62+H64+H66 -> 37390.38 | I80: =I68+I6+I70+I8+I10+I72+I12+I14+I74+I16+I76+I18+I20+I78+I22+I24+I26+I28+I30+I32+I34+I36+I38+I40+I42+I44+I46+I48+I50+I52+I54+I56+I58+I60+I62+I64+I66 -> 19334.72 | J80: =J68+J6+J70+J8+J10+J72+J12+J14+J74+J16+J76+J18+J20+J78+J22+J24+J26+J28+J30+J32+J34+J36+J38+J40+J42+J44+J46+J48+J50+J52+J54+J56+J58+J60+J62+J64+J66 -> 4538.4 | ... O80: =O68+O6+O70+O8+O10+O72+O12+O14+O74+O16+O76+O18+O20+O78+O22+O24+O26+O28+O30+O32+O34+O36+O38+O40+O42+O44+O46+O48+O50+O52+O54+O56+O58+O60+O62+O64+O66 -> 292789.71
A82: 備註 | B82: 1.資料來源：臺南市政府地政局 http://land.tainan.gov.tw
B83: 2.本表係統計所有權人為本國私法人，建物主要用途為住家用、商業用、住商用、見使用執照或見其他事項，建築完成日期自92年1月1日起
B84: 迄今，完成建物第一次登記後以買賣為登記原因移轉之建物筆數與面積(單位為平方公尺)。

Sheet 地政局(彙)104年-移轉
A1: 臺南市建物第一次移轉統計表
C2: 完成保存登記後第一次移轉之筆數。面積(六層以下，含六層) | AO2: 完成保存登記後第一次移轉之筆數。面積(七層以上)
C3: 東區 | D3: 南區 | E3: 北區 | F3: 安南區 | G3: 安平區 | H3: 中西區 | I3: 新營巿 | J3: 鹽水鎮 | K3: 白河鎮 | L3: 柳營鄉 | M3: 後壁鄉 | N3: 東山鄉 | O3: 麻豆鎮 | P3: 下營鄉 | Q3: 六甲鄉 | R3: 官田鄉 | S3: 大內鄉 | T3: 佳里鎮 | U3: 西港鄉 | V3: 七股鄉 | W3: 將軍鄉 | X3: 北門鄉 | Y3: 學甲鎮 | Z3: 新化鎮 | AA3: 善化鎮 | AB3: 新市鄉 | AC3: 安定鄉 | AD3: 山上鄉 | AE3: 玉井鄉 | AF3: 楠西鄉 | AG3: 南化鄉 | AH3: 左鎮鄉 | AI3: 仁德鄉 | AJ3: 歸仁鄉 | AK3: 關廟鄉 | AL3: 龍崎鄉 | AM3: 永康市 | AN3: 全市總計 | AO3: 東區 | AP3: 南區 | AQ3: 北區 | AR3: 安南區 | AS3: 安平區 | AT3: 中西區 | AU3: 新營巿 | AV3: 鹽水鎮 | AW3: 白河鎮 | AX3: 柳營鄉 | AY3: 後壁鄉 | AZ3: 東山鄉 | BA3: 麻豆鎮 | BB3: 下營鄉 | BC3: 六甲鄉 | BD3: 官田鄉 | BE3: 大內鄉 | BF3: 佳里鎮 | BG3: 西港鄉 | BH3: 七股鄉 | BI3: 將軍鄉 | BJ3: 北門鄉 | BK3: 學甲鎮 | BL3: 新化鎮 | BM3: 善化鎮 | BN3: 新市鄉 | BO3: 安定鄉 | BP3: 山上鄉 | BQ3: 玉井鄉 | BR3: 楠西鄉 | BS3: 南化鄉 | BT3: 左鎮鄉 | BU3: 仁德鄉 | BV3: 歸仁鄉 | BW3: 關廟鄉 | BX3: 龍崎鄉 | BY3: 永康市 | BZ3: 全市總計
A4: 104年1月 | B4: 筆數 | C4: 14 | D4: 4 | E4: 5 | F4: 27 | G4: 6 | H4: 5 | I4: 19 | J4: 0 | K4: 1 | L4: 4 | M4: 4 | N4: 0 | O4: 11 | P4: 11 | Q4: 1 | R4: 0 | S4: 0 | T4: 5 | U4: 0 | V4: 0 | W4: 0 | X4: 0 | Y4: 0 | Z4: 0 | AA4: 52 | AB4: 36 | AC4: 43 | AD4: 0 | AE4: 0 | AF4: 0 | AG4: 0 | AH4: 0 | AI4: 52 | AJ4: 10 | AK4: 0 | AL4: 0 | AM4: 129 | AN4: 439 | AO4: 0 | AP4: 17 | AQ4: 1 | AR4: 40 | AS4: 12 | AT4: 0 | AU4: 0 | AV4: 0 | AW4: 0 | AX4: 0 | AY4: 0 | AZ4: 0 | BA4: 0 | BB4: 0 | BC4: 0 | BD4: 0 | BE4: 0 | BF4: 0 | BG4: 0 | BH4: 0 | BI4: 0 | BJ4: 0 | BK4: 0 | BL4: 0 | BM4: 0 | BN4: 0 | BO4: 0 | BP4: 0 | BQ4: 0 | BR4: 0 | BS4: 0 | BT4: 0 | BU4: 0 | BV4: 0 | BW4: 0 | BX4: 0 | BY4: 8 | BZ4: 78
B5: 面積(M2) | C5: 4130.57 | D5: 811.08 | E5: 1600.93 | F5: 5448.69 | G5: 1740.65 | H5: 1880.09 | I5: 3373.72 | J5: 0 | K5: 159.5 | L5: 661.78 | M5: 1177.27 | N5: 0 | O5: 2076.39 | P5: 1958.8 | Q5: 236.36 | R5: 0 | S5: 0 | T5: 974.95 | U5: 0 | V5: 0 | W5: 0 | X5: 0 | Y5: 0 | Z5: 0 | AA5: 10463.71 | AB5: 8441.28 | AC5: 6618.5 | AD5: 0 | AE5: 0 | AF5: 0 | AG5: 0 | AH5: 0 | AI5: 9840.49 | AJ5: 2345.33 | AK5: 0 | AL5: 0 | AM5: 22216.35 | AN5: 86156.44 | AO5: 0 | AP5: 1558.83 | AQ5: 223.58 | AR5: 3061.98 | AS5: 723.73 | AT5: 0 | AU5: 0 | AV5: 0 | AW5: 0 | AX5: 0 | AY5: 0 | AZ5: 0 | BA5: 0 | BB5: 0 | BC5: 0 | BD5: 0 | BE5: 0 | BF5: 0 | BG5: 0 | BH5: 0 | BI5: 0 | BJ5: 0 | BK5: 0 | BL5: 0 | BM5: 0 | BN5: 0 | BO5: 0 | BP5: 0 | BQ5: 0 | BR5: 0 | BS5: 0 | BT5: 0 | BU5: 0 | BV5: 0 | BW5: 0 | BX5: 0 | BY5: 1058.84 | BZ5: 6626.96
A6: 104年2月 | B6: 筆數 | C6: 6 | D6: 5 | E6: 4 | F6: 16 | G6: 3 | H6: 5 | I6: 31 | J6: 1 | K6: 0 | L6: 2 | M6: 3 | N6: 0 | O6: 5 | P6: 1 | Q6: 0 | R6: 0 | S6: 0 | T6: 3 | U6: 0 | V6: 0 | W6: 0 | X6: 0 | Y6: 1 | Z6: 0 | AA6: 25 | AB6: 31 | AC6: 8 | AD6: 0 | AE6: 0 | AF6: 0 | AG6: 0 | AH6: 0 | AI6: 23 | AJ6: 0 | AK6: 5 | AL6: 0 | AM6: 103 | AN6: 281 | AO6: 0 | AP6: 3 | AQ6: 1 | AR6: 6 | AS6: 4 | AT6: 0 | AU6: 0 | AV6: 0 | AW6: 0 | AX6: 0 | AY6: 0 | AZ6: 0 | BA6: 0 | BB6: 0 | BC6: 0 | BD6: 0 | BE6: 0 | BF6: 0 | BG6: 0 | BH6: 0 | BI6: 0 | BJ6: 0 | BK6: 0 | BL6: 0 | BM6: 1 | BN6: 0 | BO6: 0 | BP6: 0 | BQ6: 0 | BR6: 0 | BS6: 0 | BT6: 0 | BU6: 0 | BV6: 0 | BW6: 0 | BX6: 0 | BY6: 1 | BZ6: 16
B7: 面積(M2) | C7: 1518.24 | D7: 1022.86 | E7: 940.21 | F7: 2855.91 | G7: 1125.98 | H7: 1795.4 | I7: 6169.26 | J7: 212.73 | K7: 0 | L7: 396.21 | M7: 855.71 | N7: 0 | O7: 1172.07 | P7: 180.4 | Q7: 0 | R7: 0 | S7: 0 | T7: 527.27 | U7: 0 | V7: 0 | W7: 0 | X7: 0 | Y7: 146.75 | Z7: 0 | AA7: 4472.71 | AB7: 6371.47 | AC7: 1607.23 | AD7: 0 | AE7: 0 | AF7: 0 | AG7: 0 | AH7: 0 | AI7: 4312.43 | AJ7: 0 | AK7: 904.22 | AL7: 0 | AM7: 21142.56 | AN7: 57729.62 | AO7: 0 | AP7: 260.24 | AQ7: 273.57 | AR7: 485.1 | AS7: 176.3 | AT7: 0 | AU7: 0 | AV7: 0 | AW7: 0 | AX7: 0 | AY7: 0 | AZ7: 0 | BA7: 0 | BB7: 0 | BC7: 0 | BD7: 0 | BE7: 0 | BF7: 0 | BG7: 0 | BH7: 0 | BI7: 0 | BJ7: 0 | BK7: 0 | BL7: 0 | BM7: 60.28 | BN7: 0 | BO7: 0 | BP7: 0 | BQ7: 0 | BR7: 0 | BS7: 0 | BT7: 0 | BU7: 0 | BV7: 0 | BW7: 0 | BX7: 0 | BY7: 123.5 | BZ7: 1378.99
A8: 104年3月 | B8: 筆數 | C8: 20 | D8: 6 | E8: 8 | F8: 52 | G8: 3 | H8: 3 | I8: 21 | J8: 14 | K8: 0 | L8: 6 | M8: 7 | N8: 0 | O8: 7 | P8: 1 | Q8: 24 | R8: 0 | S8: 0 | T8: 6 | U8: 0 | V8: 0 | W8: 0 | X8: 0 | Y8: 19 | Z8: 3 | AA8: 68 | AB8: 13 | AC8: 12 | AD8: 0 | AE8: 0 | AF8: 0 | AG8: 0 | AH8: 0 | AI8: 19 | AJ8: 10 | AK8: 5 | AL8: 0 | AM8: 62 | AN8: 389 | AO8: 0 | AP8: 5 | AQ8: 6 | AR8: 0 | AS8: 6 | AT8: 0 | AU8: 0 | AV8: 0 | AW8: 0 | AX8: 0 | AY8: 0 | AZ8: 0 | BA8: 0 | BB8: 0 | BC8: 0 | BD8: 0 | BE8: 0 | BF8: 0 | BG8: 0 | BH8: 0 | BI8: 0 | BJ8: 0 | BK8: 0 | BL8: 0 | BM8: 1 | BN8: 0 | BO8: 0 | BP8: 0 | BQ8: 0 | BR8: 0 | BS8: 0 | BT8: 0 | BU8: 0 | BV8: 0 | BW8: 0 | BX8: 0 | BY8: 0 | BZ8: 18
B9: 面積(M2) | C9: 4199.69 | D9: 1340.15 | E9: 1969.9 | F9: 10523.23 | G9: 809.62 | H9: 910.91 | I9: 3870.16 | J9: 2787.5 | K9: 0 | L9: 1001.48 | M9: 1933.53 | N9: 0 | O9: 1797.4 | P9: 180.4 | Q9: 3895.69 | R9: 0 | S9: 0 | T9: 1135.8 | U9: 0 | V9: 0 | W9: 0 | X9: 0 | Y9: 2880.14 | Z9: 523.87 | AA9: 12797.63 | AB9: 2327.93 | AC9: 2454.2 | AD9: 0 | AE9: 0 | AF9: 0 | AG9: 0 | AH9: 0 | AI9: 4034.46 | AJ9: 2156.76 | AK9: 1031.73 | AL9: 0 | AM9: 12208.66 | AN9: 76770.84 | AO9: 0 | AP9: 407.37 | AQ9: 291.68 | AR9: 0 | AS9: 666.06 | AT9: 0 | AU9: 0 | AV9: 0 | AW9: 0 | AX9: 0 | AY9: 0 | AZ9: 0 | BA9: 0 | BB9: 0 | BC9: 0 | BD9: 0 | BE9: 0 | BF9: 0 | BG9: 0 | BH9: 0 | BI9: 0 | BJ9: 0 | BK9: 0 | BL9: 0 | BM9: 51.55 | BN9: 0 | BO9: 0 | BP9: 0 | BQ9: 0 | BR9: 0 | BS9: 0 | BT9: 0 | BU9: 0 | BV9: 0 | BW9: 0 | BX9: 0 | BY9: 0 | BZ9: 1416.66
A10: 104年4月 | B10: 筆數 | C10: 11 | D10: 7 | E10: 10 | F10: 73 | G10: 6 | H10: 0 | I10: 11 | J10: 1 | K10: 2 | L10: 7 | M10: 3 | N10: 0 | O10: 17 | P10: 0 | Q10: 5 | R10: 0 | S10: 0 | T10: 8 | U10: 10 | V10: 0 | W10: 0 | X10: 0 | Y10: 11 | Z10: 16 | AA10: 34 | AB10: 11 | AC10: 16 | AD10: 0 | AE10: 0 | AF10: 0 | AG10: 0 | AH10: 0 | AI10: 9 | AJ10: 14 | AK10: 16 | AL10: 0 | AM10: 56 | AN10: 354 | AO10: 0 | AP10: 1 | AQ10: 17 | AR10: 0 | AS10: 19 | AT10: 4 | AU10: 0 | AV10: 0 | AW10: 0 | AX10: 0 | AY10: 0 | AZ10: 0 | BA10: 0 | BB10: 0 | BC10: 0 | BD10: 0 | BE10: 0 | BF10: 0 | BG10: 0 | BH10: 0 | BI10: 0 | BJ10: 0 | BK10: 0 | BL10: 0 | BM10: 0 | BN10: 0 | BO10: 0 | BP10: 0 | BQ10: 0 | BR10: 0 | BS10: 0 | BT10: 0 | BU10: 0 | BV10: 0 | BW10: 0 | BX10: 0 | BY10: 0 | BZ10: 41
B11: 面積(M2) | C11: 2584.13 | D11: 1696.86 | E11: 3318.66 | F11: 12562.49 | G11: 2141.78 | H11: 0 | I11: 2549.13 | J11: 212.73 | K11: 347.01 | L11: 1129.5 | M11: 977.13 | N11: 0 | O11: 3315.21 | P11: 0 | Q11: 765.35 | R11: 0 | S11: 0 | T11: 1568.71 | U11: 1856.35 | V11: 0 | W11: 0 | X11: 0 | Y11: 1632.04 | Z11: 2553.57 | AA11: 7872.97 | AB11: 1916.84 | AC11: 2691.66 | AD11: 0 | AE11: 0 | AF11: 0 | AG11: 0 | AH11: 0 | AI11: 2324.41 | AJ11: 4153.55 | AK11: 3017.39 | AL11: 0 | AM11: 11413.69 | AN11: 72601.16 | AO11: 0 | AP11: 85.49 | AQ11: 1887.57 | AR11: 0 | AS11: 1047.26 | AT11: 883.36 | AU11: 0 | AV11: 0 | AW11: 0 | AX11: 0 | AY11: 0 | AZ11: 0 | BA11: 0 | BB11: 0 | BC11: 0 | BD11: 0 | BE11: 0 | BF11: 0 | BG11: 0 | BH11: 0 | BI11: 0 | BJ11: 0 | BK11: 0 | BL11: 0 | BM11: 0 | BN11: 0 | BO11: 0 | BP11: 0 | BQ11: 0 | BR11: 0 | BS11: 0 | BT11: 0 | BU11: 0 | BV11: 0 | BW11: 0 | BX11: 0 | BY11: 0 | BZ11: 3903.68
A12: 104年5月 | B12: 筆數 | C12: 13 | D12: 14 | E12: 9 | F12: 84 | G12: 7 | H12: 3 | I12: 26 | J12: 0 | K12: 5 | L12: 3 | M12: 5 | N12: 0 | O12: 7 | P12: 0 | Q12: 0 | R12: 0 | S12: 0 | T12: 20 | U12: 16 | V12: 0 | W12: 1 | X12: 0 | Y12: 0 | Z12: 6 | AA12: 19 | AB12: 20 | AC12: 15 | AD12: 0 | AE12: 0 | AF12: 0 | AG12: 0 | AH12: 0 | AI12: 8 | AJ12: 12 | AK12: 3 | AL12: 0 | AM12: 36 | AN12: 332 | AO12: 0 | AP12: 0 | AQ12: 1 | AR12: 0 | AS12: 11 | AT12: 17 | AU12: 0 | AV12: 0 | AW12: 0 | AX12: 0 | AY12: 0 | AZ12: 0 | BA12: 0 | BB12: 0 | BC12: 0 | BD12: 0 | BE12: 0 | BF12: 0 | BG12: 0 | BH12: 0 | BI12: 0 | BJ12: 0 | BK12: 0 | BL12: 0 | BM12: 0 | BN12: 0 | BO12: 0 | BP12: 0 | BQ12: 0 | BR12: 0 | BS12: 0 | BT12: 0 | BU12: 0 | BV12: 0 | BW12: 0 | BX12: 0 | BY12: 0 | BZ12: 29
B13: 面積(M2) | C13: 3900.13 | D13: 2879.74 | E13: 2821.44 | F13: 15233.29 | G13: 2452.5 | H13: 860.39 | I13: 5586.54 | J13: 0 | K13: 940.02 | L13: 447.86 | M13: 1087.17 | N13: 0 | O13: 1501.87 | P13: 0 | Q13: 0 | R13: 0 | S13: 0 | T13: 3707.23 | U13: 2602.74 | V13: 0 | W13: 151.67 | X13: 0 | Y13: 0 | Z13: 943.31 | AA13: 4054.94 | AB13: 3492.25 | AC13: 2422.91 | AD13: 0 | AE13: 0 | AF13: 0 | AG13: 0 | AH13: 0 | AI13: 1627.99 | AJ13: 2559.71 | AK13: 508.82 | AL13: 0 | AM13: 7027.47 | AN13: 66809.99 | AO13: 0 | AP13: 0 | AQ13: 46.88 | AR13: 0 | AS13: 769.2 | AT13: 3929.88 | AU13: 0 | AV13: 0 | AW13: 0 | AX13: 0 | AY13: 0 | AZ13: 0 | BA13: 0 | BB13: 0 | BC13: 0 | BD13: 0 | BE13: 0 | BF13: 0 | BG13: 0 | BH13: 0 | BI13: 0 | BJ13: 0 | BK13: 0 | BL13: 0 | BM13: 0 | BN13: 0 | BO13: 0 | BP13: 0 | BQ13: 0 | BR13: 0 | BS13: 0 | BT13: 0 | BU13: 0 | BV13: 0 | BW13: 0 | BX13: 0 | BY13: 0 | BZ13: 4745.96
A14: 104年6月 | B14: 筆數 | C14: 5 | D14: 14 | E14: 2 | F14: 119 | G14: 4 | H14: 1 | I14: 18 | J14: 4 | K14: 1 | L14: 3 | M14: 6 | N14: 0 | O14: 14 | P14: 4 | Q14: 3 | R14: 11 | S14: 0 | T14: 7 | U14: 9 | V14: 0 | W14: 5 | X14: 0 | Y14: 0 | Z14: 1 | AA14: 30 | AB14: 44 | AC14: 8 | AD14: 0 | AE14: 0 | AF14: 0 | AG14: 0 | AH14: 0 | AI14: 15 | AJ14: 11 | AK14: 22 | AL14: 0 | AM14: 30 | AN14: 391 | AO14: 0 | AP14: 0 | AQ14: 61 | AR14: 0 | AS14: 8 | AT14: 1 | AU14: 0 | AV14: 0 | AW14: 0 | AX14: 0 | AY14: 0 | AZ14: 0 | BA14: 0 | BB14: 0 | BC14: 0 | BD14: 0 | BE14: 0 | BF14: 0 | BG14: 0 | BH14: 0 | BI14: 0 | BJ14: 0 | BK14: 0 | BL14: 0 | BM14: 0 | BN14: 38 | BO14: 0 | BP14: 0 | BQ14: 0 | BR14: 0 | BS14: 0 | BT14: 0 | BU14: 0 | BV14: 0 | BW14: 0 | BX14: 0 | BY14: 0 | BZ14: 108
B15: 面積(M2) | C15: 1529.07 | D15: 3025 | E15: 528.19 | F15: 22248.48 | G15: 1488.96 | H15: 364.56 | I15: 3618.81 | J15: 881.19 | K15: 191.51 | L15: 421.68 | M15: 1383.7 | N15: 0 | O15: 2874.11 | P15: 722.74 | Q15: 495.36 | R15: 1830.17 | S15: 0 | T15: 1438.01 | U15: 1437.01 | V15: 0 | W15: 876.7 | X15: 0 | Y15: 0 | Z15: 215.39 | AA15: 6431.32 | AB15: 9276.57 | AC15: 1353.68 | AD15: 0 | AE15: 0 | AF15: 0 | AG15: 0 | AH15: 0 | AI15: 4157.45 | AJ15: 2549.3 | AK15: 3706.47 | AL15: 0 | AM15: 5775.15 | AN15: 78820.58 | AO15: 0 | AP15: 0 | AQ15: 15742.77 | AR15: 0 | AS15: 436.83 | AT15: 210.44 | AU15: 0 | AV15: 0 | AW15: 0 | AX15: 0 | AY15: 0 | AZ15: 0 | BA15: 0 | BB15: 0 | BC15: 0 | BD15: 0 | BE15: 0 | BF15: 0 | BG15: 0 | BH15: 0 | BI15: 0 | BJ15: 0 | BK15: 0 | BL15: 0 | BM15: 0 | BN15: 1863.84 | BO15: 0 | BP15: 0 | BQ15: 0 | BR15: 0 | BS15: 0 | BT15: 0 | BU15: 0 | BV15: 0 | BW15: 0 | BX15: 0 | BY15: 0 | BZ15: 18253.88
A16: 104年7月 | B16: 筆數 | C16: 18 | D16: 3 | E16: 7 | F16: 65 | G16: 5 | H16: 0 | I16: 22 | J16: 3 | K16: 2 | L16: 1 | M16: 7 | N16: 1 | O16: 19 | P16: 3 | Q16: 2 | R16: 10 | S16: 0 | T16: 18 | U16: 1 | V16: 0 | W16: 2 | X16: 0 | Y16: 8 | Z16: 0 | AA16: 18 | AB16: 38 | AC16: 8 | AD16: 0 | AE16: 0 | AF16: 0 | AG16: 0 | AH16: 0 | AI16: 19 | AJ16: 56 | AK16: 29 | AL16: 0 | AM16: 50 | AN16: 415 | AO16: 2 | AP16: 0 | AQ16: 12 | AR16: 0 | AS16: 13 | AT16: 1 | AU16: 0 | AV16: 0 | AW16: 0 | AX16: 0 | AY16: 0 | AZ16: 0 | BA16: 0 | BB16: 0 | BC16: 0 | BD16: 0 | BE16: 0 | BF16: 0 | BG16: 0 | BH16: 0 | BI16: 0 | BJ16: 0 | BK16: 0 | BL16: 0 | BM16: 0 | BN16: 13 | BO16: 0 | BP16: 0 | BQ16: 0 | BR16: 0 | BS16: 0 | BT16: 0 | BU16: 0 | BV16: 0 | BW16: 0 | BX16: 0 | BY16: 0 | BZ16: 41
B17: 面積(M2) | C17: 3588.3 | D17: 734.3 | E17: 1745.61 | F17: 12648.2 | G17: 2003.85 | H17: 0 | I17: 6129.85 | J17: 754.12 | K17: 329.08 | L17: 153.65 | M17: 1708.65 | N17: 153.8 | O17: 3976.6 | P17: 569.29 | Q17: 383.37 | R17: 1819.09 | S17: 0 | T17: 3616.98 | U17: 181.37 | V17: 0 | W17: 302.4 | X17: 0 | Y17: 3005.36 | Z17: 0 | AA17: 4528.2 | AB17: 7305.5 | AC17: 1549.77 | AD17: 0 | AE17: 0 | AF17: 0 | AG17: 0 | AH17: 0 | AI17: 4149.45 | AJ17: 7608.14 | AK17: 4916.43 | AL17: 0 | AM17: 9520.41 | AN17: 83381.77 | AO17: 256.09 | AP17: 0 | AQ17: 2920.29 | AR17: 0 | AS17: 1572.83 | AT17: 231.24 | AU17: 0 | AV17: 0 | AW17: 0 | AX17: 0 | AY17: 0 | AZ17: 0 | BA17: 0 | BB17: 0 | BC17: 0 | BD17: 0 | BE17: 0 | BF17: 0 | BG17: 0 | BH17: 0 | BI17: 0 | BJ17: 0 | BK17: 0 | BL17: 0 | BM17: 0 | BN17: 644.71 | BO17: 0 | BP17: 0 | BQ17: 0 | BR17: 0 | BS17: 0 | BT17: 0 | BU17: 0 | BV17: 0 | BW17: 0 | BX17: 0 | BY17: 0 | BZ17: 5625.16
A18: 104年8月 | B18: 筆數 | C18: 8 | D18: 4 | E18: 5 | F18: 49 | G18: 5 | H18: 6 | I18: 25 | J18: 3 | K18: 2 | L18: 0 | M18: 3 | N18: 9 | O18: 9 | P18: 0 | Q18: 7 | R18: 3 | S18: 0 | T18: 43 | U18: 0 | V18: 0 | W18: 1 | X18: 0 | Y18: 13 | Z18: 53 | AA18: 16 | AB18: 26 | AC18: 6 | AD18: 0 | AE18: 3 | AF18: 0 | AG18: 0 | AH18: 0 | AI18: 27 | AJ18: 8 | AK18: 8 | AL18: 0 | AM18: 14 | AN18: 356 | AO18: 0 | AP18: 0 | AQ18: 6 | AR18: 0 | AS18: 6 | AT18: 1 | AU18: 0 | AV18: 0 | AW18: 0 | AX18: 0 | AY18: 0 | AZ18: 0 | BA18: 0 | BB18: 0 | BC18: 0 | BD18: 0 | BE18: 0 | BF18: 0 | BG18: 0 | BH18: 0 | BI18: 0 | BJ18: 0 | BK18: 0 | BL18: 0 | BM18: 0 | BN18: 1 | BO18: 0 | BP18: 0 | BQ18: 0 | BR18: 0 | BS18: 0 | BT18: 0 | BU18: 0 | BV18: 0 | BW18: 0 | BX18: 0 | BY18: 49 | BZ18: 63
B19: 面積(M2) | C19: 1848.45 | D19: 982.44 | E19: 1826.55 | F19: 9347.36 | G19: 1880.84 | H19: 2749.3 | I19: 6369.42 | J19: 665.82 | K19: 389.92 | L19: 0 | M19: 878.05 | N19: 1455.08 | O19: 1750.71 | P19: 0 | Q19: 1278.86 | R19: 477.48 | S19: 0 | T19: 8420.96 | U19: 0 | V19: 0 | W19: 187.99 | X19: 0 | Y19: 3655.09 | Z19: 9363.76 | AA19: 3225.98 | AB19: 4953.94 | AC19: 958.38 | AD19: 0 | AE19: 634.21 | AF19: 0 | AG19: 0 | AH19: 0 | AI19: 4748.09 | AJ19: 1337.12 | AK19: 1249.74 | AL19: 0 | AM19: 2451.76 | AN19: 73087.3 | AO19: 0 | AP19: 0 | AQ19: 871.03 | AR19: 0 | AS19: 323.9 | AT19: 440.3 | AU19: 0 | AV19: 0 | AW19: 0 | AX19: 0 | AY19: 0 | AZ19: 0 | BA19: 0 | BB19: 0 | BC19: 0 | BD19: 0 | BE19: 0 | BF19: 0 | BG19: 0 | BH19: 0 | BI19: 0 | BJ19: 0 | BK19: 0 | BL19: 0 | BM19: 0 | BN19: 46.07 | BO19: 0 | BP19: 0 | BQ19: 0 | BR19: 0 | BS19: 0 | BT19: 0 | BU19: 0 | BV19: 0 | BW19: 0 | BX19: 0 | BY19: 2316.8 | BZ19: 3998.1
A20: 104年9月 | B20: 筆數 | C20: 6 | D20: 14 | E20: 5 | F20: 38 | G20: 5 | H20: 1 | I20: 37 | J20: 5 | K20: 1 | L20: 0 | M20: 0 | N20: 2 | O20: 25 | P20: 3 | Q20: 3 | R20: 9 | S20: 0 | T20: 19 | U20: 0 | V20: 0 | W20: 2 | X20: 0 | Y20: 1 | Z20: 2 | AA20: 19 | AB20: 24 | AC20: 4 | AD20: 0 | AE20: 1 | AF20: 0 | AG20: 0 | AH20: 0 | AI20: 30 | AJ20: 10 | AK20: 4 | AL20: 0 | AM20: 30 | AN20: 300 | AO20: 9 | AP20: 0 | AQ20: 11 | AR20: 0 | AS20: 3 | AT20: 0 | AU20: 0 | AV20: 0 | AW20: 0 | AX20: 0 | AY20: 0 | AZ20: 0 | BA20: 0 | BB20: 0 | BC20: 0 | BD20: 0 | BE20: 0 | BF20: 0 | BG20: 0 | BH20: 0 | BI20: 0 | BJ20: 0 | BK20: 0 | BL20: 0 | BM20: 0 | BN20: 1 | BO20: 0 | BP20: 0 | BQ20: 0 | BR20: 0 | BS20: 0 | BT20: 0 | BU20: 0 | BV20: 0 | BW20: 0 | BX20: 0 | BY20: 55 | BZ20: 79
B21: 面積(M2) | C21: 1540.9 | D21: 2962.82 | E21: 1746.86 | F21: 6058.53 | G21: 1496.27 | H21: 302.7 | I21: 7205.55 | J21: 1023.65 | K21: 167.13 | L21: 0 | M21: 0 | N21: 263.02 | O21: 4555.92 | P21: 763.68 | Q21: 450.63 | R21: 1414.25 | S21: 0 | T21: 3271.64 | U21: 0 | V21: 0 | W21: 375.98 | X21: 0 | Y21: 163.45 | Z21: 324.03 | AA21: 4380.71 | AB21: 4327.3 | AC21: 632.56 | AD21: 0 | AE21: 229.86 | AF21: 0 | AG21: 0 | AH21: 0 | AI21: 6381.31 | AJ21: 2314.04 | AK21: 649.08 | AL21: 0 | AM21: 7183.86 | AN21: 60185.73 | AO21: 996.41 | AP21: 0 | AQ21: 2567.11 | AR21: 0 | AS21: 186.33 | AT21: 0 | AU21: 0 | AV21: 0 | AW21: 0 | AX21: 0 | AY21: 0 | AZ21: 0 | BA21: 0 | BB21: 0 | BC21: 0 | BD21: 0 | BE21: 0 | BF21: 0 | BG21: 0 | BH21: 0 | BI21: 0 | BJ21: 0 | BK21: 0 | BL21: 0 | BM21: 0 | BN21: 49.62 | BO21: 0 | BP21: 0 | BQ21: 0 | BR21: 0 | BS21: 0 | BT21: 0 | BU21: 0 | BV21: 0 | BW21: 0 | BX21: 0 | BY21: 2894.7 | BZ21: 6694.17
A22: 104年10月 | B22: 筆數 | C22: 9 | D22: 4 | E22: 4 | F22: 115 | G22: 1 | H22: 3 | I22: 19 | J22: 6 | K22: 1 | L22: 7 | M22: 0 | N22: 7 | O22: 9 | P22: 0 | Q22: 4 | R22: 0 | S22: 0 | T22: 13 | U22: 6 | V22: 0 | W22: 1 | X22: 0 | Y22: 0 | Z22: 1 | AA22: 50 | AB22: 34 | AC22: 6 | AD22: 0 | AE22: 0 | AF22: 0 | AG22: 0 | AH22: 0 | AI22: 47 | AJ22: 20 | AK22: 4 | AL22: 0 | AM22: 15 | AN22: 386 | AO22: 14 | AP22: 0 | AQ22: 2 | AR22: 0 | AS22: 92 | AT22: 2 | AU22: 0 | AV22: 0 | AW22: 0 | AX22: 0 | AY22: 0 | AZ22: 0 | BA22: 0 | BB22: 0 | BC22: 0 | BD22: 0 | BE22: 0 | BF22: 0 | BG22: 0 | BH22: 0 | BI22: 0 | BJ22: 0 | BK22: 0 | BL22: 0 | BM22: 0 | BN22: 0 | BO22: 0 | BP22: 0 | BQ22: 0 | BR22: 0 | BS22: 0 | BT22: 0 | BU22: 0 | BV22: 0 | BW22: 0 | BX22: 0 | BY22: 31 | BZ22: 141
B23: 面積(M2) | C23: 2213.41 | D23: 757.69 | E23: 1246.6 | F23: 19665.83 | G23: 310.99 | H23: 1137.78 | I23: 4015.75 | J23: 1174.55 | K23: 143.96 | L23: 1392.74 | M23: 0 | N23: 992.19 | O23: 1601.24 | P23: 0 | Q23: 723.83 | R23: 0 | S23: 0 | T23: 2218.51 | U23: 988.69 | V23: 0 | W23: 187.99 | X23: 0 | Y23: 0 | Z23: 171.91 | AA23: 10705.87 | AB23: 6457.11 | AC23: 995.41 | AD23: 0 | AE23: 0 | AF23: 0 | AG23: 0 | AH23: 0 | AI23: 8720.13 | AJ23: 3552.97 | AK23: 694.02 | AL23: 0 | AM23: 3076.5 | AN23: 73145.67 | AO23: 1304.19 | AP23: 0 | AQ23: 320.45 | AR23: 0 | AS23: 16433.69 | AT23: 167.5 | AU23: 0 | AV23: 0 | AW23: 0 | AX23: 0 | AY23: 0 | AZ23: 0 | BA23: 0 | BB23: 0 | BC23: 0 | BD23: 0 | BE23: 0 | BF23: 0 | BG23: 0 | BH23: 0 | BI23: 0 | BJ23: 0 | BK23: 0 | BL23: 0 | BM23: 0 | BN23: 0 | BO23: 0 | BP23: 0 | BQ23: 0 | BR23: 0 | BS23: 0 | BT23: 0 | BU23: 0 | BV23: 0 | BW23: 0 | BX23: 0 | BY23: 2064.82 | BZ23: 20290.65
A24: 104年11月 | B24: 筆數 | C24: 8 | D24: 59 | E24: 12 | F24: 62 | G24: 11 | H24: 3 | I24: 14 | J24: 1 | K24: 0 | L24: 1 | M24: 0 | N24: 0 | O24: 15 | P24: 1 | Q24: 3 | R24: 1 | S24: 0 | T24: 24 | U24: 1 | V24: 0 | W24: 0 | X24: 0 | Y24: 0 | Z24: 0 | AA24: 82 | AB24: 26 | AC24: 9 | AD24: 0 | AE24: 0 | AF24: 0 | AG24: 0 | AH24: 0 | AI24: 25 | AJ24: 17 | AK24: 25 | AL24: 0 | AM24: 61 | AN24: 461 | AO24: 3 | AP24: 0 | AQ24: 5 | AR24: 0 | AS24: 38 | AT24: 0 | AU24: 0 | AV24: 0 | AW24: 0 | AX24: 0 | AY24: 0 | AZ24: 0 | BA24: 0 | BB24: 0 | BC24: 0 | BD24: 0 | BE24: 0 | BF24: 0 | BG24: 0 | BH24: 0 | BI24: 0 | BJ24: 0 | BK24: 0 | BL24: 0 | BM24: 0 | BN24: 0 | BO24: 0 | BP24: 0 | BQ24: 0 | BR24: 0 | BS24: 0 | BT24: 0 | BU24: 1 | BV24: 0 | BW24: 0 | BX24: 0 | BY24: 11 | BZ24: 58
B25: 面積(M2) | C25: 2102.88 | D25: 9997.8 | E25: 2655.44 | F25: 10753.8 | G25: 4096.67 | H25: 1377.61 | I25: 3761.48 | J25: 186.69 | K25: 0 | L25: 183.97 | M25: 0 | N25: 0 | O25: 3063.29 | P25: 206.92 | Q25: 445.14 | R25: 155.04 | S25: 0 | T25: 4709.94 | U25: 158.96 | V25: 0 | W25: 0 | X25: 0 | Y25: 0 | Z25: 0 | AA25: 17816.92 | AB25: 4820.06 | AC25: 1465.72 | AD25: 0 | AE25: 0 | AF25: 0 | AG25: 0 | AH25: 0 | AI25: 5230.69 | AJ25: 3032.66 | AK25: 4523.09 | AL25: 0 | AM25: 12893.24 | AN25: 93638.01 | AO25: 309.16 | AP25: 0 | AQ25: 962.05 | AR25: 0 | AS25: 6795.77 | AT25: 0 | AU25: 0 | AV25: 0 | AW25: 0 | AX25: 0 | AY25: 0 | AZ25: 0 | BA25: 0 | BB25: 0 | BC25: 0 | BD25: 0 | BE25: 0 | BF25: 0 | BG25: 0 | BH25: 0 | BI25: 0 | BJ25: 0 | BK25: 0 | BL25: 0 | BM25: 0 | BN25: 0 | BO25: 0 | BP25: 0 | BQ25: 0 | BR25: 0 | BS25: 0 | BT25: 0 | BU25: 89.06 | BV25: 0 | BW25: 0 | BX25: 0 | BY25: 1151 | BZ25: 9307.04
A26: 104年12月 | B26: 筆數 | C26: 34 | D26: 46 | E26: 56 | F26: 230 | G26: 15 | H26: 6 | I26: 46 | J26: 1 | K26: 0 | L26: 16 | M26: 0 | N26: 4 | O26: 32 | P26: 3 | Q26: 6 | R26: 0 | S26: 0 | T26: 42 | U26: 2 | V26: 0 | W26: 9 | X26: 0 | Y26: 37 | Z26: 2 | AA26: 191 | AB26: 76 | AC26: 34 | AD26: 0 | AE26: 39 | AF26: 0 | AG26: 0 | AH26: 0 | AI26: 68 | AJ26: 40 | AK26: 49 | AL26: 0 | AM26: 74 | AN26: 1158 | AO26: 208 | AP26: 0 | AQ26: 595 | AR26: 0 | AS26: 88 | AT26: 3 | AU26: 0 | AV26: 0 | AW26: 0 | AX26: 0 | AY26: 0 | AZ26: 0 | BA26: 0 | BB26: 0 | BC26: 0 | BD26: 0 | BE26: 0 | BF26: 0 | BG26: 0 | BH26: 0 | BI26: 0 | BJ26: 0 | BK26: 0 | BL26: 0 | BM26: 1 | BN26: 4 | BO26: 0 | BP26: 0 | BQ26: 0 | BR26: 0 | BS26: 0 | BT26: 0 | BU26: 0 | BV26: 0 | BW26: 0 | BX26: 0 | BY26: 4 | BZ26: 903
B27: 面積(M3) | C27: 6545.77 | D27: 13429.63 | E27: 14600.68 | F27: 49800.95 | G27: 5612.93 | H27: 2006.47 | I27: 10583.07 | J27: 189.31 | K27: 0 | L27: 3038.31 | M27: 0 | N27: 549.51 | O27: 6237.97 | P27: 484.74 | Q27: 1189.34 | R27: 0 | S27: 0 | T27: 7631.41 | U27: 465.6 | V27: 0 | W27: 1299.85 | X27: 0 | Y27: 6147.07 | Z27: 411.14 | AA27: 36359.62 | AB27: 11188.49 | AC27: 5377.84 | AD27: 0 | AE27: 6485.87 | AF27: 0 | AG27: 0 | AH27: 0 | AI27: 15300.93 | AJ27: 7190.58 | AK27: 10302.67 | AL27: 0 | AM27: 15757.41 | AN27: 238187.16 | AO27: 49659.45 | AP27: 0 | AQ27: 36525.73 | AR27: 0 | AS27: 16790.16 | AT27: 702.83 | AU27: 0 | AV27: 0 | AW27: 0 | AX27: 0 | AY27: 0 | AZ27: 0 | BA27: 0 | BB27: 0 | BC27: 0 | BD27: 0 | BE27: 0 | BF27: 0 | BG27: 0 | BH27: 0 | BI27: 0 | BJ27: 0 | BK27: 0 | BL27: 0 | BM27: 185.01 | BN27: 223.55 | BO27: 0 | BP27: 0 | BQ27: 0 | BR27: 0 | BS27: 0 | BT27: 0 | BU27: 0 | BV27: 0 | BW27: 0 | BX27: 0 | BY27: 442.49 | BZ27: 104529.22
A28: 筆數合計 | C28: 152 | D28: 180 | E28: 127 | F28: 930 | G28: 71 | H28: 36 | I28: 289 | J28: 39 | K28: 15 | L28: 50 | M28: 38 | N28: 23 | O28: 170 | P28: 27 | Q28: 58 | R28: 34 | S28: 0 | T28: 208 | U28: 45 | V28: 0 | W28: 21 | X28: 0 | Y28: 90 | Z28: 84 | AA28: 604 | AB28: 379 | AC28: 169 | AD28: 0 | AE28: 43 | AF28: 0 | AG28: 0 | AH28: 0 | AI28: 342 | AJ28: 208 | AK28: 170 | AL28: 0 | AM28: 660 | AN28: 5262 | AO28: 236 | AP28: 26 | AQ28: 718 | AR28: 46 | AS28: 300 | AT28: 29 | AU28: 0 | AV28: 0 | AW28: 0 | AX28: 0 | AY28: 0 | AZ28: 0 | BA28: 0 | BB28: 0 | BC28: 0 | BD28: 0 | BE28: 0 | BF28: 0 | BG28: 0 | BH28: 0 | BI28: 0 | BJ28: 0 | BK28: 0 | BL28: 0 | BM28: 3 | BN28: 57 | BO28: 0 | BP28: 0 | BQ28: 0 | BR28: 0 | BS28: 0 | BT28: 0 | BU28: 1 | BV28: 0 | BW28: 0 | BX28: 0 | BY28: 159 | BZ28: 1575
A29: 面積(M2)合計 | C29: 35701.54 | D29: 39640.37 | E29: 35001.07 | F29: 177146.76 | G29: 25161.04 | H29: 13385.21 | I29: 63232.74 | J29: 8088.29 | K29: 2668.13 | L29: 8827.18 | M29: 10001.21 | N29: 3413.6 | O29: 33922.78 | P29: 5066.97 | Q29: 9863.93 | R29: 5696.03 | S29: 0 | T29: 39221.41 | U29: 7690.72 | V29: 0 | W29: 3382.58 | X29: 0 | Y29: 17629.9 | Z29: 14506.98 | AA29: 123110.58 | AB29: 70878.74 | AC29: 28127.86 | AD29: 0 | AE29: 7349.94 | AF29: 0 | AG29: 0 | AH29: 0 | AI29: 70827.83 | AJ29: 38800.16 | AK29: 31503.66 | AL29: 0 | AM29: 130667.06 | AN29: 1060514.3 | AO29: 52525.3 | AP29: 2311.93 | AQ29: 62632.71 | AR29: 3547.08 | AS29: 45922.06 | AT29: 6565.55 | AU29: 0 | AV29: 0 | AW29: 0 | AX29: 0 | AY29: 0 | AZ29: 0 | BA29: 0 | BB29: 0 | BC29: 0 | BD29: 0 | BE29: 0 | BF29: 0 | BG29: 0 | BH29: 0 | BI29: 0 | BJ29: 0 | BK29: 0 | BL29: 0 | BM29: 296.84 | BN29: 2827.79 | BO29: 0 | BP29: 0 | BQ29: 0 | BR29: 0 | BS29: 0 | BT29: 0 | BU29: 89.06 | BV29: 0 | BW29: 0 | BX29: 0 | BY29: 10052.15 | BZ29: 186770.47
A30: 備註 | B30: 1.資料來源：臺南市政府地政局
B31: 2.本表係統計所有權人為本國私法人，建物主要用途為住家用、商業用、住商用、見使用執照或見其他事項，建築完成日期自92年1月1日起
B32: 迄今，完成建物第一次登記後以買賣為登記原因移轉之建物筆數與面積(單位為平方公尺)。

Sheet 地政局(彙)104年-登記
A1: 臺南市建物第一次登記統計表
C2: 完成保存登記後第一次登記之筆數。面積(六層以下，含六層) | AO2: 完成保存登記後第一次登記之筆數。面積(七層以上)
C3: 東區 | D3: 南區 | E3: 北區 | F3: 安南區 | G3: 安平區 | H3: 中西區 | I3: 新營巿 | J3: 鹽水鎮 | K3: 白河鎮 | L3: 柳營鄉 | M3: 後壁鄉 | N3: 東山鄉 | O3: 麻豆鎮 | P3: 下營鄉 | Q3: 六甲鄉 | R3: 官田鄉 | S3: 大內鄉 | T3: 佳里鎮 | U3: 西港鄉 | V3: 七股鄉 | W3: 將軍鄉 | X3: 北門鄉 | Y3: 學甲鎮 | Z3: 新化鎮 | AA3: 善化鎮 | AB3: 新市鄉 | AC3: 安定鄉 | AD3: 山上鄉 | AE3: 玉井鄉 | AF3: 楠西鄉 | AG3: 南化鄉 | AH3: 左鎮鄉 | AI3: 仁德鄉 | AJ3: 歸仁鄉 | AK3: 關廟鄉 | AL3: 龍崎鄉 | AM3: 永康市 | AN3: 全市總計 | AO3: 東區 | AP3: 南區 | AQ3: 北區 | AR3: 安南區 | AS3: 安平區 | AT3: 中西區 | AU3: 新營巿 | AV3: 鹽水鎮 | AW3: 白河鎮 | AX3: 柳營鄉 | AY3: 後壁鄉 | AZ3: 東山鄉 | BA3: 麻豆鎮 | BB3: 下營鄉 | BC3: 六甲鄉 | BD3: 官田鄉 | BE3: 大內鄉 | BF3: 佳里鎮 | BG3: 西港鄉 | BH3: 七股鄉 | BI3: 將軍鄉 | BJ3: 北門鄉 | BK3: 學甲鎮 | BL3: 新化鎮 | BM3: 善化鎮 | BN3: 新市鄉 | BO3: 安定鄉 | BP3: 山上鄉 | BQ3: 玉井鄉 | BR3: 楠西鄉 | BS3: 南化鄉 | BT3: 左鎮鄉 | BU3: 仁德鄉 | BV3: 歸仁鄉 | BW3: 關廟鄉 | BX3: 龍崎鄉 | BY3: 永康市 | BZ3: 全市總計
A4: 104年1月 | B4: 筆數 | C4: 2 | D4: 4 | E4: 1 | F4: 163 | G4: 14 | H4: 0 | I4: 0 | J4: 0 | K4: 0 | L4: 2 | M4: 0 | N4: 0 | O4: 18 | P4: 0 | Q4: 1 | R4: 15 | S4: 0 | T4: 11 | U4: 16 | V4: 0 | W4: 0 | X4: 0 | Y4: 31 | Z4: 0 | AA4: 94 | AB4: 0 | AC4: 27 | AD4: 0 | AE4: 0 | AF4: 0 | AG4: 0 | AH4: 0 | AI4: 46 | AJ4: 4 | AK4: 10 | AL4: 0 | AM4: 110 | AN4: 569 | AO4: 0 | AP4: 0 | AQ4: 0 | AR4: 0 | AS4: 0 | AT4: 0 | AU4: 0 | AV4: 0 | AW4: 0 | AX4: 0 | AY4: 0 | AZ4: 0 | BA4: 0 | BB4: 0 | BC4: 0 | BD4: 0 | BE4: 0 | BF4: 0 | BG4: 0 | BH4: 0 | BI4: 0 | BJ4: 0 | BK4: 0 | BL4: 0 | BM4: 0 | BN4: 0 | BO4: 0 | BP4: 0 | BQ4: 0 | BR4: 0 | BS4: 0 | BT4: 0 | BU4: 0 | BV4: 0 | BW4: 0 | BX4: 0 | BY4: 1 | BZ4: 1
B5: 面積(M2) | C5: 511.25 | D5: 952.5 | E5: 193.94 | F5: 31895.7 | G5: 4681.35 | H5: 0 | I5: 0 | J5: 0 | K5: 0 | L5: 6511.61 | M5: 0 | N5: 0 | O5: 4792.52 | P5: 0 | Q5: 181.14 | R5: 5770.56 | S5: 0 | T5: 2485.34 | U5: 2982.43 | V5: 0 | W5: 0 | X5: 0 | Y5: 4658.93 | Z5: 0 | AA5: 19237.33 | AB5: 0 | AC5: 6900.38 | AD5: 0 | AE5: 0 | AF5: 0 | AG5: 0 | AH5: 0 | AI5: 15934.8 | AJ5: 1032.48 | AK5: 1960.3 | AL5: 0 | AM5: 23626.85 | AN5: 134309.41 | AO5: 0 | AP5: 0 | AQ5: 0 | AR5: 0 | AS5: 0 | AT5: 0 | AU5: 0 | AV5: 0 | AW5: 0 | AX5: 0 | AY5: 0 | AZ5: 0 | BA5: 0 | BB5: 0 | BC5: 0 | BD5: 0 | BE5: 0 | BF5: 0 | BG5: 0 | BH5: 0 | BI5: 0 | BJ5: 0 | BK5: 0 | BL5: 0 | BM5: 0 | BN5: 0 | BO5: 0 | BP5: 0 | BQ5: 0 | BR5: 0 | BS5: 0 | BT5: 0 | BU5: 0 | BV5: 0 | BW5: 0 | BX5: 0 | BY5: 4988.74 | BZ5: 4988.74
A6: 104年2月 | B6: 筆數 | C6: 19 | D6: 35 | E6: 31 | F6: 79 | G6: 4 | H6: 0 | I6: 13 | J6: 0 | K6: 0 | L6: 0 | M6: 0 | N6: 0 | O6: 29 | P6: 0 | Q6: 48 | R6: 0 | S6: 0 | T6: 19 | U6: 1 | V6: 0 | W6: 11 | X6: 0 | Y6: 1 | Z6: 26 | AA6: 82 | AB6: 18 | AC6: 9 | AD6: 0 | AE6: 0 | AF6: 0 | AG6: 0 | AH6: 0 | AI6: 6 | AJ6: 3 | AK6: 12 | AL6: 0 | AM6: 47 | AN6: 493 | AO6: 0 | AP6: 0 | AQ6: 0 | AR6: 0 | AS6: 0 | AT6: 0 | AU6: 0 | AV6: 0 | AW6: 0 | AX6: 0 | AY6: 0 | AZ6: 0 | BA6: 0 | BB6: 0 | BC6: 0 | BD6: 0 | BE6: 0 | BF6: 0 | BG6: 0 | BH6: 0 | BI6: 0 | BJ6: 0 | BK6: 0 | BL6: 0 | BM6: 0 | BN6: 0 | BO6: 0 | BP6: 0 | BQ6: 0 | BR6: 0 | BS6: 0 | BT6: 0 | BU6: 0 | BV6: 0 | BW6: 0 | BX6: 0 | BY6: 0 | BZ6: 0
B7: 面積(M2) | C7: 5011.44 | D7: 7381.03 | E7: 9840.76 | F7: 32391.57 | G7: 1590.17 | H7: 0 | I7: 10219.64 | J7: 0 | K7: 0 | L7: 0 | M7: 0 | N7: 0 | O7: 5641.37 | P7: 0 | Q7: 7593.92 | R7: 0 | S7: 0 | T7: 5892.67 | U7: 1491.89 | V7: 0 | W7: 1883.41 | X7: 0 | Y7: 6.99 | Z7: 5396.18 | AA7: 46033.69 | AB7: 3539.38 | AC7: 3942.88 | AD7: 0 | AE7: 0 | AF7: 0 | AG7: 0 | AH7: 0 | AI7: 19343.03 | AJ7: 615.15 | AK7: 2019.01 | AL7: 0 | AM7: 25619.83 | AN7: 195454.01 | AO7: 0 | AP7: 0 | AQ7: 0 | AR7: 0 | AS7: 0 | AT7: 0 | AU7: 0 | AV7: 0 | AW7: 0 | AX7: 0 | AY7: 0 | AZ7: 0 | BA7: 0 | BB7: 0 | BC7: 0 | BD7: 0 | BE7: 0 | BF7: 0 | BG7: 0 | BH7: 0 | BI7: 0 | BJ7: 0 | BK7: 0 | BL7: 0 | BM7: 0 | BN7: 0 | BO7: 0 | BP7: 0 | BQ7: 0 | BR7: 0 | BS7: 0 | BT7: 0 | BU7: 0 | BV7: 0 | BW7: 0 | BX7: 0 | BY7: 0 | BZ7: 0
A8: 104年3月 | B8: 筆數 | C8: 2 | D8: 18 | E8: 6 | F8: 127 | G8: 2 | H8: 1 | I8: 38 | J8: 0 | K8: 4 | L8: 0 | M8: 0 | N8: 0 | O8: 1 | P8: 1 | Q8: 48 | R8: 0 | S8: 0 | T8: 14 | U8: 16 | V8: 0 | W8: 0 | X8: 0 | Y8: 30 | Z8: 0 | AA8: 10 | AB8: 41 | AC8: 9 | AD8: 1 | AE8: 0 | AF8: 0 | AG8: 0 | AH8: 0 | AI8: 9 | AJ8: 0 | AK8: 15 | AL8: 2 | AM8: 10 | AN8: 405 | AO8: 0 | AP8: 0 | AQ8: 29 | AR8: 0 | AS8: 0 | AT8: 30 | AU8: 0 | AV8: 0 | AW8: 0 | AX8: 0 | AY8: 0 | AZ8: 0 | BA8: 0 | BB8: 0 | BC8: 0 | BD8: 0 | BE8: 0 | BF8: 0 | BG8: 0 | BH8: 0 | BI8: 0 | BJ8: 0 | BK8: 0 | BL8: 0 | BM8: 0 | BN8: 0 | BO8: 0 | BP8: 0 | BQ8: 0 | BR8: 0 | BS8: 0 | BT8: 0 | BU8: 0 | BV8: 0 | BW8: 0 | BX8: 0 | BY8: 0 | BZ8: 59
B9: 面積(M2) | C9: 596.49 | D9: 3024.28 | E9: 2034.65 | F9: 20506.97 | G9: 585.85 | H9: 683.52 | I9: 18579.19 | J9: 0 | K9: 803.89 | L9: 0 | M9: 0 | N9: 0 | O9: 415.81 | P9: 1274.57 | Q9: 89111.39 | R9: 0 | S9: 0 | T9: 2630.52 | U9: 2343.88 | V9: 0 | W9: 0 | X9: 0 | Y9: 11162.7 | Z9: 0 | AA9: 2651.48 | AB9: 50913.23 | AC9: 1158.87 | AD9: 4456.02 | AE9: 0 | AF9: 0 | AG9: 0 | AH9: 0 | AI9: 2745.86 | AJ9: 0 | AK9: 3559.57 | AL9: 1160.12 | AM9: 2781.66 | AN9: 223180.52 | AO9: 0 | AP9: 0 | AQ9: 1367.46 | AR9: 0 | AS9: 0 | AT9: 7191.59 | AU9: 0 | AV9: 0 | AW9: 0 | AX9: 0 | AY9: 0 | AZ9: 0 | BA9: 0 | BB9: 0 | BC9: 0 | BD9: 0 | BE9: 0 | BF9: 0 | BG9: 0 | BH9: 0 | BI9: 0 | BJ9: 0 | BK9: 0 | BL9: 0 | BM9: 0 | BN9: 0 | BO9: 0 | BP9: 0 | BQ9: 0 | BR9: 0 | BS9: 0 | BT9: 0 | BU9: 0 | BV9: 0 | BW9: 0 | BX9: 0 | BY9: 0 | BZ9: 8559.05
A10: 104年4月 | B10: 筆數 | C10: 66 | D10: 23 | E10: 1 | F10: 85 | G10: 5 | H10: 1 | I10: 10 | J10: 0 | K10: 1 | L10: 0 | M10: 0 | N10: 0 | O10: 4 | P10: 0 | Q10: 0 | R10: 3 | S10: 0 | T10: 8 | U10: 6 | V10: 0 | W10: 0 | X10: 0 | Y10: 1 | Z10: 3 | AA10: 9 | AB10: 43 | AC10: 15 | AD10: 3 | AE10: 0 | AF10: 2 | AG10: 0 | AH10: 0 | AI10: 2 | AJ10: 20 | AK10: 25 | AL10: 0 | AM10: 49 | AN10: 385 | AO10: 0 | AP10: 0 | AQ10: 96 | AR10: 0 | AS10: 0 | AT10: 0 | AU10: 0 | AV10: 0 | AW10: 0 | AX10: 0 | AY10: 0 | AZ10: 0 | BA10: 0 | BB10: 0 | BC10: 0 | BD10: 0 | BE10: 0 | BF10: 0 | BG10: 0 | BH10: 0 | BI10: 0 | BJ10: 0 | BK10: 0 | BL10: 0 | BM10: 0 | BN10: 0 | BO10: 0 | BP10: 0 | BQ10: 0 | BR10: 0 | BS10: 0 | BT10: 0 | BU10: 0 | BV10: 0 | BW10: 0 | BX10: 0 | BY10: 0 | BZ10: 96
B11: 面積(M2) | C11: 12482.83 | D11: 4074.4 | E11: 278.79 | F11: 17315.62 | G11: 1698.81 | H11: 545.57 | I11: 2257.56 | J11: 0 | K11: 424.39 | L11: 0 | M11: 0 | N11: 0 | O11: 992.36 | P11: 0 | Q11: 0 | R11: 41957.29 | S11: 0 | T11: 2383.09 | U11: 1152.39 | V11: 0 | W11: 0 | X11: 0 | Y11: 204.82 | Z11: 4023 | AA11: 1804.69 | AB11: 17200.33 | AC11: 4629.39 | AD11: 14202.23 | AE11: 0 | AF11: 749.54 | AG11: 0 | AH11: 0 | AI11: 4755.63 | AJ11: 21652.01 | AK11: 4279.35 | AL11: 0 | AM11: 37389.51 | AN11: 196453.6 | AO11: 0 | AP11: 0 | AQ11: 25309.91 | AR11: 0 | AS11: 0 | AT11: 0 | AU11: 0 | AV11: 0 | AW11: 0 | AX11: 0 | AY11: 0 | AZ11: 0 | BA11: 0 | BB11: 0 | BC11: 0 | BD11: 0 | BE11: 0 | BF11: 0 | BG11: 0 | BH11: 0 | BI11: 0 | BJ11: 0 | BK11: 0 | BL11: 0 | BM11: 0 | BN11: 0 | BO11: 0 | BP11: 0 | BQ11: 0 | BR11: 0 | BS11: 0 | BT11: 0 | BU11: 0 | BV11: 0 | BW11: 0 | BX11: 0 | BY11: 0 | BZ11: 25309.91
A12: 104年5月 | B12: 筆數 | C12: 15 | D12: 0 | E12: 1 | F12: 52 | G12: 1 | H12: 9 | I12: 18 | J12: 0 | K12: 1 | L12: 8 | M12: 0 | N12: 0 | O12: 38 | P12: 0 | Q12: 0 | R12: 16 | S12: 0 | T12: 55 | U12: 0 | V12: 0 | W12: 0 | X12: 0 | Y12: 1 | Z12: 13 | AA12: 7 | AB12: 70 | AC12: 14 | AD12: 0 | AE12: 0 | AF12: 0 | AG12: 0 | AH12: 0 | AI12: 13 | AJ12: 44 | AK12: 26 | AL12: 0 | AM12: 54 | AN12: 456 | AO12: 0 | AP12: 0 | AQ12: 0 | AR12: 0 | AS12: 0 | AT12: 2 | AU12: 0 | AV12: 0 | AW12: 0 | AX12: 0 | AY12: 0 | AZ12: 0 | BA12: 0 | BB12: 0 | BC12: 0 | BD12: 0 | BE12: 0 | BF12: 0 | BG12: 0 | BH12: 0 | BI12: 0 | BJ12: 0 | BK12: 0 | BL12: 0 | BM12: 0 | BN12: 0 | BO12: 0 | BP12: 0 | BQ12: 0 | BR12: 0 | BS12: 0 | BT12: 0 | BU12: 0 | BV12: 0 | BW12: 0 | BX12: 0 | BY12: 0 | BZ12: 2
B13: 面積(M2) | C13: 4566.33 | D13: 0 | E13: 330.44 | F13: 15670.05 | G13: 217.17 | H13: 2403.5 | I13: 3704.55 | J13: 0 | K13: 923.82 | L13: 1703.38 | M13: 0 | N13: 0 | O13: 6689.88 | P13: 0 | Q13: 0 | R13: 3130.97 | S13: 0 | T13: 9778.16 | U13: 0 | V13: 0 | W13: 0 | X13: 0 | Y13: 989.02 | Z13: 2415.21 | AA13: 1523.88 | AB13: 12718.75 | AC13: 2167.15 | AD13: 0 | AE13: 0 | AF13: 0 | AG13: 0 | AH13: 0 | AI13: 7037.37 | AJ13: 15043.3 | AK13: 7455.46 | AL13: 0 | AM13: 26591.75 | AN13: 125060.14 | AO13: 0 | AP13: 0 | AQ13: 0 | AR13: 0 | AS13: 0 | AT13: 1758.99 | AU13: 0 | AV13: 0 | AW13: 0 | AX13: 0 | AY13: 0 | AZ13: 0 | BA13: 0 | BB13: 0 | BC13: 0 | BD13: 0 | BE13: 0 | BF13: 0 | BG13: 0 | BH13: 0 | BI13: 0 | BJ13: 0 | BK13: 0 | BL13: 0 | BM13: 0 | BN13: 0 | BO13: 0 | BP13: 0 | BQ13: 0 | BR13: 0 | BS13: 0 | BT13: 0 | BU13: 0 | BV13: 0 | BW13: 0 | BX13: 0 | BY13: 0 | BZ13: 1758.99
A14: 104年6月 | B14: 筆數 | C14: 17 | D14: 28 | E14: 9 | F14: 43 | G14: 10 | H14: 5 | I14: 21 | J14: 0 | K14: 0 | L14: 0 | M14: 0 | N14: 16 | O14: 20 | P14: 7 | Q14: 8 | R14: 12 | S14: 0 | T14: 4 | U14: 4 | V14: 0 | W14: 0 | X14: 0 | Y14: 7 | Z14: 43 | AA14: 136 | AB14: 21 | AC14: 0 | AD14: 0 | AE14: 0 | AF14: 0 | AG14: 0 | AH14: 0 | AI14: 2 | AJ14: 42 | AK14: 20 | AL14: 0 | AM14: 129 | AN14: 604 | AO14: 0 | AP14: 0 | AQ14: 0 | AR14: 0 | AS14: 0 | AT14: 0 | AU14: 0 | AV14: 0 | AW14: 0 | AX14: 0 | AY14: 0 | AZ14: 0 | BA14: 0 | BB14: 0 | BC14: 0 | BD14: 0 | BE14: 0 | BF14: 0 | BG14: 0 | BH14: 0 | BI14: 0 | BJ14: 0 | BK14: 0 | BL14: 0 | BM14: 0 | BN14: 70 | BO14: 0 | BP14: 0 | BQ14: 0 | BR14: 0 | BS14: 0 | BT14: 0 | BU14: 0 | BV14: 0 | BW14: 0 | BX14: 0 | BY14: 0 | BZ14: 70
B15: 面積(M2) | C15: 4269.14 | D15: 6806.85 | E15: 2414.83 | F15: 9753.73 | G15: 9914.04 | H15: 2133.91 | I15: 4231.94 | J15: 0 | K15: 0 | L15: 0 | M15: 0 | N15: 2399.78 | O15: 3838.88 | P15: 1292.03 | Q15: 1690.58 | R15: 4278.94 | S15: 0 | T15: 842.72 | U15: 718 | V15: 0 | W15: 0 | X15: 0 | Y15: 2323.14 | Z15: 7444.49 | AA15: 36194.88 | AB15: 3879.5 | AC15: 0 | AD15: 0 | AE15: 0 | AF15: 0 | AG15: 0 | AH15: 0 | AI15: 4310.39 | AJ15: 4124.4 | AK15: 3601.19 | AL15: 0 | AM15: 27478.33 | AN15: 143941.69 | AO15: 0 | AP15: 0 | AQ15: 0 | AR15: 0 | AS15: 0 | AT15: 0 | AU15: 0 | AV15: 0 | AW15: 0 | AX15: 0 | AY15: 0 | AZ15: 0 | BA15: 0 | BB15: 0 | BC15: 0 | BD15: 0 | BE15: 0 | BF15: 0 | BG15: 0 | BH15: 0 | BI15: 0 | BJ15: 0 | BK15: 0 | BL15: 0 | BM15: 0 | BN15: 37390.38 | BO15: 0 | BP15: 0 | BQ15: 0 | BR15: 0 | BS15: 0 | BT15: 0 | BU15: 0 | BV15: 0 | BW15: 0 | BX15: 0 | BY15: 0 | BZ15: 37390.38
A16: 104年7月 | B16: 筆數 | C16: 10 | D16: 29 | E16: 11 | F16: 32 | G16: 10 | H16: 5 | I16: 43 | J16: 0 | K16: 0 | L16: 0 | M16: 0 | N16: 0 | O16: 1 | P16: 0 | Q16: 12 | R16: 9 | S16: 0 | T16: 47 | U16: 6 | V16: 0 | W16: 0 | X16: 0 | Y16: 4 | Z16: 3 | AA16: 81 | AB16: 57 | AC16: 0 | AD16: 0 | AE16: 6 | AF16: 0 | AG16: 0 | AH16: 0 | AI16: 66 | AJ16: 33 | AK16: 1 | AL16: 0 | AM16: 39 | AN16: 505 | AO16: 0 | AP16: 0 | AQ16: 0 | AR16: 0 | AS16: 0 | AT16: 0 | AU16: 0 | AV16: 0 | AW16: 0 | AX16: 0 | AY16: 0 | AZ16: 0 | BA16: 1 | BB16: 0 | BC16: 0 | BD16: 0 | BE16: 0 | BF16: 0 | BG16: 0 | BH16: 0 | BI16: 0 | BJ16: 0 | BK16: 0 | BL16: 0 | BM16: 0 | BN16: 67 | BO16: 0 | BP16: 0 | BQ16: 0 | BR16: 0 | BS16: 0 | BT16: 0 | BU16: 0 | BV16: 0 | BW16: 0 | BX16: 0 | BY16: 0 | BZ16: 68
B17: 面積(M2) | C17: 2603.74 | D17: 4974.26 | E17: 2392.77 | F17: 5837.32 | G17: 3096.94 | H17: 4548.43 | I17: 10194.35 | J17: 0 | K17: 0 | L17: 0 | M17: 0 | N17: 0 | O17: 2802.28 | P17: 0 | Q17: 2441.66 | R17: 1414.25 | S17: 0 | T17: 9286.17 | U17: 956.83 | V17: 0 | W17: 0 | X17: 0 | Y17: 654.4 | Z17: 2617.83 | AA17: 15741.27 | AB17: 12202.2 | AC17: 0 | AD17: 0 | AE17: 1297.34 | AF17: 0 | AG17: 0 | AH17: 0 | AI17: 13592.49 | AJ17: 6637 | AK17: 206.5 | AL17: 0 | AM17: 22112.23 | AN17: 125610.26 | AO17: 0 | AP17: 0 | AQ17: 0 | AR17: 0 | AS17: 0 | AT17: 0 | AU17: 0 | AV17: 0 | AW17: 0 | AX17: 0 | AY17: 0 | AZ17: 0 | BA17: 17116.8 | BB17: 0 | BC17: 0 | BD17: 0 | BE17: 0 | BF17: 0 | BG17: 0 | BH17: 0 | BI17: 0 | BJ17: 0 | BK17: 0 | BL17: 0 | BM17: 0 | BN17: 2217.92 | BO17: 0 | BP17: 0 | BQ17: 0 | BR17: 0 | BS17: 0 | BT17: 0 | BU17: 0 | BV17: 0 | BW17: 0 | BX17: 0 | BY17: 0 | BZ17: 19334.72
A18: 104年8月 | B18: 筆數 | C18: 3 | D18: 58 | E18: 4 | F18: 133 | G18: 12 | H18: 0 | I18: 28 | J18: 10 | K18: 1 | L18: 0 | M18: 0 | N18: 15 | O18: 10 | P18: 0 | Q18: 1 | R18: 0 | S18: 0 | T18: 0 | U18: 0 | V18: 0 | W18: 0 | X18: 0 | Y18: 1 | Z18: 1 | AA18: 6 | AB18: 3 | AC18: 10 | AD18: 29 | AE18: 0 | AF18: 0 | AG18: 0 | AH18: 0 | AI18: 79 | AJ18: 6 | AK18: 9 | AL18: 0 | AM18: 40 | AN18: 459 | AO18: 0 | AP18: 0 | AQ18: 0 | AR18: 0 | AS18: 0 | AT18: 0 | AU18: 0 | AV18: 0 | AW18: 0 | AX18: 0 | AY18: 0 | AZ18: 0 | BA18: 0 | BB18: 0 | BC18: 0 | BD18: 0 | BE18: 0 | BF18: 0 | BG18: 0 | BH18: 0 | BI18: 0 | BJ18: 0 | BK18: 0 | BL18: 0 | BM18: 0 | BN18: 0 | BO18: 0 | BP18: 0 | BQ18: 0 | BR18: 0 | BS18: 0 | BT18: 0 | BU18: 0 | BV18: 0 | BW18: 0 | BX18: 0 | BY18: 96 | BZ18: 96
B19: 面積(M2) | C19: 1235.85 | D19: 10890.22 | E19: 2078.52 | F19: 21350.13 | G19: 3526.95 | H19: 0 | I19: 5184.93 | J19: 2076.5 | K19: 167.13 | L19: 0 | M19: 0 | N19: 2068.31 | O19: 3572.39 | P19: 0 | Q19: 199.59 | R19: 0 | S19: 0 | T19: 0 | U19: 0 | V19: 0 | W19: 0 | X19: 0 | Y19: 618 | Z19: 3809.94 | AA19: 3346.7 | AB19: 11674.45 | AC19: 3456.72 | AD19: 4826.66 | AE19: 0 | AF19: 0 | AG19: 0 | AH19: 0 | AI19: 15030.42 | AJ19: 1328.75 | AK19: 1636.72 | AL19: 0 | AM19: 24165.88 | AN19: 122244.76 | AO19: 0 | AP19: 0 | AQ19: 0 | AR19: 0 | AS19: 0 | AT19: 0 | AU19: 0 | AV19: 0 | AW19: 0 | AX19: 0 | AY19: 0 | AZ19: 0 | BA19: 0 | BB19: 0 | BC19: 0 | BD19: 0 | BE19: 0 | BF19: 0 | BG19: 0 | BH19: 0 | BI19: 0 | BJ19: 0 | BK19: 0 | BL19: 0 | BM19: 0 | BN19: 0 | BO19: 0 | BP19: 0 | BQ19: 0 | BR19: 0 | BS19: 0 | BT19: 0 | BU19: 0 | BV19: 0 | BW19: 0 | BX19: 0 | BY19: 4538.4 | BZ19: 4538.4
A20: 104年9月 | B20: 筆數 | C20: 1 | D20: 25 | E20: 1 | F20: 73 | G20: 13 | H20: 8 | I20: 28 | J20: 6 | K20: 0 | L20: 8 | M20: 0 | N20: 0 | O20: 0 | P20: 13 | Q20: 0 | R20: 0 | S20: 0 | T20: 25 | U20: 0 | V20: 0 | W20: 0 | X20: 0 | Y20: 0 | Z20: 0 | AA20: 15 | AB20: 116 | AC20: 16 | AD20: 9 | AE20: 0 | AF20: 0 | AG20: 0 | AH20: 0 | AI20: 21 | AJ20: 29 | AK20: 20 | AL20: 0 | AM20: 43 | AN20: 470 | AO20: 28 | AP20: 0 | AQ20: 0 | AR20: 0 | AS20: 125 | AT20: 0 | AU20: 0 | AV20: 0 | AW20: 0 | AX20: 0 | AY20: 0 | AZ20: 0 | BA20: 0 | BB20: 0 | BC20: 0 | BD20: 0 | BE20: 0 | BF20: 0 | BG20: 0 | BH20: 0 | BI20: 0 | BJ20: 0 | BK20: 0 | BL20: 0 | BM20: 0 | BN20: 0 | BO20: 0 | BP20: 0 | BQ20: 0 | BR20: 0 | BS20: 0 | BT20: 0 | BU20: 0 | BV20: 0 | BW20: 0 | BX20: 0 | BY20: 62 | BZ20: 215
B21: 面積(M2) | C21: 47.59 | D21: 4130.46 | E21: 12214.51 | F21: 14112.23 | G21: 6312.41 | H21: 2756.3 | I21: 4461.42 | J21: 6918.67 | K21: 0 | L21: 1571.45 | M21: 0 | N21: 0 | O21: 0 | P21: 2696.29 | Q21: 0 | R21: 0 | S21: 0 | T21: 13283.41 | U21: 0 | V21: 0 | W21: 0 | X21: 0 | Y21: 0 | Z21: 0 | AA21: 3553.42 | AB21: 25386.76 | AC21: 2178.33 | AD21: 1394.35 | AE21: 0 | AF21: 0 | AG21: 0 | AH21: 0 | AI21: 11682.74 | AJ21: 5252.12 | AK21: 3653.8 | AL21: 0 | AM21: 14313.76 | AN21: 135920.02 | AO21: 2757.11 | AP21: 0 | AQ21: 0 | AR21: 0 | AS21: 23728.61 | AT21: 0 | AU21: 0 | AV21: 0 | AW21: 0 | AX21: 0 | AY21: 0 | AZ21: 0 | BA21: 0 | BB21: 0 | BC21: 0 | BD21: 0 | BE21: 0 | BF21: 0 | BG21: 0 | BH21: 0 | BI21: 0 | BJ21: 0 | BK21: 0 | BL21: 0 | BM21: 0 | BN21: 0 | BO21: 0 | BP21: 0 | BQ21: 0 | BR21: 0 | BS21: 0 | BT21: 0 | BU21: 0 | BV21: 0 | BW21: 0 | BX21: 0 | BY21: 4971.59 | BZ21: 31457.31
A22: 104年10月 | B22: 筆數 | C22: 12 | D22: 23 | E22: 24 | F22: 31 | G22: 2 | H22: 17 | I22: 17 | J22: 0 | K22: 0 | L22: 1 | M22: 0 | N22: 0 | O22: 6 | P22: 0 | Q22: 2 | R22: 0 | S22: 0 | T22: 16 | U22: 0 | V22: 2 | W22: 0 | X22: 0 | Y22: 9 | Z22: 5 | AA22: 16 | AB22: 1 | AC22: 20 | AD22: 2 | AE22: 0 | AF22: 0 | AG22: 0 | AH22: 0 | AI22: 31 | AJ22: 3 | AK22: 11 | AL22: 0 | AM22: 15 | AN22: 266 | AO22: 0 | AP22: 0 | AQ22: 0 | AR22: 0 | AS22: 78 | AT22: 0 | AU22: 0 | AV22: 0 | AW22: 0 | AX22: 0 | AY22: 0 | AZ22: 0 | BA22: 0 | BB22: 0 | BC22: 0 | BD22: 0 | BE22: 0 | BF22: 0 | BG22: 0 | BH22: 0 | BI22: 0 | BJ22: 0 | BK22: 0 | BL22: 0 | BM22: 0 | BN22: 0 | BO22: 0 | BP22: 0 | BQ22: 0 | BR22: 0 | BS22: 0 | BT22: 0 | BU22: 0 | BV22: 0 | BW22: 0 | BX22: 0 | BY22: 0 | BZ22: 78
B23: 面積(M2) | C23: 4193.73 | D23: 4324.45 | E23: 2203.48 | F23: 7300.89 | G23: 3270.41 | H23: 6283.54 | I23: 39119.61 | J23: 0 | K23: 0 | L23: 449.85 | M23: 0 | N23: 0 | O23: 1148.55 | P23: 0 | Q23: 457.06 | R23: 0 | S23: 0 | T23: 3154.33 | U23: 0 | V23: 396.21 | W23: 0 | X23: 0 | Y23: 1595.03 | Z23: 1040.32 | AA23: 3607.24 | AB23: 725.36 | AC23: 3323.16 | AD23: 359.4 | AE23: 0 | AF23: 0 | AG23: 0 | AH23: 0 | AI23: 6551.4 | AJ23: 695.62 | AK23: 2388.12 | AL23: 0 | AM23: 6960.6 | AN23: 99548.36 | AO23: 0 | AP23: 0 | AQ23: 0 | AR23: 0 | AS23: 16473.4 | AT23: 0 | AU23: 0 | AV23: 0 | AW23: 0 | AX23: 0 | AY23: 0 | AZ23: 0 | BA23: 0 | BB23: 0 | BC23: 0 | BD23: 0 | BE23: 0 | BF23: 0 | BG23: 0 | BH23: 0 | BI23: 0 | BJ23: 0 | BK23: 0 | BL23: 0 | BM23: 0 | BN23: 0 | BO23: 0 | BP23: 0 | BQ23: 0 | BR23: 0 | BS23: 0 | BT23: 0 | BU23: 0 | BV23: 0 | BW23: 0 | BX23: 0 | BY23: 0 | BZ23: 16473.4
A24: 104年11月 | B24: 筆數 | C24: 20 | D24: 2 | E24: 6 | F24: 56 | G24: 0 | H24: 1 | I24: 3 | J24: 1 | K24: 0 | L24: 28 | M24: 0 | N24: 0 | O24: 12 | P24: 0 | Q24: 23 | R24: 1 | S24: 0 | T24: 29 | U24: 0 | V24: 0 | W24: 0 | X24: 0 | Y24: 1 | Z24: 0 | AA24: 117 | AB24: 53 | AC24: 6 | AD24: 1 | AE24: 38 | AF24: 0 | AG24: 0 | AH24: 0 | AI24: 16 | AJ24: 2 | AK24: 45 | AL24: 0 | AM24: 75 | AN24: 536 | AO24: 0 | AP24: 0 | AQ24: 0 | AR24: 0 | AS24: 0 | AT24: 0 | AU24: 0 | AV24: 0 | AW24: 0 | AX24: 0 | AY24: 0 | AZ24: 0 | BA24: 0 | BB24: 0 | BC24: 0 | BD24: 0 | BE24: 0 | BF24: 0 | BG24: 0 | BH24: 0 | BI24: 0 | BJ24: 0 | BK24: 0 | BL24: 0 | BM24: 0 | BN24: 0 | BO24: 0 | BP24: 0 | BQ24: 0 | BR24: 0 | BS24: 0 | BT24: 0 | BU24: 0 | BV24: 0 | BW24: 0 | BX24: 0 | BY24: 0 | BZ24: 0
B25: 面積(M2) | C25: 1230.96 | D25: 6443.45 | E25: 1572.9 | F25: 13833.96 | G25: 0 | H25: 272.81 | I25: 834.33 | J25: 358.72 | K25: 0 | L25: 5042.28 | M25: 0 | N25: 0 | O25: 1906.69 | P25: 0 | Q25: 4692.67 | R25: 1441.6 | S25: 0 | T25: 5358.3 | U25: 0 | V25: 0 | W25: 0 | X25: 0 | Y25: 852.19 | Z25: 0 | AA25: 27558.58 | AB25: 6301.97 | AC25: 784.56 | AD25: 2697.28 | AE25: 6255.36 | AF25: 0 | AG25: 0 | AH25: 0 | AI25: 2833.24 | AJ25: 687.79 | AK25: 14634.02 | AL25: 0 | AM25: 18148.93 | AN25: 123742.59 | AO25: 0 | AP25: 0 | AQ25: 0 | AR25: 0 | AS25: 0 | AT25: 0 | AU25: 0 | AV25: 0 | AW25: 0 | AX25: 0 | AY25: 0 | AZ25: 0 | BA25: 0 | BB25: 0 | BC25: 0 | BD25: 0 | BE25: 0 | BF25: 0 | BG25: 0 | BH25: 0 | BI25: 0 | BJ25: 0 | BK25: 0 | BL25: 0 | BM25: 0 | BN25: 0 | BO25: 0 | BP25: 0 | BQ25: 0 | BR25: 0 | BS25: 0 | BT25: 0 | BU25: 0 | BV25: 0 | BW25: 0 | BX25: 0 | BY25: 0 | BZ25: 0
A26: 104年12月 | B26: 筆數 | C26: 9 | D26: 36 | E26: 36 | F26: 288 | G26: 5 | H26: 0 | I26: 34 | J26: 0 | K26: 0 | L26: 3 | M26: 1 | N26: 0 | O26: 37 | P26: 0 | Q26: 0 | R26: 21 | S26: 0 | T26: 17 | U26: 0 | V26: 0 | W26: 25 | X26: 0 | Y26: 59 | Z26: 0 | AA26: 47 | AB26: 31 | AC26: 36 | AD26: 0 | AE26: 0 | AF26: 0 | AG26: 0 | AH26: 0 | AI26: 50 | AJ26: 116 | AK26: 39 | AL26: 0 | AM26: 72 | AN26: 962 | AO26: 250 | AP26: 0 | AQ26: 1247 | AR26: 0 | AS26: 0 | AT26: 0 | AU26: 0 | AV26: 0 | AW26: 0 | AX26: 0 | AY26: 0 | AZ26: 0 | BA26: 0 | BB26: 0 | BC26: 0 | BD26: 0 | BE26: 0 | BF26: 0 | BG26: 0 | BH26: 0 | BI26: 0 | BJ26: 0 | BK26: 0 | BL26: 0 | BM26: 0 | BN26: 0 | BO26: 0 | BP26: 0 | BQ26: 0 | BR26: 0 | BS26: 0 | BT26: 0 | BU26: 0 | BV26: 0 | BW26: 0 | BX26: 0 | BY26: 0 | BZ26: 1497
B27: 面積(M2) | C27: 1917.47 | D27: 6338.36 | E27: 13370.97 | F27: 76014.55 | G27: 1927.64 | H27: 0 | I27: 7360.39 | J27: 0 | K27: 0 | L27: 7100.87 | M27: 10501.34 | N27: 0 | O27: 7492.48 | P27: 0 | Q27: 0 | R27: 3398.15 | S27: 0 | T27: 3240.84 | U27: 0 | V27: 0 | W27: 3564.04 | X27: 0 | Y27: 10616.61 | Z27: 0 | AA27: 11680.9 | AB27: 5503.98 | AC27: 6524.78 | AD27: 0 | AE27: 0 | AF27: 0 | AG27: 0 | AH27: 0 | AI27: 13192.69 | AJ27: 39759.35 | AK27: 5651.1 | AL27: 0 | AM27: 18544.61 | AN27: 253701.12 | AO27: 63871.63 | AP27: 0 | AQ27: 79107.18 | AR27: 0 | AS27: 0 | AT27: 0 | AU27: 0 | AV27: 0 | AW27: 0 | AX27: 0 | AY27: 0 | AZ27: 0 | BA27: 0 | BB27: 0 | BC27: 0 | BD27: 0 | BE27: 0 | BF27: 0 | BG27: 0 | BH27: 0 | BI27: 0 | BJ27: 0 | BK27: 0 | BL27: 0 | BM27: 0 | BN27: 0 | BO27: 0 | BP27: 0 | BQ27: 0 | BR27: 0 | BS27: 0 | BT27: 0 | BU27: 0 | BV27: 0 | BW27: 0 | BX27: 0 | BY27: 0 | BZ27: 142978.81
A28: 筆數合計 | C28: 176 | D28: 281 | E28: 131 | F28: 1162 | G28: 78 | H28: 47 | I28: 253 | J28: 17 | K28: 7 | L28: 50 | M28: 1 | N28: 31 | O28: 176 | P28: 21 | Q28: 143 | R28: 77 | S28: 0 | T28: 245 | U28: 49 | V28: 2 | W28: 36 | X28: 0 | Y28: 145 | Z28: 94 | AA28: 620 | AB28: 454 | AC28: 162 | AD28: 45 | AE28: 44 | AF28: 2 | AG28: 0 | AH28: 0 | AI28: 341 | AJ28: 302 | AK28: 233 | AL28: 2 | AM28: 683 | AN28: 6110 | AO28: 278 | AP28: 0 | AQ28: 1372 | AR28: 0 | AS28: 203 | AT28: 32 | AU28: 0 | AV28: 0 | AW28: 0 | AX28: 0 | AY28: 0 | AZ28: 0 | BA28: 1 | BB28: 0 | BC28: 0 | BD28: 0 | BE28: 0 | BF28: 0 | BG28: 0 | BH28: 0 | BI28: 0 | BJ28: 0 | BK28: 0 | BL28: 0 | BM28: 0 | BN28: 137 | BO28: 0 | BP28: 0 | BQ28: 0 | BR28: 0 | BS28: 0 | BT28: 0 | BU28: 0 | BV28: 0 | BW28: 0 | BX28: 0 | BY28: 159 | BZ28: 2182
A29: 面積(M2)合計 | C29: 38666.82 | D29: 59340.26 | E29: 48926.56 | F29: 265982.72 | G29: 36821.74 | H29: 19627.58 | I29: 106147.91 | J29: 9353.89 | K29: 2319.23 | L29: 22379.44 | M29: 10501.34 | N29: 4468.09 | O29: 39293.21 | P29: 5262.89 | Q29: 106368.01 | R29: 61391.76 | S29: 0 | T29: 58335.55 | U29: 9645.42 | V29: 396.21 | W29: 5447.45 | X29: 0 | Y29: 33681.83 | Z29: 26746.97 | AA29: 172934.06 | AB29: 150045.91 | AC29: 35066.22 | AD29: 27935.94 | AE29: 7552.7 | AF29: 749.54 | AG29: 0 | AH29: 0 | AI29: 117010.06 | AJ29: 96827.97 | AK29: 51045.14 | AL29: 1160.12 | AM29: 247733.94 | AN29: 1879166.5 | AO29: 66628.74 | AP29: 0 | AQ29: 105784.55 | AR29: 0 | AS29: 40202.01 | AT29: 8950.58 | AU29: 0 | AV29: 0 | AW29: 0 | AX29: 0 | AY29: 0 | AZ29: 0 | BA29: 17116.8 | BB29: 0 | BC29: 0 | BD29: 0 | BE29: 0 | BF29: 0 | BG29: 0 | BH29: 0 | BI29: 0 | BJ29: 0 | BK29: 0 | BL29: 0 | BM29: 0 | BN29: 39608.3 | BO29: 0 | BP29: 0 | BQ29: 0 | BR29: 0 | BS29: 0 | BT29: 0 | BU29: 0 | BV29: 0 | BW29: 0 | BX29: 0 | BY29: 14498.73 | BZ29: 292789.71
A30: 備註 | B30: 1.資料來源：臺南市政府地政局
B31: 2.本表係統計所有權人為本國私法人，建物主要用途為住家用、商業用、住商用、見使用執照或見其他事項，建築完成日期自92年1月1日起
B32: 迄今，完成建物第一次登記後以買賣為登記原因移轉之建物筆數與面積(單位為平方公尺)。
