Workbook

Sheet 104大台南移轉-6層以下
A1: 臺南市大台南不動產開發商業同業公會
A2: 彙整大台南市104年度【建物第一次移轉】登記統計表
A3: 完成保存登記後第一次移轉之筆數。面積(六層以下，含六層)
A4: 月份 分區 | C4: 1月 | D4: 2月 | E4: 3月 | F4: 4月 | G4: 5月 | H4: 6月 | I4: 7月 | J4: 8月 | K4: 9月 | L4: 10月 | M4: 11月 | N4: 12月 | O4: 小計
A5: 新營 | B5: 筆數 | C5: 19 | D5: 31 | E5: 21 | F5: 11 | G5: 26 | H5: 18 | I5: 22 | J5: 25 | K5: 37 | L5: 19 | M5: 14 | N5: 46 | O5: =SUM(C5:N5) -> 289
B6: 面積㎡ | C6: 3373.72 | D6: 6169.26 | E6: 3870.16 | F6: 2549.13 | G6: 5586.54 | H6: 3618.81 | I6: 6129.85 | J6: 6369.42 | K6: 7205.55 | L6: 4015.75 | M6: 3761.48 | N6: 10583.07 | O6: =SUM(C6:N6) -> 63232.74
A7: 鹽水 | B7: 筆數 | C7: ='地政局(彙)104年-移轉'!J4 -> 0 | D7: 1 | E7: 14 | F7: 1 | G7: 0 | H7: 4 | I7: 3 | J7: 3 | K7: 5 | L7: 6 | M7: 1 | N7: 1 | O7: =SUM(C7:N7) -> 39
B8: 面積㎡ | C8: ='地政局(彙)104年-移轉'!J5 -> 0 | D8: 212.73 | E8: 2787.5 | F8: 212.73 | G8: 0 | H8: 881.19 | I8: 754.12 | J8: 665.82 | K8: 1023.65 | L8: 1174.55 | M8: 186.69 | N8: 189.31 | O8: =SUM(C8:N8) -> 8088.29
A9: 白河 | B9: 筆數 | C9: 1 | D9: 0 | E9: 0 | F9: 2 | G9: 5 | H9: 1 | I9: 2 | J9: 2 | K9: 1 | L9: 1 | M9: 0 | N9: 0 | O9: =SUM(C9:N9) -> 15
B10: 面積㎡ | C10: 159.5 | D10: 0 | E10: 0 | F10: 347.01 | G10: 940.02 | H10: 191.51 | I10: 329.08 | J10: 389.92 | K10: 167.13 | L10: 143.96 | M10: 0 | N10: 0 | O10: =SUM(C10:N10) -> 2668.13
A11: 柳營 | B11: 筆數 | C11: 4 | D11: 2 | E11: 6 | F11: 7 | G11: 3 | H11: 3 | I11: 1 | J11: 0 | K11: 0 | L11: 7 | M11: 1 | N11: 16 | O11: =SUM(C11:N11) -> 50
B12: 面積㎡ | C12: 661.78 | D12: 396.21 | E12: 1001.48 | F12: 1129.5 | G12: 447.86 | H12: 421.68 | I12: 153.65 | J12: 0 | K12: 0 | L12: 1392.74 | M12: 183.97 | N12: 3038.31 | O12: =SUM(C12:N12) -> 8827.18
A13: 後壁 | B13: 筆數 | C13: 4 | D13: 3 | E13: 7 | F13: 3 | G13: 5 | H13: 6 | I13: 7 | J13: 3 | K13: 0 | L13: 0 | M13: 0 | N13: 0 | O13: =SUM(C13:N13) -> 38
B14: 面積㎡ | C14: 1177.27 | D14: 855.71 | E14: 1933.53 | F14: 977.13 | G14: 1087.17 | H14: 1383.7 | I14: 1708.65 | J14: 878.05 | K14: 0 | L14: 0 | M14: 0 | N14: 0 | O14: =SUM(C14:N14) -> 10001.21
A15: 東山 | B15: 筆數 | C15: 0 | D15: 0 | E15: 0 | F15: 0 | G15: 0 | H15: 0 | I15: 1 | J15: 9 | K15: 2 | L15: 7 | M15: 0 | N15: 4 | O15: =SUM(C15:N15) -> 23
B16: 面積㎡ | C16: 0 | D16: 0 | E16: 0 | F16: 0 | G16: 0 | H16: 0 | I16: 153.8 | J16: 1455.08 | K16: 263.02 | L16: 992.19 | M16: 0 | N16: 549.51 | O16: =SUM(C16:N16) -> 3413.6
A17: 麻豆 | B17: 筆數 | C17: 11 | D17: 5 | E17: 7 | F17: 17 | G17: 7 | H17: 14 | I17: 19 | J17: 9 | K17: 25 | L17: 9 | M17: 15 | N17: 32 | O17: =SUM(C17:N17) -> 170
B18: 面積㎡ | C18: 2076.39 | D18: 1172.07 | E18: 1797.4 | F18: 3315.21 | G18: 1501.87 | H18: 2874.11 | I18: 3976.6 | J18: 1750.71 | K18: 4555.92 | L18: 1601.24 | M18: 3063.29 | N18: 6237.97 | O18: =SUM(C18:N18) -> 33922.78
A19: 下營 | B19: 筆數 | C19: 11 | D19: 1 | E19: 1 | F19: 0 | G19: 0 | H19: 4 | I19: 3 | J19: 0 | K19: 3 | L19: 0 | M19: 1 | N19: 3 | O19: =SUM(C19:N19) -> 27
B20: 面積㎡ | C20: 1958.8 | D20: 180.4 | E20: 180.4 | F20: 0 | G20: 0 | H20: 722.74 | I20: 569.29 | J20: 0 | K20: 763.68 | L20: 0 | M20: 206.92 | N20: 484.74 | O20: =SUM(C20:N20) -> 5066.97
A21: 六甲 | B21: 筆數 | C21: 1 | D21: 0 | E21: 24 | F21: 5 | G21: 0 | H21: 3 | I21: 2 | J21: 7 | K21: 3 | L21: 4 | M21: 3 | N21: 6 | O21: =SUM(C21:N21) -> 58
B22: 面積㎡ | C22: 236.36 | D22: 0 | E22: 3895.69 | F22: 765.35 | G22: 0 | H22: 495.36 | I22: 383.37 | J22: 1278.86 | K22: 450.63 | L22: 723.83 | M22: 445.14 | N22: 1189.34 | O22: =SUM(C22:N22) -> 9863.93
A23: 官田 | B23: 筆數 | C23: 0 | D23: 0 | E23: 0 | F23: 0 | G23: 0 | H23: 11 | I23: 10 | J23: 3 | K23: 9 | L23: 0 | M23: 1 | N23: 0 | O23: =SUM(C23:N23) -> 34
B24: 面積㎡ | C24: 0 | D24: 0 | E24: 0 | F24: 0 | G24: 0 | H24: 1830.17 | I24: 1819.09 | J24: 477.48 | K24: 1414.25 | L24: 0 | M24: 155.04 | N24: 0 | O24: =SUM(C24:N24) -> 5696.03
A25: 大內 | B25: 筆數 | C25: 0 | D25: 0 | E25: 0 | F25: 0 | G25: 0 | H25: 0 | I25: 0 | J25: 0 | K25: 0 | L25: 0 | M25: 0 | N25: 0 | O25: =SUM(C25:N25) -> 0
B26: 面積㎡ | C26: 0 | D26: 0 | E26: 0 | F26: 0 | G26: 0 | H26: 0 | I26: 0 | J26: 0 | K26: 0 | L26: 0 | M26: 0 | N26: 0 | O26: =SUM(C26:N26) -> 0
A27: 佳里 | B27: 筆數 | C27: 5 | D27: 3 | E27: 6 | F27: 8 | G27: 20 | H27: 7 | I27: 18 | J27: 43 | K27: 19 | L27: 13 | M27: 24 | N27: 42 | O27: =SUM(C27:N27) -> 208
B28: 面積㎡ | C28: 974.95 | D28: 527.27 | E28: 1135.8 | F28: 1568.71 | G28: 3707.23 | H28: 1438.01 | I28: 3616.98 | J28: 8420.96 | K28: 3271.64 | L28: 2218.51 | M28: 4709.94 | N28: 7631.41 | O28: =SUM(C28:N28) -> 39221.41
A29: 西港 | B29: 筆數 | C29: 0 | D29: 0 | E29: 0 | F29: 10 | G29: 16 | H29: 9 | I29: 1 | J29: 0 | K29: 0 | L29: 6 | M29: 1 | N29: 2 | O29: =SUM(C29:N29) -> 45
B30: 面積㎡ | C30: 0 | D30: 0 | E30: 0 | F30: 1856.35 | G30: 2602.74 | H30: 1437.01 | I30: 181.37 | J30: 0 | K30: 0 | L30: 988.69 | M30: 158.96 | N30: 465.6 | O30: =SUM(C30:N30) -> 7690.72
A31: 七股 | B31: 筆數 | C31: 0 | D31: 0 | E31: 0 | F31: 0 | G31: 0 | H31: 0 | I31: 0 | J31: 0 | K31: 0 | L31: 0 | M31: 0 | N31: 0 | O31: =SUM(C31:N31) -> 0
B32: 面積㎡ | C32: 0 | D32: 0 | E32: 0 | F32: 0 | G32: 0 | H32: 0 | I32: 0 | J32: 0 | K32: 0 | L32: 0 | M32: 0 | N32: 0 | O32: =SUM(C32:N32) -> 0
A33: 將軍 | B33: 筆數 | C33: 0 | D33: 0 | E33: 0 | F33: 0 | G33: 1 | H33: 5 | I33: 2 | J33: 1 | K33: 2 | L33: 1 | M33: 0 | N33: 9 | O33: =SUM(C33:N33) -> 21
B34: 面積㎡ | C34: 0 | D34: 0 | E34: 0 | F34: 0 | G34: 151.67 | H34: 876.7 | I34: 302.4 | J34: 187.99 | K34: 375.98 | L34: 187.99 | M34: 0 | N34: 1299.85 | O34: =SUM(C34:N34) -> 3382.58
A35: 北門 | B35: 筆數 | C35: 0 | D35: 0 | E35: 0 | F35: 0 | G35: 0 | H35: 0 | I35: 0 | J35: 0 | K35: 0 | L35: 0 | M35: 0 | N35: 0 | O35: =SUM(C35:N35) -> 0
B36: 面積㎡ | C36: 0 | D36: 0 | E36: 0 | F36: 0 | G36: 0 | H36: 0 | I36: 0 | J36: 0 | K36: 0 | L36: 0 | M36: 0 | N36: 0 | O36: =SUM(C36:N36) -> 0
A37: 學甲 | B37: 筆數 | C37: 0 | D37: 1 | E37: 19 | F37: 11 | G37: 0 | H37: 0 | I37: 8 | J37: 13 | K37: 1 | L37: 0 | M37: 0 | N37: 37 | O37: =SUM(C37:N37) -> 90
B38: 面積㎡ | C38: 0 | D38: 146.75 | E38: 2880.14 | F38: 1632.04 | G38: 0 | H38: 0 | I38: 3005.36 | J38: 3655.09 | K38: 163.45 | L38: 0 | M38: 0 | N38: 6147.07 | O38: =SUM(C38:N38) -> 17629.9
A39: 新化 | B39: 筆數 | C39: 0 | D39: 0 | E39: 3 | F39: 16 | G39: 6 | H39: 1 | I39: 0 | J39: 53 | K39: 2 | L39: 1 | M39: 0 | N39: 2 | O39: =SUM(C39:N39) -> 84
B40: 面積㎡ | C40: 0 | D40: 0 | E40: 523.87 | F40: 2553.57 | G40: 943.31 | H40: 215.39 | I40: 0 | J40: 9363.76 | K40: 324.03 | L40: 171.91 | M40: 0 | N40: 411.14 | O40: =SUM(C40:N40) -> 14506.98
...

Sheet 104大台南移轉-7層以上
A1: 臺南市大台南不動產開發商業同業公會
A2: 彙整大台南市104年度【建物第一次移轉】登記統計表
A3: 完成保存登記後第一次移轉之筆數。面積(七層以上)
A4: 月份 分區 | C4: 1月 | D4: 2月 | E4: 3月 | F4: 4月 | G4: 5月 | H4: 6月 | I4: 7月 | J4: 8月 | K4: 9月 | L4: 10月 | M4: 11月 | N4: 12月 | O4: 小計
A5: 新營 | B5: 筆數 | C5: 0 | D5: 0 | E5: 0 | F5: 0 | G5: 0 | H5: 0 | I5: 0 | J5: 0 | K5: 0 | L5: 0 | M5: 0 | N5: 0 | O5: =SUM(C5:N5) -> 0
B6: 面積㎡ | C6: 0 | D6: 0 | E6: 0 | F6: 0 | G6: 0 | H6: 0 | I6: 0 | J6: 0 | K6: 0 | L6: 0 | M6: 0 | N6: 0 | O6: =SUM(C6:N6) -> 0
A7: 鹽水 | B7: 筆數 | C7: 0 | D7: 0 | E7: 0 | F7: 0 | G7: 0 | H7: 0 | I7: 0 | J7: 0 | K7: 0 | L7: 0 | M7: 0 | N7: 0 | O7: =SUM(C7:N7) -> 0
B8: 面積㎡ | C8: 0 | D8: 0 | E8: 0 | F8: 0 | G8: 0 | H8: 0 | I8: 0 | J8: 0 | K8: 0 | L8: 0 | M8: 0 | N8: 0 | O8: =SUM(C8:N8) -> 0
A9: 白河 | B9: 筆數 | C9: 0 | D9: 0 | E9: 0 | F9: 0 | G9: 0 | H9: 0 | I9: 0 | J9: 0 | K9: 0 | L9: 0 | M9: 0 | N9: 0 | O9: =SUM(C9:N9) -> 0
B10: 面積㎡ | C10: 0 | D10: 0 | E10: 0 | F10: 0 | G10: 0 | H10: 0 | I10: 0 | J10: 0 | K10: 0 | L10: 0 | M10: 0 | N10: 0 | O10: =SUM(C10:N10) -> 0
A11: 柳營 | B11: 筆數 | C11: 0 | D11: 0 | E11: 0 | F11: 0 | G11: 0 | H11: 0 | I11: 0 | J11: 0 | K11: 0 | L11: 0 | M11: 0 | N11: 0 | O11: =SUM(C11:N11) -> 0
B12: 面積㎡ | C12: 0 | D12: 0 | E12: 0 | F12: 0 | G12: 0 | H12: 0 | I12: 0 | J12: 0 | K12: 0 | L12: 0 | M12: 0 | N12: 0 | O12: =SUM(C12:N12) -> 0
A13: 後壁 | B13: 筆數 | C13: 0 | D13: 0 | E13: 0 | F13: 0 | G13: 0 | H13: 0 | I13: 0 | J13: 0 | K13: 0 | L13: 0 | M13: 0 | N13: 0 | O13: =SUM(C13:N13) -> 0
B14: 面積㎡ | C14: 0 | D14: 0 | E14: 0 | F14: 0 | G14: 0 | H14: 0 | I14: 0 | J14: 0 | K14: 0 | L14: 0 | M14: 0 | N14: 0 | O14: =SUM(C14:N14) -> 0
A15: 東山 | B15: 筆數 | C15: 0 | D15: 0 | E15: 0 | F15: 0 | G15: 0 | H15: 0 | I15: 0 | J15: 0 | K15: 0 | L15: 0 | M15: 0 | N15: 0 | O15: =SUM(C15:N15) -> 0
B16: 面積㎡ | C16: 0 | D16: 0 | E16: 0 | F16: 0 | G16: 0 | H16: 0 | I16: 0 | J16: 0 | K16: 0 | L16: 0 | M16: 0 | N16: 0 | O16: =SUM(C16:N16) -> 0
A17: 麻豆 | B17: 筆數 | C17: 0 | D17: 0 | E17: 0 | F17: 0 | G17: 0 | H17: 0 | I17: 0 | J17: 0 | K17: 0 | L17: 0 | M17: 0 | N17: 0 | O17: =SUM(C17:N17) -> 0
B18: 面積㎡ | C18: 0 | D18: 0 | E18: 0 | F18: 0 | G18: 0 | H18: 0 | I18: 0 | J18: 0 | K18: 0 | L18: 0 | M18: 0 | N18: 0 | O18: =SUM(C18:N18) -> 0
A19: 下營 | B19: 筆數 | C19: 0 | D19: 0 | E19: 0 | F19: 0 | G19: 0 | H19: 0 | I19: 0 | J19: 0 | K19: 0 | L19: 0 | M19: 0 | N19: 0 | O19: =SUM(C19:N19) -> 0
B20: 面積㎡ | C20: 0 | D20: 0 | E20: 0 | F20: 0 | G20: 0 | H20: 0 | I20: 0 | J20: 0 | K20: 0 | L20: 0 | M20: 0 | N20: 0 | O20: =SUM(C20:N20) -> 0
A21: 六甲 | B21: 筆數 | C21: 0 | D21: 0 | E21: 0 | F21: 0 | G21: 0 | H21: 0 | I21: 0 | J21: 0 | K21: 0 | L21: 0 | M21: 0 | N21: 0 | O21: =SUM(C21:N21) -> 0
B22: 面積㎡ | C22: 0 | D22: 0 | E22: 0 | F22: 0 | G22: 0 | H22: 0 | I22: 0 | J22: 0 | K22: 0 | L22: 0 | M22: 0 | N22: 0 | O22: =SUM(C22:N22) -> 0
A23: 官田 | B23: 筆數 | C23: 0 | D23: 0 | E23: 0 | F23: 0 | G23: 0 | H23: 0 | I23: 0 | J23: 0 | K23: 0 | L23: 0 | M23: 0 | N23: 0 | O23: =SUM(C23:N23) -> 0
B24: 面積㎡ | C24: 0 | D24: 0 | E24: 0 | F24: 0 | G24: 0 | H24: 0 | I24: 0 | J24: 0 | K24: 0 | L24: 0 | M24: 0 | N24: 0 | O24: =SUM(C24:N24) -> 0
A25: 大內 | B25: 筆數 | C25: 0 | D25: 0 | E25: 0 | F25: 0 | G25: 0 | H25: 0 | I25: 0 | J25: 0 | K25: 0 | L25: 0 | M25: 0 | N25: 0 | O25: =SUM(C25:N25) -> 0
B26: 面積㎡ | C26: 0 | D26: 0 | E26: 0 | F26: 0 | G26: 0 | H26: 0 | I26: 0 | J26: 0 | K26: 0 | L26: 0 | M26: 0 | N26: 0 | O26: =SUM(C26:N26) -> 0
A27: 佳里 | B27: 筆數 | C27: 0 | D27: 0 | E27: 0 | F27: 0 | G27: 0 | H27: 0 | I27: 0 | J27: 0 | K27: 0 | L27: 0 | M27: 0 | N27: 0 | O27: =SUM(C27:N27) -> 0
B28: 面積㎡ | C28: 0 | D28: 0 | E28: 0 | F28: 0 | G28: 0 | H28: 0 | I28: 0 | J28: 0 | K28: 0 | L28: 0 | M28: 0 | N28: 0 | O28: =SUM(C28:N28) -> 0
A29: 西港 | B29: 筆數 | C29: 0 | D29: 0 | E29: 0 | F29: 0 | G29: 0 | H29: 0 | I29: 0 | J29: 0 | K29: 0 | L29: 0 | M29: 0 | N29: 0 | O29: =SUM(C29:N29) -> 0
B30: 面積㎡ | C30: 0 | D30: 0 | E30: 0 | F30: 0 | G30: 0 | H30: 0 | I30: 0 | J30: 0 | K30: 0 | L30: 0 | M30: 0 | N30: 0 | O30: =SUM(C30:N30) -> 0
A31: 七股 | B31: 筆數 | C31: 0 | D31: 0 | E31: 0 | F31: 0 | G31: 0 | H31: 0 | I31: 0 | J31: 0 | K31: 0 | L31: 0 | M31: 0 | N31: 0 | O31: =SUM(C31:N31) -> 0
B32: 面積㎡ | C32: 0 | D32: 0 | E32: 0 | F32: 0 | G32: 0 | H32: 0 | I32: 0 | J32: 0 | K32: 0 | L32: 0 | M32: 0 | N32: 0 | O32: =SUM(C32:N32) -> 0
A33: 將軍 | B33: 筆數 | C33: 0 | D33: 0 | E33: 0 | F33: 0 | G33: 0 | H33: 0 | I33: 0 | J33: 0 | K33: 0 | L33: 0 | M33: 0 | N33: 0 | O33: =SUM(C33:N33) -> 0
B34: 面積㎡ | C34: 0 | D34: 0 | E34: 0 | F34: 0 | G34: 0 | H34: 0 | I34: 0 | J34: 0 | K34: 0 | L34: 0 | M34: 0 | N34: 0 | O34: =SUM(C34:N34) -> 0
A35: 北門 | B35: 筆數 | C35: 0 | D35: 0 | E35: 0 | F35: 0 | G35: 0 | H35: 0 | I35: 0 | J35: 0 | K35: 0 | L35: 0 | M35: 0 | N35: 0 | O35: =SUM(C35:N35) -> 0
B36: 面積㎡ | C36: 0 | D36: 0 | E36: 0 | F36: 0 | G36: 0 | H36: 0 | I36: 0 | J36: 0 | K36: 0 | L36: 0 | M36: 0 | N36: 0 | O36: =SUM(C36:N36) -> 0
A37: 學甲 | B37: 筆數 | C37: 0 | D37: 0 | E37: 0 | F37: 0 | G37: 0 | H37: 0 | I37: 0 | J37: 0 | K37: 0 | L37: 0 | M37: 0 | N37: 0 | O37: =SUM(C37:N37) -> 0
B38: 面積㎡ | C38: 0 | D38: 0 | E38: 0 | F38: 0 | G38: 0 | H38: 0 | I38: 0 | J38: 0 | K38: 0 | L38: 0 | M38: 0 | N38: 0 | O38: =SUM(C38:N38) -> 0
A39: 新化 | B39: 筆數 | C39: 0 | D39: 0 | E39: 0 | F39: 0 | G39: 0 | H39: 0 | I39: 0 | J39: 0 | K39: 0 | L39: 0 | M39: 0 | N39: 0 | O39: =SUM(C39:N39) -> 0
B40: 面積㎡ | C40: 0 | D40: 0 | E40: 0 | F40: 0 | G40: 0 | H40: 0 | I40: 0 | J40: 0 | K40: 0 | L40: 0 | M40: 0 | N40: 0 | O40: =SUM(C40:N40) -> 0
...

Sheet 104大台南登記-6層以下
A1: 臺南市大台南不動產開發商業同業公會
A2: 彙整大台南市104年度【建物第一次登記】統計表
A3: 完成保存登記後第一次登記之筆數。面積(六層以下，含六層)
A4: 月份 分區 | C4: 1月 | D4: 2月 | E4: 3月 | F4: 4月 | G4: 5月 | H4: 6月 | I4: 7月 | J4: 8月 | K4: 9月 | L4: 10月 | M4: 11月 | N4: 12月 | O4: 小計
A5: 新營 | B5: 筆數 | C5: 0 | D5: 13 | E5: 38 | F5: 10 | G5: 18 | H5: 21 | I5: 43 | J5: 28 | K5: 28 | L5: 17 | M5: 3 | N5: 34 | O5: =SUM(C5:N5) -> 253
B6: 面積㎡ | C6: 0 | D6: 10219.64 | E6: 18579.19 | F6: 2257.56 | G6: 3704.55 | H6: 4231.94 | I6: 10194.35 | J6: 5184.93 | K6: 4461.42 | L6: 39119.61 | M6: 834.33 | N6: 7360.39 | O6: =SUM(C6:N6) -> 106147.91
A7: 鹽水 | B7: 筆數 | C7: 0 | D7: 0 | E7: 0 | F7: 0 | G7: 0 | H7: 0 | I7: 0 | J7: 10 | K7: 6 | L7: 0 | M7: 1 | N7: 0 | O7: =SUM(C7:N7) -> 17
B8: 面積㎡ | C8: 0 | D8: 0 | E8: 0 | F8: 0 | G8: 0 | H8: 0 | I8: 0 | J8: 2076.5 | K8: 6918.67 | L8: 0 | M8: 358.72 | N8: 0 | O8: =SUM(C8:N8) -> 9353.89
A9: 白河 | B9: 筆數 | C9: 0 | D9: 0 | E9: 4 | F9: 1 | G9: 1 | H9: 0 | I9: 0 | J9: 1 | K9: 0 | L9: 0 | M9: 0 | N9: 0 | O9: =SUM(C9:N9) -> 7
B10: 面積㎡ | C10: 0 | D10: 0 | E10: 803.89 | F10: 424.39 | G10: 923.82 | H10: 0 | I10: 0 | J10: 167.13 | K10: 0 | L10: 0 | M10: 0 | N10: 0 | O10: =SUM(C10:N10) -> 2319.23
A11: 柳營 | B11: 筆數 | C11: 2 | D11: 0 | E11: 0 | F11: 0 | G11: 8 | H11: 0 | I11: 0 | J11: 0 | K11: 8 | L11: 1 | M11: 28 | N11: 3 | O11: =SUM(C11:N11) -> 50
B12: 面積㎡ | C12: 6511.61 | D12: 0 | E12: 0 | F12: 0 | G12: 1703.38 | H12: 0 | I12: 0 | J12: 0 | K12: 1571.45 | L12: 449.85 | M12: 5042.28 | N12: 7100.87 | O12: =SUM(C12:N12) -> 22379.44
A13: 後壁 | B13: 筆數 | C13: 0 | D13: 0 | E13: 0 | F13: 0 | G13: 0 | H13: 0 | I13: 0 | J13: 0 | K13: 0 | L13: 0 | M13: 0 | N13: 1 | O13: =SUM(C13:N13) -> 1
B14: 面積㎡ | C14: 0 | D14: 0 | E14: 0 | F14: 0 | G14: 0 | H14: 0 | I14: 0 | J14: 0 | K14: 0 | L14: 0 | M14: 0 | N14: 10501.34 | O14: =SUM(C14:N14) -> 10501.34
A15: 東山 | B15: 筆數 | C15: 0 | D15: 0 | E15: 0 | F15: 0 | G15: 0 | H15: 16 | I15: 0 | J15: 15 | K15: 0 | L15: 0 | M15: 0 | N15: 0 | O15: =SUM(C15:N15) -> 31
B16: 面積㎡ | C16: 0 | D16: 0 | E16: 0 | F16: 0 | G16: 0 | H16: 2399.78 | I16: 0 | J16: 2068.31 | K16: 0 | L16: 0 | M16: 0 | N16: 0 | O16: =SUM(C16:N16) -> 4468.09
A17: 麻豆 | B17: 筆數 | C17: 18 | D17: 29 | E17: 1 | F17: 4 | G17: 38 | H17: 20 | I17: 1 | J17: 10 | K17: 0 | L17: 6 | M17: 12 | N17: 37 | O17: =SUM(C17:N17) -> 176
B18: 面積㎡ | C18: 4792.52 | D18: 5641.37 | E18: 415.81 | F18: 992.36 | G18: 6689.88 | H18: 3838.88 | I18: 2802.28 | J18: 3572.39 | K18: 0 | L18: 1148.55 | M18: 1906.69 | N18: 7492.48 | O18: =SUM(C18:N18) -> 39293.21
A19: 下營 | B19: 筆數 | C19: 0 | D19: 0 | E19: 1 | F19: 0 | G19: 0 | H19: 7 | I19: 0 | J19: 0 | K19: 13 | L19: 0 | M19: 0 | N19: 0 | O19: =SUM(C19:N19) -> 21
B20: 面積㎡ | C20: 0 | D20: 0 | E20: 1274.57 | F20: 0 | G20: 0 | H20: 1292.03 | I20: 0 | J20: 0 | K20: 2696.29 | L20: 0 | M20: 0 | N20: 0 | O20: =SUM(C20:N20) -> 5262.89
A21: 六甲 | B21: 筆數 | C21: 1 | D21: 48 | E21: 48 | F21: 0 | G21: 0 | H21: 8 | I21: 12 | J21: 1 | K21: 0 | L21: 2 | M21: 23 | N21: 0 | O21: =SUM(C21:N21) -> 143
B22: 面積㎡ | C22: 181.14 | D22: 7593.92 | E22: 89111.39 | F22: 0 | G22: 0 | H22: 1690.58 | I22: 2441.66 | J22: 199.59 | K22: 0 | L22: 457.06 | M22: 4692.67 | N22: 0 | O22: =SUM(C22:N22) -> 106368.01
A23: 官田 | B23: 筆數 | C23: 15 | D23: 0 | E23: 0 | F23: 3 | G23: 16 | H23: 12 | I23: 9 | J23: 0 | K23: 0 | L23: 0 | M23: 1 | N23: 21 | O23: =SUM(C23:N23) -> 77
B24: 面積㎡ | C24: 5770.56 | D24: 0 | E24: 0 | F24: 41957.29 | G24: 3130.97 | H24: 4278.94 | I24: 1414.25 | J24: 0 | K24: 0 | L24: 0 | M24: 1441.6 | N24: 3398.15 | O24: =SUM(C24:N24) -> 61391.76
A25: 大內 | B25: 筆數 | C25: 0 | D25: 0 | E25: 0 | F25: 0 | G25: 0 | H25: 0 | I25: 0 | J25: 0 | K25: 0 | L25: 0 | M25: 0 | N25: 0 | O25: =SUM(C25:N25) -> 0
B26: 面積㎡ | C26: 0 | D26: 0 | E26: 0 | F26: 0 | G26: 0 | H26: 0 | I26: 0 | J26: 0 | K26: 0 | L26: 0 | M26: 0 | N26: 0 | O26: =SUM(C26:N26) -> 0
A27: 佳里 | B27: 筆數 | C27: 11 | D27: 19 | E27: 14 | F27: 8 | G27: 55 | H27: 4 | I27: 47 | J27: 0 | K27: 25 | L27: 16 | M27: 29 | N27: 17 | O27: =SUM(C27:N27) -> 245
B28: 面積㎡ | C28: 2485.34 | D28: 5892.67 | E28: 2630.52 | F28: 2383.09 | G28: 9778.16 | H28: 842.72 | I28: 9286.17 | J28: 0 | K28: 13283.41 | L28: 3154.33 | M28: 5358.3 | N28: 3240.84 | O28: =SUM(C28:N28) -> 58335.55
A29: 西港 | B29: 筆數 | C29: 16 | D29: 1 | E29: 16 | F29: 6 | G29: 0 | H29: 4 | I29: 6 | J29: 0 | K29: 0 | L29: 0 | M29: 0 | N29: 0 | O29: =SUM(C29:N29) -> 49
B30: 面積㎡ | C30: 2982.43 | D30: 1491.89 | E30: 2343.88 | F30: 1152.39 | G30: 0 | H30: 718 | I30: 956.83 | J30: 0 | K30: 0 | L30: 0 | M30: 0 | N30: 0 | O30: =SUM(C30:N30) -> 9645.42
A31: 七股 | B31: 筆數 | C31: 0 | D31: 0 | E31: 0 | F31: 0 | G31: 0 | H31: 0 | I31: 0 | J31: 0 | K31: 0 | L31: 2 | M31: 0 | N31: 0 | O31: =SUM(C31:N31) -> 2
B32: 面積㎡ | C32: 0 | D32: 0 | E32: 0 | F32: 0 | G32: 0 | H32: 0 | I32: 0 | J32: 0 | K32: 0 | L32: 396.21 | M32: 0 | N32: 0 | O32: =SUM(C32:N32) -> 396.21
A33: 將軍 | B33: 筆數 | C33: 0 | D33: 11 | E33: 0 | F33: 0 | G33: 0 | H33: 0 | I33: 0 | J33: 0 | K33: 0 | L33: 0 | M33: 0 | N33: 25 | O33: =SUM(C33:N33) -> 36
B34: 面積㎡ | C34: 0 | D34: 1883.41 | E34: 0 | F34: 0 | G34: 0 | H34: 0 | I34: 0 | J34: 0 | K34: 0 | L34: 0 | M34: 0 | N34: 3564.04 | O34: =SUM(C34:N34) -> 5447.45
A35: 北門 | B35: 筆數 | C35: 0 | D35: 0 | E35: 0 | F35: 0 | G35: 0 | H35: 0 | I35: 0 | J35: 0 | K35: 0 | L35: 0 | M35: 0 | N35: 0 | O35: =SUM(C35:N35) -> 0
B36: 面積㎡ | C36: 0 | D36: 0 | E36: 0 | F36: 0 | G36: 0 | H36: 0 | I36: 0 | J36: 0 | K36: 0 | L36: 0 | M36: 0 | N36: 0 | O36: =SUM(C36:N36) -> 0
A37: 學甲 | B37: 筆數 | C37: 31 | D37: 1 | E37: 30 | F37: 1 | G37: 1 | H37: 7 | I37: 4 | J37: 1 | K37: 0 | L37: 9 | M37: 1 | N37: 59 | O37: =SUM(C37:N37) -> 145
B38: 面積㎡ | C38: 4658.93 | D38: 6.99 | E38: 11162.7 | F38: 204.82 | G38: 989.02 | H38: 2323.14 | I38: 654.4 | J38: 618 | K38: 0 | L38: 1595.03 | M38: 852.19 | N38: 10616.61 | O38: =SUM(C38:N38) -> 33681.83
A39: 新化 | B39: 筆數 | C39: 0 | D39: 26 | E39: 0 | F39: 3 | G39: 13 | H39: 43 | I39: 3 | J39: 1 | K39: 0 | L39: 5 | M39: 0 | N39: 0 | O39: =SUM(C39:N39) -> 94
B40: 面積㎡ | C40: 0 | D40: 5396.18 | E40: 0 | F40: 4023 | G40: 2415.21 | H40: 7444.49 | I40: 2617.83 | J40: 3809.94 | K40: 0 | L40: 1040.32 | M40: 0 | N40: 0 | O40: =SUM(C40:N40) -> 26746.97
...

Sheet 104大台南登記-7層以上
A1: 臺南市大台南不動產開發商業同業公會
A2: 彙整大台南市104年度【建物第一次登記】統計表
A3: 完成保存登記後第一次登記之筆數。面積(七層以上)
A4: 月份 分區 | C4: 1月 | D4: 2月 | E4: 3月 | F4: 4月 | G4: 5月 | H4: 6月 | I4: 7月 | J4: 8月 | K4: 9月 | L4: 10月 | M4: 11月 | N4: 12月 | O4: 小計
A5: 新營 | B5: 筆數 | C5: 0 | D5: 0 | E5: 0 | F5: 0 | G5: 0 | H5: 0 | I5: 0 | J5: 0 | K5: 0 | L5: 0 | M5: 0 | N5: 0 | O5: =SUM(C5:N5) -> 0
B6: 面積㎡ | C6: 0 | D6: 0 | E6: 0 | F6: 0 | G6: 0 | H6: 0 | I6: 0 | J6: 0 | K6: 0 | L6: 0 | M6: 0 | N6: 0 | O6: =SUM(C6:N6) -> 0
A7: 鹽水 | B7: 筆數 | C7: 0 | D7: 0 | E7: 0 | F7: 0 | G7: 0 | H7: 0 | I7: 0 | J7: 0 | K7: 0 | L7: 0 | M7: 0 | N7: 0 | O7: =SUM(C7:N7) -> 0
B8: 面積㎡ | C8: 0 | D8: 0 | E8: 0 | F8: 0 | G8: 0 | H8: 0 | I8: 0 | J8: 0 | K8: 0 | L8: 0 | M8: 0 | N8: 0 | O8: =SUM(C8:N8) -> 0
A9: 白河 | B9: 筆數 | C9: 0 | D9: 0 | E9: 0 | F9: 0 | G9: 0 | H9: 0 | I9: 0 | J9: 0 | K9: 0 | L9: 0 | M9: 0 | N9: 0 | O9: =SUM(C9:N9) -> 0
B10: 面積㎡ | C10: 0 | D10: 0 | E10: 0 | F10: 0 | G10: 0 | H10: 0 | I10: 0 | J10: 0 | K10: 0 | L10: 0 | M10: 0 | N10: 0 | O10: =SUM(C10:N10) -> 0
A11: 柳營 | B11: 筆數 | C11: 0 | D11: 0 | E11: 0 | F11: 0 | G11: 0 | H11: 0 | I11: 0 | J11: 0 | K11: 0 | L11: 0 | M11: 0 | N11: 0 | O11: =SUM(C11:N11) -> 0
B12: 面積㎡ | C12: 0 | D12: 0 | E12: 0 | F12: 0 | G12: 0 | H12: 0 | I12: 0 | J12: 0 | K12: 0 | L12: 0 | M12: 0 | N12: 0 | O12: =SUM(C12:N12) -> 0
A13: 後壁 | B13: 筆數 | C13: 0 | D13: 0 | E13: 0 | F13: 0 | G13: 0 | H13: 0 | I13: 0 | J13: 0 | K13: 0 | L13: 0 | M13: 0 | N13: 0 | O13: =SUM(C13:N13) -> 0
B14: 面積㎡ | C14: 0 | D14: 0 | E14: 0 | F14: 0 | G14: 0 | H14: 0 | I14: 0 | J14: 0 | K14: 0 | L14: 0 | M14: 0 | N14: 0 | O14: =SUM(C14:N14) -> 0
A15: 東山 | B15: 筆數 | C15: 0 | D15: 0 | E15: 0 | F15: 0 | G15: 0 | H15: 0 | I15: 0 | J15: 0 | K15: 0 | L15: 0 | M15: 0 | N15: 0 | O15: =SUM(C15:N15) -> 0
B16: 面積㎡ | C16: 0 | D16: 0 | E16: 0 | F16: 0 | G16: 0 | H16: 0 | I16: 0 | J16: 0 | K16: 0 | L16: 0 | M16: 0 | N16: 0 | O16: =SUM(C16:N16) -> 0
A17: 麻豆 | B17: 筆數 | C17: 0 | D17: 0 | E17: 0 | F17: 0 | G17: 0 | H17: 0 | I17: 1 | J17: 0 | K17: 0 | L17: 0 | M17: 0 | N17: 0 | O17: =SUM(C17:N17) -> 1
B18: 面積㎡ | C18: 0 | D18: 0 | E18: 0 | F18: 0 | G18: 0 | H18: 0 | I18: 17116.8 | J18: 0 | K18: 0 | L18: 0 | M18: 0 | N18: 0 | O18: =SUM(C18:N18) -> 17116.8
A19: 下營 | B19: 筆數 | C19: 0 | D19: 0 | E19: 0 | F19: 0 | G19: 0 | H19: 0 | I19: 0 | J19: 0 | K19: 0 | L19: 0 | M19: 0 | N19: 0 | O19: =SUM(C19:N19) -> 0
B20: 面積㎡ | C20: 0 | D20: 0 | E20: 0 | F20: 0 | G20: 0 | H20: 0 | I20: 0 | J20: 0 | K20: 0 | L20: 0 | M20: 0 | N20: 0 | O20: =SUM(C20:N20) -> 0
A21: 六甲 | B21: 筆數 | C21: 0 | D21: 0 | E21: 0 | F21: 0 | G21: 0 | H21: 0 | I21: 0 | J21: 0 | K21: 0 | L21: 0 | M21: 0 | N21: 0 | O21: =SUM(C21:N21) -> 0
B22: 面積㎡ | C22: 0 | D22: 0 | E22: 0 | F22: 0 | G22: 0 | H22: 0 | I22: 0 | J22: 0 | K22: 0 | L22: 0 | M22: 0 | N22: 0 | O22: =SUM(C22:N22) -> 0
A23: 官田 | B23: 筆數 | C23: 0 | D23: 0 | E23: 0 | F23: 0 | G23: 0 | H23: 0 | I23: 0 | J23: 0 | K23: 0 | L23: 0 | M23: 0 | N23: 0 | O23: =SUM(C23:N23) -> 0
B24: 面積㎡ | C24: 0 | D24: 0 | E24: 0 | F24: 0 | G24: 0 | H24: 0 | I24: 0 | J24: 0 | K24: 0 | L24: 0 | M24: 0 | N24: 0 | O24: =SUM(C24:N24) -> 0
A25: 大內 | B25: 筆數 | C25: 0 | D25: 0 | E25: 0 | F25: 0 | G25: 0 | H25: 0 | I25: 0 | J25: 0 | K25: 0 | L25: 0 | M25: 0 | N25: 0 | O25: =SUM(C25:N25) -> 0
B26: 面積㎡ | C26: 0 | D26: 0 | E26: 0 | F26: 0 | G26: 0 | H26: 0 | I26: 0 | J26: 0 | K26: 0 | L26: 0 | M26: 0 | N26: 0 | O26: =SUM(C26:N26) -> 0
A27: 佳里 | B27: 筆數 | C27: 0 | D27: 0 | E27: 0 | F27: 0 | G27: 0 | H27: 0 | I27: 0 | J27: 0 | K27: 0 | L27: 0 | M27: 0 | N27: 0 | O27: =SUM(C27:N27) -> 0
B28: 面積㎡ | C28: 0 | D28: 0 | E28: 0 | F28: 0 | G28: 0 | H28: 0 | I28: 0 | J28: 0 | K28: 0 | L28: 0 | M28: 0 | N28: 0 | O28: =SUM(C28:N28) -> 0
A29: 西港 | B29: 筆數 | C29: 0 | D29: 0 | E29: 0 | F29: 0 | G29: 0 | H29: 0 | I29: 0 | J29: 0 | K29: 0 | L29: 0 | M29: 0 | N29: 0 | O29: =SUM(C29:N29) -> 0
B30: 面積㎡ | C30: 0 | D30: 0 | E30: 0 | F30: 0 | G30: 0 | H30: 0 | I30: 0 | J30: 0 | K30: 0 | L30: 0 | M30: 0 | N30: 0 | O30: =SUM(C30:N30) -> 0
A31: 七股 | B31: 筆數 | C31: 0 | D31: 0 | E31: 0 | F31: 0 | G31: 0 | H31: 0 | I31: 0 | J31: 0 | K31: 0 | L31: 0 | M31: 0 | N31: 0 | O31: =SUM(C31:N31) -> 0
B32: 面積㎡ | C32: 0 | D32: 0 | E32: 0 | F32: 0 | G32: 0 | H32: 0 | I32: 0 | J32: 0 | K32: 0 | L32: 0 | M32: 0 | N32: 0 | O32: =SUM(C32:N32) -> 0
A33: 將軍 | B33: 筆數 | C33: 0 | D33: 0 | E33: 0 | F33: 0 | G33: 0 | H33: 0 | I33: 0 | J33: 0 | K33: 0 | L33: 0 | M33: 0 | N33: 0 | O33: =SUM(C33:N33) -> 0
B34: 面積㎡ | C34: 0 | D34: 0 | E34: 0 | F34: 0 | G34: 0 | H34: 0 | I34: 0 | J34: 0 | K34: 0 | L34: 0 | M34: 0 | N34: 0 | O34: =SUM(C34:N34) -> 0
A35: 北門 | B35: 筆數 | C35: 0 | D35: 0 | E35: 0 | F35: 0 | G35: 0 | H35: 0 | I35: 0 | J35: 0 | K35: 0 | L35: 0 | M35: 0 | N35: 0 | O35: =SUM(C35:N35) -> 0
B36: 面積㎡ | C36: 0 | D36: 0 | E36: 0 | F36: 0 | G36: 0 | H36: 0 | I36: 0 | J36: 0 | K36: 0 | L36: 0 | M36: 0 | N36: 0 | O36: =SUM(C36:N36) -> 0
A37: 學甲 | B37: 筆數 | C37: 0 | D37: 0 | E37: 0 | F37: 0 | G37: 0 | H37: 0 | I37: 0 | J37: 0 | K37: 0 | L37: 0 | M37: 0 | N37: 0 | O37: =SUM(C37:N37) -> 0
B38: 面積㎡ | C38: 0 | D38: 0 | E38: 0 | F38: 0 | G38: 0 | H38: 0 | I38: 0 | J38: 0 | K38: 0 | L38: 0 | M38: 0 | N38: 0 | O38: =SUM(C38:N38) -> 0
A39: 新化 | B39: 筆數 | C39: 0 | D39: 0 | E39: 0 | F39: 0 | G39: 0 | H39: 0 | I39: 0 | J39: 0 | K39: 0 | L39: 0 | M39: 0 | N39: 0 | O39: =SUM(C39:N39) -> 0
B40: 面積㎡ | C40: 0 | D40: 0 | E40: 0 | F40: 0 | G40: 0 | H40: 0 | I40: 0 | J40: 0 | K40: 0 | L40: 0 | M40: 0 | N40: 0 | O40: =SUM(C40:N40) -> 0
...

Sheet 地政局(彙)104年-移轉
A1: 臺南市建物第一次移轉統計表
C2: 完成保存登記後第一次移轉之筆數。面積(六層以下，含六層) | AO2: 完成保存登記後第一次移轉之筆數。面積(七層以上)
C3: 東區 | D3: 南區 | E3: 北區 | F3: 安南區 | G3: 安平區 | H3: 中西區 | I3: 新營巿 | J3: 鹽水鎮 | K3: 白河鎮 | L3: 柳營鄉 | M3: 後壁鄉 | N3: 東山鄉 | O3: 麻豆鎮 | P3: 下營鄉 | Q3: 六甲鄉 | R3: 官田鄉 | S3: 大內鄉 | T3: 佳里鎮 | U3: 西港鄉 | V3: 七股鄉 | W3: 將軍鄉 | X3: 北門鄉 | Y3: 學甲鎮 | Z3: 新化鎮 | AA3: 善化鎮 | AB3: 新市鄉 | AC3: 安定鄉 | AD3: 山上鄉 | AE3: 玉井鄉 | AF3: 楠西鄉 | AG3: 南化鄉 | AH3: 左鎮鄉 | AI3: 仁德鄉 | AJ3: 歸仁鄉 | AK3: 關廟鄉 | AL3: 龍崎鄉 | AM3: 永康市 | AN3: 全市總計 | AO3: 東區 | AP3: 南區 | AQ3: 北區 | AR3: 安南區 | AS3: 安平區 | AT3: 中西區 | AU3: 新營巿 | AV3: 鹽水鎮 | AW3: 白河鎮 | AX3: 柳營鄉 | AY3: 後壁鄉 | AZ3: 東山鄉 | BA3: 麻豆鎮 | BB3: 下營鄉 | BC3: 六甲鄉 | BD3: 官田鄉 | BE3: 大內鄉 | BF3: 佳里鎮 | BG3: 西港鄉 | BH3: 七股鄉 | BI3: 將軍鄉 | BJ3: 北門鄉 | BK3: 學甲鎮 | BL3: 新化鎮 | BM3: 善化鎮 | BN3: 新市鄉 | BO3: 安定鄉 | BP3: 山上鄉 | BQ3: 玉井鄉 | BR3: 楠西鄉 | BS3: 南化鄉 | BT3: 左鎮鄉 | BU3: 仁德鄉 | BV3: 歸仁鄉 | BW3: 關廟鄉 | BX3: 龍崎鄉 | BY3: 永康市 | BZ3: 全市總計
A4: 104年1月 | B4: 筆數 | C4: 14 | D4: 4 | E4: 5 | F4: 27 | G4: 6 | H4: 5 | I4: 19 | J4: 0 | K4: 1 | L4: 4 | M4: 4 | N4: 0 | O4: 11 | P4: 11 | Q4: 1 | R4: 0 | S4: 0 | T4: 5 | U4: 0 | V4: 0 | W4: 0 | X4: 0 | Y4: 0 | Z4: 0 | AA4: 52 | AB4: 36 | AC4: 43 | AD4: 0 | AE4: 0 | AF4: 0 | AG4: 0 | AH4: 0 | AI4: 52 | AJ4: 10 | AK4: 0 | AL4: 0 | AM4: 129 | AN4: 439 | AO4: 0 | AP4: 17 | AQ4: 1 | AR4: 40 | AS4: 12 | AT4: 0 | AU4: 0 | AV4: 0 | AW4: 0 | AX4: 0 | AY4: 0 | AZ4: 0 | BA4: 0 | BB4: 0 | BC4: 0 | BD4: 0 | BE4: 0 | BF4: 0 | BG4: 0 | BH4: 0 | BI4: 0 | BJ4: 0 | BK4: 0 | BL4: 0 | BM4: 0 | BN4: 0 | BO4: 0 | BP4: 0 | BQ4: 0 | BR4: 0 | BS4: 0 | BT4: 0 | BU4: 0 | BV4: 0 | BW4: 0 | BX4: 0 | BY4: 8 | BZ4: 78
B5: 面積(M2) | C5: 4130.57 | D5: 811.08 | E5: 1600.93 | F5: 5448.69 | G5: 1740.65 | H5: 1880.09 | I5: 3373.72 | J5: 0 | K5: 159.5 | L5: 661.78 | M5: 1177.27 | N5: 0 | O5: 2076.39 | P5: 1958.8 | Q5: 236.36 | R5: 0 | S5: 0 | T5: 974.95 | U5: 0 | V5: 0 | W5: 0 | X5: 0 | Y5: 0 | Z5: 0 | AA5: 10463.71 | AB5: 8441.28 | AC5: 6618.5 | AD5: 0 | AE5: 0 | AF5: 0 | AG5: 0 | AH5: 0 | AI5: 9840.49 | AJ5: 2345.33 | AK5: 0 | AL5: 0 | AM5: 22216.35 | AN5: 86156.44 | AO5: 0 | AP5: 1558.83 | AQ5: 223.58 | AR5: 3061.98 | AS5: 723.73 | AT5: 0 | AU5: 0 | AV5: 0 | AW5: 0 | AX5: 0 | AY5: 0 | AZ5: 0 | BA5: 0 | BB5: 0 | BC5: 0 | BD5: 0 | BE5: 0 | BF5: 0 | BG5: 0 | BH5: 0 | BI5: 0 | BJ5: 0 | BK5: 0 | BL5: 0 | BM5: 0 | BN5: 0 | BO5: 0 | BP5: 0 | BQ5: 0 | BR5: 0 | BS5: 0 | BT5: 0 | BU5: 0 | BV5: 0 | BW5: 0 | BX5: 0 | BY5: 1058.84 | BZ5: 6626.96
A6: 104年2月 | B6: 筆數 | C6: 6 | D6: 5 | E6: 4 | F6: 16 | G6: 3 | H6: 5 | I6: 31 | J6: 1 | K6: 0 | L6: 2 | M6: 3 | N6: 0 | O6: 5 | P6: 1 | Q6: 0 | R6: 0 | S6: 0 | T6: 3 | U6: 0 | V6: 0 | W6: 0 | X6: 0 | Y6: 1 | Z6: 0 | AA6: 25 | AB6: 31 | AC6: 8 | AD6: 0 | AE6: 0 | AF6: 0 | AG6: 0 | AH6: 0 | AI6: 23 | AJ6: 0 | AK6: 5 | AL6: 0 | AM6: 103 | AN6: 281 | AO6: 0 | AP6: 3 | AQ6: 1 | AR6: 6 | AS6: 4 | AT6: 0 | AU6: 0 | AV6: 0 | AW6: 0 | AX6: 0 | AY6: 0 | AZ6: 0 | BA6: 0 | BB6: 0 | BC6: 0 | BD6: 0 | BE6: 0 | BF6: 0 | BG6: 0 | BH6: 0 | BI6: 0 | BJ6: 0 | BK6: 0 | BL6: 0 | BM6: 1 | BN6: 0 | BO6: 0 | BP6: 0 | BQ6: 0 | BR6: 0 | BS6: 0 | BT6: 0 | BU6: 0 | BV6: 0 | BW6: 0 | BX6: 0 | BY6: 1 | BZ6: 16
B7: 面積(M2) | C7: 1518.24 | D7: 1022.86 | E7: 940.21 | F7: 2855.91 | G7: 1125.98 | H7: 1795.4 | I7: 6169.26 | J7: 212.73 | K7: 0 | L7: 396.21 | M7: 855.71 | N7: 0 | O7: 1172.07 | P7: 180.4 | Q7: 0 | R7: 0 | S7: 0 | T7: 527.27 | U7: 0 | V7: 0 | W7: 0 | X7: 0 | Y7: 146.75 | Z7: 0 | AA7: 4472.71 | AB7: 6371.47 | AC7: 1607.23 | AD7: 0 | AE7: 0 | AF7: 0 | AG7: 0 | AH7: 0 | AI7: 4312.43 | AJ7: 0 | AK7: 904.22 | AL7: 0 | AM7: 21142.56 | AN7: 57729.62 | AO7: 0 | AP7: 260.24 | AQ7: 273.57 | AR7: 485.1 | AS7: 176.3 | AT7: 0 | AU7: 0 | AV7: 0 | AW7: 0 | AX7: 0 | AY7: 0 | AZ7: 0 | BA7: 0 | BB7: 0 | BC7: 0 | BD7: 0 | BE7: 0 | BF7: 0 | BG7: 0 | BH7: 0 | BI7: 0 | BJ7: 0 | BK7: 0 | BL7: 0 | BM7: 60.28 | BN7: 0 | BO7: 0 | BP7: 0 | BQ7: 0 | BR7: 0 | BS7: 0 | BT7: 0 | BU7: 0 | BV7: 0 | BW7: 0 | BX7: 0 | BY7: 123.5 | BZ7: 1378.99
A8: 104年3月 | B8: 筆數 | C8: 20 | D8: 6 | E8: 8 | F8: 52 | G8: 3 | H8: 3 | I8: 21 | J8: 14 | K8: 0 | L8: 6 | M8: 7 | N8: 0 | O8: 7 | P8: 1 | Q8: 24 | R8: 0 | S8: 0 | T8: 6 | U8: 0 | V8: 0 | W8: 0 | X8: 0 | Y8: 19 | Z8: 3 | AA8: 68 | AB8: 13 | AC8: 12 | AD8: 0 | AE8: 0 | AF8: 0 | AG8: 0 | AH8: 0 | AI8: 19 | AJ8: 10 | AK8: 5 | AL8: 0 | AM8: 62 | AN8: 389 | AO8: 0 | AP8: 5 | AQ8: 6 | AR8: 0 | AS8: 6 | AT8: 0 | AU8: 0 | AV8: 0 | AW8: 0 | AX8: 0 | AY8: 0 | AZ8: 0 | BA8: 0 | BB8: 0 | BC8: 0 | BD8: 0 | BE8: 0 | BF8: 0 | BG8: 0 | BH8: 0 | BI8: 0 | BJ8: 0 | BK8: 0 | BL8: 0 | BM8: 1 | BN8: 0 | BO8: 0 | BP8: 0 | BQ8: 0 | BR8: 0 | BS8: 0 | BT8: 0 | BU8: 0 | BV8: 0 | BW8: 0 | BX8: 0 | BY8: 0 | BZ8: 18
B9: 面積(M2) | C9: 4199.69 | D9: 1340.15 | E9: 1969.9 | F9: 10523.23 | G9: 809.62 | H9: 910.91 | I9: 3870.16 | J9: 2787.5 | K9: 0 | L9: 1001.48 | M9: 1933.53 | N9: 0 | O9: 1797.4 | P9: 180.4 | Q9: 3895.69 | R9: 0 | S9: 0 | T9: 1135.8 | U9: 0 | V9: 0 | W9: 0 | X9: 0 | Y9: 2880.14 | Z9: 523.87 | AA9: 12797.63 | AB9: 2327.93 | AC9: 2454.2 | AD9: 0 | AE9: 0 | AF9: 0 | AG9: 0 | AH9: 0 | AI9: 4034.46 | AJ9: 2156.76 | AK9: 1031.73 | AL9: 0 | AM9: 12208.66 | AN9: 76770.84 | AO9: 0 | AP9: 407.37 | AQ9: 291.68 | AR9: 0 | AS9: 666.06 | AT9: 0 | AU9: 0 | AV9: 0 | AW9: 0 | AX9: 0 | AY9: 0 | AZ9: 0 | BA9: 0 | BB9: 0 | BC9: 0 | BD9: 0 | BE9: 0 | BF9: 0 | BG9: 0 | BH9: 0 | BI9: 0 | BJ9: 0 | BK9: 0 | BL9: 0 | BM9: 51.55 | BN9: 0 | BO9: 0 | BP9: 0 | BQ9: 0 | BR9: 0 | BS9: 0 | BT9: 0 | BU9: 0 | BV9: 0 | BW9: 0 | BX9: 0 | BY9: 0 | BZ9: 1416.66
A10: 104年4月 | B10: 筆數 | C10: 11 | D10: 7 | E10: 10 | F10: 73 | G10: 6 | H10: 0 | I10: 11 | J10: 1 | K10: 2 | L10: 7 | M10: 3 | N10: 0 | O10: 17 | P10: 0 | Q10: 5 | R10: 0 | S10: 0 | T10: 8 | U10: 10 | V10: 0 | W10: 0 | X10: 0 | Y10: 11 | Z10: 16 | AA10: 34 | AB10: 11 | AC10: 16 | AD10: 0 | AE10: 0 | AF10: 0 | AG10: 0 | AH10: 0 | AI10: 9 | AJ10: 14 | AK10: 16 | AL10: 0 | AM10: 56 | AN10: 354 | AO10: 0 | AP10: 1 | AQ10: 17 | AR10: 0 | AS10: 19 | AT10: 4 | AU10: 0 | AV10: 0 | AW10: 0 | AX10: 0 | AY10: 0 | AZ10: 0 | BA10: 0 | BB10: 0 | BC10: 0 | BD10: 0 | BE10: 0 | BF10: 0 | BG10: 0 | BH10: 0 | BI10: 0 | BJ10: 0 | BK10: 0 | BL10: 0 | BM10: 0 | BN10: 0 | BO10: 0 | BP10: 0 | BQ10: 0 | BR10: 0 | BS10: 0 | BT10: 0 | BU10: 0 | BV10: 0 | BW10: 0 | BX10: 0 | BY10: 0 | BZ10: 41
B11: 面積(M2) | C11: 2584.13 | D11: 1696.86 | E11: 3318.66 | F11: 12562.49 | G11: 2141.78 | H11: 0 | I11: 2549.13 | J11: 212.73 | K11: 347.01 | L11: 1129.5 | M11: 977.13 | N11: 0 | O11: 3315.21 | P11: 0 | Q11: 765.35 | R11: 0 | S11: 0 | T11: 1568.71 | U11: 1856.35 | V11: 0 | W11: 0 | X11: 0 | Y11: 1632.04 | Z11: 2553.57 | AA11: 7872.97 | AB11: 1916.84 | AC11: 2691.66 | AD11: 0 | AE11: 0 | AF11: 0 | AG11: 0 | AH11: 0 | AI11: 2324.41 | AJ11: 4153.55 | AK11: 3017.39 | AL11: 0 | AM11: 11413.69 | AN11: 72601.16 | AO11: 0 | AP11: 85.49 | AQ11: 1887.57 | AR11: 0 | AS11: 1047.26 | AT11: 883.36 | AU11: 0 | AV11: 0 | AW11: 0 | AX11: 0 | AY11: 0 | AZ11: 0 | BA11: 0 | BB11: 0 | BC11: 0 | BD11: 0 | BE11: 0 | BF11: 0 | BG11: 0 | BH11: 0 | BI11: 0 | BJ11: 0 | BK11: 0 | BL11: 0 | BM11: 0 | BN11: 0 | BO11: 0 | BP11: 0 | BQ11: 0 | BR11: 0 | BS11: 0 | BT11: 0 | BU11: 0 | BV11: 0 | BW11: 0 | BX11: 0 | BY11: 0 | BZ11: 3903.68
A12: 104年5月 | B12: 筆數 | C12: 13 | D12: 14 | E12: 9 | F12: 84 | G12: 7 | H12: 3 | I12: 26 | J12: 0 | K12: 5 | L12: 3 | M12: 5 | N12: 0 | O12: 7 | P12: 0 | Q12: 0 | R12: 0 | S12: 0 | T12: 20 | U12: 16 | V12: 0 | W12: 1 | X12: 0 | Y12: 0 | Z12: 6 | AA12: 19 | AB12: 20 | AC12: 15 | AD12: 0 | AE12: 0 | AF12: 0 | AG12: 0 | AH12: 0 | AI12: 8 | AJ12: 12 | AK12: 3 | AL12: 0 | AM12: 36 | AN12: 332 | AO12: 0 | AP12: 0 | AQ12: 1 | AR12: 0 | AS12: 11 | AT12: 17 | AU12: 0 | AV12: 0 | AW12: 0 | AX12: 0 | AY12: 0 | AZ12: 0 | BA12: 0 | BB12: 0 | BC12: 0 | BD12: 0 | BE12: 0 | BF12: 0 | BG12: 0 | BH12: 0 | BI12: 0 | BJ12: 0 | BK12: 0 | BL12: 0 | BM12: 0 | BN12: 0 | BO12: 0 | BP12: 0 | BQ12: 0 | BR12: 0 | BS12: 0 | BT12: 0 | BU12: 0 | BV12: 0 | BW12: 0 | BX12: 0 | BY12: 0 | BZ12: 29
B13: 面積(M2) | C13: 3900.13 | D13: 2879.74 | E13: 2821.44 | F13: 15233.29 | G13: 2452.5 | H13: 860.39 | I13: 5586.54 | J13: 0 | K13: 940.02 | L13: 447.86 | M13: 1087.17 | N13: 0 | O13: 1501.87 | P13: 0 | Q13: 0 | R13: 0 | S13: 0 | T13: 3707.23 | U13: 2602.74 | V13: 0 | W13: 151.67 | X13: 0 | Y13: 0 | Z13: 943.31 | AA13: 4054.94 | AB13: 3492.25 | AC13: 2422.91 | AD13: 0 | AE13: 0 | AF13: 0 | AG13: 0 | AH13: 0 | AI13: 1627.99 | AJ13: 2559.71 | AK13: 508.82 | AL13: 0 | AM13: 7027.47 | AN13: 66809.99 | AO13: 0 | AP13: 0 | AQ13: 46.88 | AR13: 0 | AS13: 769.2 | AT13: 3929.88 | AU13: 0 | AV13: 0 | AW13: 0 | AX13: 0 | AY13: 0 | AZ13: 0 | BA13: 0 | BB13: 0 | BC13: 0 | BD13: 0 | BE13: 0 | BF13: 0 | BG13: 0 | BH13: 0 | BI13: 0 | BJ13: 0 | BK13: 0 | BL13: 0 | BM13: 0 | BN13: 0 | BO13: 0 | BP13: 0 | BQ13: 0 | BR13: 0 | BS13: 0 | BT13: 0 | BU13: 0 | BV13: 0 | BW13: 0 | BX13: 0 | BY13: 0 | BZ13: 4745.96
A14: 104年6月 | B14: 筆數 | C14: 5 | D14: 14 | E14: 2 | F14: 119 | G14: 4 | H14: 1 | I14: 18 | J14: 4 | K14: 1 | L14: 3 | M14: 6 | N14: 0 | O14: 14 | P14: 4 | Q14: 3 | R14: 11 | S14: 0 | T14: 7 | U14: 9 | V14: 0 | W14: 5 | X14: 0 | Y14: 0 | Z14: 1 | AA14: 30 | AB14: 44 | AC14: 8 | AD14: 0 | AE14: 0 | AF14: 0 | AG14: 0 | AH14: 0 | AI14: 15 | AJ14: 11 | AK14: 22 | AL14: 0 | AM14: 30 | AN14: 391 | AO14: 0 | AP14: 0 | AQ14: 61 | AR14: 0 | AS14: 8 | AT14: 1 | AU14: 0 | AV14: 0 | AW14: 0 | AX14: 0 | AY14: 0 | AZ14: 0 | BA14: 0 | BB14: 0 | BC14: 0 | BD14: 0 | BE14: 0 | BF14: 0 | BG14: 0 | BH14: 0 | BI14: 0 | BJ14: 0 | BK14: 0 | BL14: 0 | BM14: 0 | BN14: 38 | BO14: 0 | BP14: 0 | BQ14: 0 | BR14: 0 | BS14: 0 | BT14: 0 | BU14: 0 | BV14: 0 | BW14: 0 | BX14: 0 | BY14: 0 | BZ14: 108
B15: 面積(M2) | C15: 1529.07 | D15: 3025 | E15: 528.19 | F15: 22248.48 | G15: 1488.96 | H15: 364.56 | I15: 3618.81 | J15: 881.19 | K15: 191.51 | L15: 421.68 | M15: 1383.7 | N15: 0 | O15: 2874.11 | P15: 722.74 | Q15: 495.36 | R15: 1830.17 | S15: 0 | T15: 1438.01 | U15: 1437.01 | V15: 0 | W15: 876.7 | X15: 0 | Y15: 0 | Z15: 215.39 | AA15: 6431.32 | AB15: 9276.57 | AC15: 1353.68 | AD15: 0 | AE15: 0 | AF15: 0 | AG15: 0 | AH15: 0 | AI15: 4157.45 | AJ15: 2549.3 | AK15: 3706.47 | AL15: 0 | AM15: 5775.15 | AN15: 78820.58 | AO15: 0 | AP15: 0 | AQ15: 15742.77 | AR15: 0 | AS15: 436.83 | AT15: 210.44 | AU15: 0 | AV15: 0 | AW15: 0 | AX15: 0 | AY15: 0 | AZ15: 0 | BA15: 0 | BB15: 0 | BC15: 0 | BD15: 0 | BE15: 0 | BF15: 0 | BG15: 0 | BH15: 0 | BI15: 0 | BJ15: 0 | BK15: 0 | BL15: 0 | BM15: 0 | BN15: 1863.84 | BO15: 0 | BP15: 0 | BQ15: 0 | BR15: 0 | BS15: 0 | BT15: 0 | BU15: 0 | BV15: 0 | BW15: 0 | BX15: 0 | BY15: 0 | BZ15: 18253.88
A16: 104年7月 | B16: 筆數 | C16: 18 | D16: 3 | E16: 7 | F16: 65 | G16: 5 | H16: 0 | I16: 22 | J16: 3 | K16: 2 | L16: 1 | M16: 7 | N16: 1 | O16: 19 | P16: 3 | Q16: 2 | R16: 10 | S16: 0 | T16: 18 | U16: 1 | V16: 0 | W16: 2 | X16: 0 | Y16: 8 | Z16: 0 | AA16: 18 | AB16: 38 | AC16: 8 | AD16: 0 | AE16: 0 | AF16: 0 | AG16: 0 | AH16: 0 | AI16: 19 | AJ16: 56 | AK16: 29 | AL16: 0 | AM16: 50 | AN16: 415 | AO16: 2 | AP16: 0 | AQ16: 12 | AR16: 0 | AS16: 13 | AT16: 1 | AU16: 0 | AV16: 0 | AW16: 0 | AX16: 0 | AY16: 0 | AZ16: 0 | BA16: 0 | BB16: 0 | BC16: 0 | BD16: 0 | BE16: 0 | BF16: 0 | BG16: 0 | BH16: 0 | BI16: 0 | BJ16: 0 | BK16: 0 | BL16: 0 | BM16: 0 | BN16: 13 | BO16: 0 | BP16: 0 | BQ16: 0 | BR16: 0 | BS16: 0 | BT16: 0 | BU16: 0 | BV16: 0 | BW16: 0 | BX16: 0 | BY16: 0 | BZ16: 41
B17: 面積(M2) | C17: 3588.3 | D17: 734.3 | E17: 1745.61 | F17: 12648.2 | G17: 2003.85 | H17: 0 | I17: 6129.85 | J17: 754.12 | K17: 329.08 | L17: 153.65 | M17: 1708.65 | N17: 153.8 | O17: 3976.6 | P17: 569.29 | Q17: 383.37 | R17: 1819.09 | S17: 0 | T17: 3616.98 | U17: 181.37 | V17: 0 | W17: 302.4 | X17: 0 | Y17: 3005.36 | Z17: 0 | AA17: 4528.2 | AB17: 7305.5 | AC17: 1549.77 | AD17: 0 | AE17: 0 | AF17: 0 | AG17: 0 | AH17: 0 | AI17: 4149.45 | AJ17: 7608.14 | AK17: 4916.43 | AL17: 0 | AM17: 9520.41 | AN17: 83381.77 | AO17: 256.09 | AP17: 0 | AQ17: 2920.29 | AR17: 0 | AS17: 1572.83 | AT17: 231.24 | AU17: 0 | AV17: 0 | AW17: 0 | AX17: 0 | AY17: 0 | AZ17: 0 | BA17: 0 | BB17: 0 | BC17: 0 | BD17: 0 | BE17: 0 | BF17: 0 | BG17: 0 | BH17: 0 | BI17: 0 | BJ17: 0 | BK17: 0 | BL17: 0 | BM17: 0 | BN17: 644.71 | BO17: 0 | BP17: 0 | BQ17: 0 | BR17: 0 | BS17: 0 | BT17: 0 | BU17: 0 | BV17: 0 | BW17: 0 | BX17: 0 | BY17: 0 | BZ17: 5625.16
A18: 104年8月 | B18: 筆數 | C18: 8 | D18: 4 | E18: 5 | F18: 49 | G18: 5 | H18: 6 | I18: 25 | J18: 3 | K18: 2 | L18: 0 | M18: 3 | N18: 9 | O18: 9 | P18: 0 | Q18: 7 | R18: 3 | S18: 0 | T18: 43 | U18: 0 | V18: 0 | W18: 1 | X18: 0 | Y18: 13 | Z18: 53 | AA18: 16 | AB18: 26 | AC18: 6 | AD18: 0 | AE18: 3 | AF18: 0 | AG18: 0 | AH18: 0 | AI18: 27 | AJ18: 8 | AK18: 8 | AL18: 0 | AM18: 14 | AN18: 356 | AO18: 0 | AP18: 0 | AQ18: 6 | AR18: 0 | AS18: 6 | AT18: 1 | AU18: 0 | AV18: 0 | AW18: 0 | AX18: 0 | AY18: 0 | AZ18: 0 | BA18: 0 | BB18: 0 | BC18: 0 | BD18: 0 | BE18: 0 | BF18: 0 | BG18: 0 | BH18: 0 | BI18: 0 | BJ18: 0 | BK18: 0 | BL18: 0 | BM18: 0 | BN18: 1 | BO18: 0 | BP18: 0 | BQ18: 0 | BR18: 0 | BS18: 0 | BT18: 0 | BU18: 0 | BV18: 0 | BW18: 0 | BX18: 0 | BY18: 49 | BZ18: 63
B19: 面積(M2) | C19: 1848.45 | D19: 982.44 | E19: 1826.55 | F19: 9347.36 | G19: 1880.84 | H19: 2749.3 | I19: 6369.42 | J19: 665.82 | K19: 389.92 | L19: 0 | M19: 878.05 | N19: 1455.08 | O19: 1750.71 | P19: 0 | Q19: 1278.86 | R19: 477.48 | S19: 0 | T19: 8420.96 | U19: 0 | V19: 0 | W19: 187.99 | X19: 0 | Y19: 3655.09 | Z19: 9363.76 | AA19: 3225.98 | AB19: 4953.94 | AC19: 958.38 | AD19: 0 | AE19: 634.21 | AF19: 0 | AG19: 0 | AH19: 0 | AI19: 4748.09 | AJ19: 1337.12 | AK19: 1249.74 | AL19: 0 | AM19: 2451.76 | AN19: 73087.3 | AO19: 0 | AP19: 0 | AQ19: 871.03 | AR19: 0 | AS19: 323.9 | AT19: 440.3 | AU19: 0 | AV19: 0 | AW19: 0 | AX19: 0 | AY19: 0 | AZ19: 0 | BA19: 0 | BB19: 0 | BC19: 0 | BD19: 0 | BE19: 0 | BF19: 0 | BG19: 0 | BH19: 0 | BI19: 0 | BJ19: 0 | BK19: 0 | BL19: 0 | BM19: 0 | BN19: 46.07 | BO19: 0 | BP19: 0 | BQ19: 0 | BR19: 0 | BS19: 0 | BT19: 0 | BU19: 0 | BV19: 0 | BW19: 0 | BX19: 0 | BY19: 2316.8 | BZ19: 3998.1
A20: 104年9月 | B20: 筆數 | C20: 6 | D20: 14 | E20: 5 | F20: 38 | G20: 5 | H20: 1 | I20: 37 | J20: 5 | K20: 1 | L20: 0 | M20: 0 | N20: 2 | O20: 25 | P20: 3 | Q20: 3 | R20: 9 | S20: 0 | T20: 19 | U20: 0 | V20: 0 | W20: 2 | X20: 0 | Y20: 1 | Z20: 2 | AA20: 19 | AB20: 24 | AC20: 4 | AD20: 0 | AE20: 1 | AF20: 0 | AG20: 0 | AH20: 0 | AI20: 30 | AJ20: 10 | AK20: 4 | AL20: 0 | AM20: 30 | AN20: 300 | AO20: 9 | AP20: 0 | AQ20: 11 | AR20: 0 | AS20: 3 | AT20: 0 | AU20: 0 | AV20: 0 | AW20: 0 | AX20: 0 | AY20: 0 | AZ20: 0 | BA20: 0 | BB20: 0 | BC20: 0 | BD20: 0 | BE20: 0 | BF20: 0 | BG20: 0 | BH20: 0 | BI20: 0 | BJ20: 0 | BK20: 0 | BL20: 0 | BM20: 0 | BN20: 1 | BO20: 0 | BP20: 0 | BQ20: 0 | BR20: 0 | BS20: 0 | BT20: 0 | BU20: 0 | BV20: 0 | BW20: 0 | BX20: 0 | BY20: 55 | BZ20: 79
B21: 面積(M2) | C21: 1540.9 | D21: 2962.82 | E21: 1746.86 | F21: 6058.53 | G21: 1496.27 | H21: 302.7 | I21: 7205.55 | J21: 1023.65 | K21: 167.13 | L21: 0 | M21: 0 | N21: 263.02 | O21: 4555.92 | P21: 763.68 | Q21: 450.63 | R21: 1414.25 | S21: 0 | T21: 3271.64 | U21: 0 | V21: 0 | W21: 375.98 | X21: 0 | Y21: 163.45 | Z21: 324.03 | AA21: 4380.71 | AB21: 4327.3 | AC21: 632.56 | AD21: 0 | AE21: 229.86 | AF21: 0 | AG21: 0 | AH21: 0 | AI21: 6381.31 | AJ21: 2314.04 | AK21: 649.08 | AL21: 0 | AM21: 7183.86 | AN21: 60185.73 | AO21: 996.41 | AP21: 0 | AQ21: 2567.11 | AR21: 0 | AS21: 186.33 | AT21: 0 | AU21: 0 | AV21: 0 | AW21: 0 | AX21: 0 | AY21: 0 | AZ21: 0 | BA21: 0 | BB21: 0 | BC21: 0 | BD21: 0 | BE21: 0 | BF21: 0 | BG21: 0 | BH21: 0 | BI21: 0 | BJ21: 0 | BK21: 0 | BL21: 0 | BM21: 0 | BN21: 49.62 | BO21: 0 | BP21: 0 | BQ21: 0 | BR21: 0 | BS21: 0 | BT21: 0 | BU21: 0 | BV21: 0 | BW21: 0 | BX21: 0 | BY21: 2894.7 | BZ21: 6694.17
A22: 104年10月 | B22: 筆數 | C22: 9 | D22: 4 | E22: 4 | F22: 115 | G22: 1 | H22: 3 | I22: 19 | J22: 6 | K22: 1 | L22: 7 | M22: 0 | N22: 7 | O22: 9 | P22: 0 | Q22: 4 | R22: 0 | S22: 0 | T22: 13 | U22: 6 | V22: 0 | W22: 1 | X22: 0 | Y22: 0 | Z22: 1 | AA22: 50 | AB22: 34 | AC22: 6 | AD22: 0 | AE22: 0 | AF22: 0 | AG22: 0 | AH22: 0 | AI22: 47 | AJ22: 20 | AK22: 4 | AL22: 0 | AM22: 15 | AN22: 386 | AO22: 14 | AP22: 0 | AQ22: 2 | AR22: 0 | AS22: 92 | AT22: 2 | AU22: 0 | AV22: 0 | AW22: 0 | AX22: 0 | AY22: 0 | AZ22: 0 | BA22: 0 | BB22: 0 | BC22: 0 | BD22: 0 | BE22: 0 | BF22: 0 | BG22: 0 | BH22: 0 | BI22: 0 | BJ22: 0 | BK22: 0 | BL22: 0 | BM22: 0 | BN22: 0 | BO22: 0 | BP22: 0 | BQ22: 0 | BR22: 0 | BS22: 0 | BT22: 0 | BU22: 0 | BV22: 0 | BW22: 0 | BX22: 0 | BY22: 31 | BZ22: 141
B23: 面積(M2) | C23: 2213.41 | D23: 757.69 | E23: 1246.6 | F23: 19665.83 | G23: 310.99 | H23: 1137.78 | I23: 4015.75 | J23: 1174.55 | K23: 143.96 | L23: 1392.74 | M23: 0 | N23: 992.19 | O23: 1601.24 | P23: 0 | Q23: 723.83 | R23: 0 | S23: 0 | T23: 2218.51 | U23: 988.69 | V23: 0 | W23: 187.99 | X23: 0 | Y23: 0 | Z23: 171.91 | AA23: 10705.87 | AB23: 6457.11 | AC23: 995.41 | AD23: 0 | AE23: 0 | AF23: 0 | AG23: 0 | AH23: 0 | AI23: 8720.13 | AJ23: 3552.97 | AK23: 694.02 | AL23: 0 | AM23: 3076.5 | AN23: 73145.67 | AO23: 1304.19 | AP23: 0 | AQ23: 320.45 | AR23: 0 | AS23: 16433.69 | AT23: 167.5 | AU23: 0 | AV23: 0 | AW23: 0 | AX23: 0 | AY23: 0 | AZ23: 0 | BA23: 0 | BB23: 0 | BC23: 0 | BD23: 0 | BE23: 0 | BF23: 0 | BG23: 0 | BH23: 0 | BI23: 0 | BJ23: 0 | BK23: 0 | BL23: 0 | BM23: 0 | BN23: 0 | BO23: 0 | BP23: 0 | BQ23: 0 | BR23: 0 | BS23: 0 | BT23: 0 | BU23: 0 | BV23: 0 | BW23: 0 | BX23: 0 | BY23: 2064.82 | BZ23: 20290.65
A24: 104年11月 | B24: 筆數 | C24: 8 | D24: 59 | E24: 12 | F24: 62 | G24: 11 | H24: 3 | I24: 14 | J24: 1 | K24: 0 | L24: 1 | M24: 0 | N24: 0 | O24: 15 | P24: 1 | Q24: 3 | R24: 1 | S24: 0 | T24: 24 | U24: 1 | V24: 0 | W24: 0 | X24: 0 | Y24: 0 | Z24: 0 | AA24: 82 | AB24: 26 | AC24: 9 | AD24: 0 | AE24: 0 | AF24: 0 | AG24: 0 | AH24: 0 | AI24: 25 | AJ24: 17 | AK24: 25 | AL24: 0 | AM24: 61 | AN24: 461 | AO24: 3 | AP24: 0 | AQ24: 5 | AR24: 0 | AS24: 38 | AT24: 0 | AU24: 0 | AV24: 0 | AW24: 0 | AX24: 0 | AY24: 0 | AZ24: 0 | BA24: 0 | BB24: 0 | BC24: 0 | BD24: 0 | BE24: 0 | BF24: 0 | BG24: 0 | BH24: 0 | BI24: 0 | BJ24: 0 | BK24: 0 | BL24: 0 | BM24: 0 | BN24: 0 | BO24: 0 | BP24: 0 | BQ24: 0 | BR24: 0 | BS24: 0 | BT24: 0 | BU24: 1 | BV24: 0 | BW24: 0 | BX24: 0 | BY24: 11 | BZ24: 58
B25: 面積(M2) | C25: 2102.88 | D25: 9997.8 | E25: 2655.44 | F25: 10753.8 | G25: 4096.67 | H25: 1377.61 | I25: 3761.48 | J25: 186.69 | K25: 0 | L25: 183.97 | M25: 0 | N25: 0 | O25: 3063.29 | P25: 206.92 | Q25: 445.14 | R25: 155.04 | S25: 0 | T25: 4709.94 | U25: 158.96 | V25: 0 | W25: 0 | X25: 0 | Y25: 0 | Z25: 0 | AA25: 17816.92 | AB25: 4820.06 | AC25: 1465.72 | AD25: 0 | AE25: 0 | AF25: 0 | AG25: 0 | AH25: 0 | AI25: 5230.69 | AJ25: 3032.66 | AK25: 4523.09 | AL25: 0 | AM25: 12893.24 | AN25: 93638.01 | AO25: 309.16 | AP25: 0 | AQ25: 962.05 | AR25: 0 | AS25: 6795.77 | AT25: 0 | AU25: 0 | AV25: 0 | AW25: 0 | AX25: 0 | AY25: 0 | AZ25: 0 | BA25: 0 | BB25: 0 | BC25: 0 | BD25: 0 | BE25: 0 | BF25: 0 | BG25: 0 | BH25: 0 | BI25: 0 | BJ25: 0 | BK25: 0 | BL25: 0 | BM25: 0 | BN25: 0 | BO25: 0 | BP25: 0 | BQ25: 0 | BR25: 0 | BS25: 0 | BT25: 0 | BU25: 89.06 | BV25: 0 | BW25: 0 | BX25: 0 | BY25: 1151 | BZ25: 9307.04
A26: 104年12月 | B26: 筆數 | C26: 34 | D26: 46 | E26: 56 | F26: 230 | G26: 15 | H26: 6 | I26: 46 | J26: 1 | K26: 0 | L26: 16 | M26: 0 | N26: 4 | O26: 32 | P26: 3 | Q26: 6 | R26: 0 | S26: 0 | T26: 42 | U26: 2 | V26: 0 | W26: 9 | X26: 0 | Y26: 37 | Z26: 2 | AA26: 191 | AB26: 76 | AC26: 34 | AD26: 0 | AE26: 39 | AF26: 0 | AG26: 0 | AH26: 0 | AI26: 68 | AJ26: 40 | AK26: 49 | AL26: 0 | AM26: 74 | AN26: 1158 | AO26: 208 | AP26: 0 | AQ26: 595 | AR26: 0 | AS26: 88 | AT26: 3 | AU26: 0 | AV26: 0 | AW26: 0 | AX26: 0 | AY26: 0 | AZ26: 0 | BA26: 0 | BB26: 0 | BC26: 0 | BD26: 0 | BE26: 0 | BF26: 0 | BG26: 0 | BH26: 0 | BI26: 0 | BJ26: 0 | BK26: 0 | BL26: 0 | BM26: 1 | BN26: 4 | BO26: 0 | BP26: 0 | BQ26: 0 | BR26: 0 | BS26: 0 | BT26: 0 | BU26: 0 | BV26: 0 | BW26: 0 | BX26: 0 | BY26: 4 | BZ26: 903
B27: 面積(M3) | C27: 6545.77 | D27: 13429.63 | E27: 14600.68 | F27: 49800.95 | G27: 5612.93 | H27: 2006.47 | I27: 10583.07 | J27: 189.31 | K27: 0 | L27: 3038.31 | M27: 0 | N27: 549.51 | O27: 6237.97 | P27: 484.74 | Q27: 1189.34 | R27: 0 | S27: 0 | T27: 7631.41 | U27: 465.6 | V27: 0 | W27: 1299.85 | X27: 0 | Y27: 6147.07 | Z27: 411.14 | AA27: 36359.62 | AB27: 11188.49 | AC27: 5377.84 | AD27: 0 | AE27: 6485.87 | AF27: 0 | AG27: 0 | AH27: 0 | AI27: 15300.93 | AJ27: 7190.58 | AK27: 10302.67 | AL27: 0 | AM27: 15757.41 | AN27: 238187.16 | AO27: 49659.45 | AP27: 0 | AQ27: 36525.73 | AR27: 0 | AS27: 16790.16 | AT27: 702.83 | AU27: 0 | AV27: 0 | AW27: 0 | AX27: 0 | AY27: 0 | AZ27: 0 | BA27: 0 | BB27: 0 | BC27: 0 | BD27: 0 | BE27: 0 | BF27: 0 | BG27: 0 | BH27: 0 | BI27: 0 | BJ27: 0 | BK27: 0 | BL27: 0 | BM27: 185.01 | BN27: 223.55 | BO27: 0 | BP27: 0 | BQ27: 0 | BR27: 0 | BS27: 0 | BT27: 0 | BU27: 0 | BV27: 0 | BW27: 0 | BX27: 0 | BY27: 442.49 | BZ27: 104529.22
A28: 筆數合計 | C28: 152 | D28: 180 | E28: 127 | F28: 930 | G28: 71 | H28: 36 | I28: 289 | J28: 39 | K28: 15 | L28: 50 | M28: 38 | N28: 23 | O28: 170 | P28: 27 | Q28: 58 | R28: 34 | S28: 0 | T28: 208 | U28: 45 | V28: 0 | W28: 21 | X28: 0 | Y28: 90 | Z28: 84 | AA28: 604 | AB28: 379 | AC28: 169 | AD28: 0 | AE28: 43 | AF28: 0 | AG28: 0 | AH28: 0 | AI28: 342 | AJ28: 208 | AK28: 170 | AL28: 0 | AM28: 660 | AN28: 5262 | AO28: 236 | AP28: 26 | AQ28: 718 | AR28: 46 | AS28: 300 | AT28: 29 | AU28: 0 | AV28: 0 | AW28: 0 | AX28: 0 | AY28: 0 | AZ28: 0 | BA28: 0 | BB28: 0 | BC28: 0 | BD28: 0 | BE28: 0 | BF28: 0 | BG28: 0 | BH28: 0 | BI28: 0 | BJ28: 0 | BK28: 0 | BL28: 0 | BM28: 3 | BN28: 57 | BO28: 0 | BP28: 0 | BQ28: 0 | BR28: 0 | BS28: 0 | BT28: 0 | BU28: 1 | BV28: 0 | BW28: 0 | BX28: 0 | BY28: 159 | BZ28: 1575
A29: 面積(M2)合計 | C29: 35701.54 | D29: 39640.37 | E29: 35001.07 | F29: 177146.76 | G29: 25161.04 | H29: 13385.21 | I29: 63232.74 | J29: 8088.29 | K29: 2668.13 | L29: 8827.18 | M29: 10001.21 | N29: 3413.6 | O29: 33922.78 | P29: 5066.97 | Q29: 9863.93 | R29: 5696.03 | S29: 0 | T29: 39221.41 | U29: 7690.72 | V29: 0 | W29: 3382.58 | X29: 0 | Y29: 17629.9 | Z29: 14506.98 | AA29: 123110.58 | AB29: 70878.74 | AC29: 28127.86 | AD29: 0 | AE29: 7349.94 | AF29: 0 | AG29: 0 | AH29: 0 | AI29: 70827.83 | AJ29: 38800.16 | AK29: 31503.66 | AL29: 0 | AM29: 130667.06 | AN29: 1060514.3 | AO29: 52525.3 | AP29: 2311.93 | AQ29: 62632.71 | AR29: 3547.08 | AS29: 45922.06 | AT29: 6565.55 | AU29: 0 | AV29: 0 | AW29: 0 | AX29: 0 | AY29: 0 | AZ29: 0 | BA29: 0 | BB29: 0 | BC29: 0 | BD29: 0 | BE29: 0 | BF29: 0 | BG29: 0 | BH29: 0 | BI29: 0 | BJ29: 0 | BK29: 0 | BL29: 0 | BM29: 296.84 | BN29: 2827.79 | BO29: 0 | BP29: 0 | BQ29: 0 | BR29: 0 | BS29: 0 | BT29: 0 | BU29: 89.06 | BV29: 0 | BW29: 0 | BX29: 0 | BY29: 10052.15 | BZ29: 186770.47
A30: 備註 | B30: 1.資料來源：臺南市政府地政局
B31: 2.本表係統計所有權人為本國私法人，建物主要用途為住家用、商業用、住商用、見使用執照或見其他事項，建築完成日期自92年1月1日起
B32: 迄今，完成建物第一次登記後以買賣為登記原因移轉之建物筆數與面積(單位為平方公尺)。

Sheet 地政局(彙)104年-登記
A1: 臺南市建物第一次登記統計表
C2: 完成保存登記後第一次登記之筆數。面積(六層以下，含六層) | AO2: 完成保存登記後第一次登記之筆數。面積(七層以上)
C3: 東區 | D3: 南區 | E3: 北區 | F3: 安南區 | G3: 安平區 | H3: 中西區 | I3: 新營巿 | J3: 鹽水鎮 | K3: 白河鎮 | L3: 柳營鄉 | M3: 後壁鄉 | N3: 東山鄉 | O3: 麻豆鎮 | P3: 下營鄉 | Q3: 六甲鄉 | R3: 官田鄉 | S3: 大內鄉 | T3: 佳里鎮 | U3: 西港鄉 | V3: 七股鄉 | W3: 將軍鄉 | X3: 北門鄉 | Y3: 學甲鎮 | Z3: 新化鎮 | AA3: 善化鎮 | AB3: 新市鄉 | AC3: 安定鄉 | AD3: 山上鄉 | AE3: 玉井鄉 | AF3: 楠西鄉 | AG3: 南化鄉 | AH3: 左鎮鄉 | AI3: 仁德鄉 | AJ3: 歸仁鄉 | AK3: 關廟鄉 | AL3: 龍崎鄉 | AM3: 永康市 | AN3: 全市總計 | AO3: 東區 | AP3: 南區 | AQ3: 北區 | AR3: 安南區 | AS3: 安平區 | AT3: 中西區 | AU3: 新營巿 | AV3: 鹽水鎮 | AW3: 白河鎮 | AX3: 柳營鄉 | AY3: 後壁鄉 | AZ3: 東山鄉 | BA3: 麻豆鎮 | BB3: 下營鄉 | BC3: 六甲鄉 | BD3: 官田鄉 | BE3: 大內鄉 | BF3: 佳里鎮 | BG3: 西港鄉 | BH3: 七股鄉 | BI3: 將軍鄉 | BJ3: 北門鄉 | BK3: 學甲鎮 | BL3: 新化鎮 | BM3: 善化鎮 | BN3: 新市鄉 | BO3: 安定鄉 | BP3: 山上鄉 | BQ3: 玉井鄉 | BR3: 楠西鄉 | BS3: 南化鄉 | BT3: 左鎮鄉 | BU3: 仁德鄉 | BV3: 歸仁鄉 | BW3: 關廟鄉 | BX3: 龍崎鄉 | BY3: 永康市 | BZ3: 全市總計
A4: 104年1月 | B4: 筆數 | C4: 2 | D4: 4 | E4: 1 | F4: 163 | G4: 14 | H4: 0 | I4: 0 | J4: 0 | K4: 0 | L4: 2 | M4: 0 | N4: 0 | O4: 18 | P4: 0 | Q4: 1 | R4: 15 | S4: 0 | T4: 11 | U4: 16 | V4: 0 | W4: 0 | X4: 0 | Y4: 31 | Z4: 0 | AA4: 94 | AB4: 0 | AC4: 27 | AD4: 0 | AE4: 0 | AF4: 0 | AG4: 0 | AH4: 0 | AI4: 46 | AJ4: 4 | AK4: 10 | AL4: 0 | AM4: 110 | AN4: 569 | AO4: 0 | AP4: 0 | AQ4: 0 | AR4: 0 | AS4: 0 | AT4: 0 | AU4: 0 | AV4: 0 | AW4: 0 | AX4: 0 | AY4: 0 | AZ4: 0 | BA4: 0 | BB4: 0 | BC4: 0 | BD4: 0 | BE4: 0 | BF4: 0 | BG4: 0 | BH4: 0 | BI4: 0 | BJ4: 0 | BK4: 0 | BL4: 0 | BM4: 0 | BN4: 0 | BO4: 0 | BP4: 0 | BQ4: 0 | BR4: 0 | BS4: 0 | BT4: 0 | BU4: 0 | BV4: 0 | BW4: 0 | BX4: 0 | BY4: 1 | BZ4: 1
B5: 面積(M2) | C5: 511.25 | D5: 952.5 | E5: 193.94 | F5: 31895.7 | G5: 4681.35 | H5: 0 | I5: 0 | J5: 0 | K5: 0 | L5: 6511.61 | M5: 0 | N5: 0 | O5: 4792.52 | P5: 0 | Q5: 181.14 | R5: 5770.56 | S5: 0 | T5: 2485.34 | U5: 2982.43 | V5: 0 | W5: 0 | X5: 0 | Y5: 4658.93 | Z5: 0 | AA5: 19237.33 | AB5: 0 | AC5: 6900.38 | AD5: 0 | AE5: 0 | AF5: 0 | AG5: 0 | AH5: 0 | AI5: 15934.8 | AJ5: 1032.48 | AK5: 1960.3 | AL5: 0 | AM5: 23626.85 | AN5: 134309.41 | AO5: 0 | AP5: 0 | AQ5: 0 | AR5: 0 | AS5: 0 | AT5: 0 | AU5: 0 | AV5: 0 | AW5: 0 | AX5: 0 | AY5: 0 | AZ5: 0 | BA5: 0 | BB5: 0 | BC5: 0 | BD5: 0 | BE5: 0 | BF5: 0 | BG5: 0 | BH5: 0 | BI5: 0 | BJ5: 0 | BK5: 0 | BL5: 0 | BM5: 0 | BN5: 0 | BO5: 0 | BP5: 0 | BQ5: 0 | BR5: 0 | BS5: 0 | BT5: 0 | BU5: 0 | BV5: 0 | BW5: 0 | BX5: 0 | BY5: 4988.74 | BZ5: 4988.74
A6: 104年2月 | B6: 筆數 | C6: 19 | D6: 35 | E6: 31 | F6: 79 | G6: 4 | H6: 0 | I6: 13 | J6: 0 | K6: 0 | L6: 0 | M6: 0 | N6: 0 | O6: 29 | P6: 0 | Q6: 48 | R6: 0 | S6: 0 | T6: 19 | U6: 1 | V6: 0 | W6: 11 | X6: 0 | Y6: 1 | Z6: 26 | AA6: 82 | AB6: 18 | AC6: 9 | AD6: 0 | AE6: 0 | AF6: 0 | AG6: 0 | AH6: 0 | AI6: 6 | AJ6: 3 | AK6: 12 | AL6: 0 | AM6: 47 | AN6: 493 | AO6: 0 | AP6: 0 | AQ6: 0 | AR6: 0 | AS6: 0 | AT6: 0 | AU6: 0 | AV6: 0 | AW6: 0 | AX6: 0 | AY6: 0 | AZ6: 0 | BA6: 0 | BB6: 0 | BC6: 0 | BD6: 0 | BE6: 0 | BF6: 0 | BG6: 0 | BH6: 0 | BI6: 0 | BJ6: 0 | BK6: 0 | BL6: 0 | BM6: 0 | BN6: 0 | BO6: 0 | BP6: 0 | BQ6: 0 | BR6: 0 | BS6: 0 | BT6: 0 | BU6: 0 | BV6: 0 | BW6: 0 | BX6: 0 | BY6: 0 | BZ6: 0
B7: 面積(M2) | C7: 5011.44 | D7: 7381.03 | E7: 9840.76 | F7: 32391.57 | G7: 1590.17 | H7: 0 | I7: 10219.64 | J7: 0 | K7: 0 | L7: 0 | M7: 0 | N7: 0 | O7: 5641.37 | P7: 0 | Q7: 7593.92 | R7: 0 | S7: 0 | T7: 5892.67 | U7: 1491.89 | V7: 0 | W7: 1883.41 | X7: 0 | Y7: 6.99 | Z7: 5396.18 | AA7: 46033.69 | AB7: 3539.38 | AC7: 3942.88 | AD7: 0 | AE7: 0 | AF7: 0 | AG7: 0 | AH7: 0 | AI7: 19343.03 | AJ7: 615.15 | AK7: 2019.01 | AL7: 0 | AM7: 25619.83 | AN7: 195454.01 | AO7: 0 | AP7: 0 | AQ7: 0 | AR7: 0 | AS7: 0 | AT7: 0 | AU7: 0 | AV7: 0 | AW7: 0 | AX7: 0 | AY7: 0 | AZ7: 0 | BA7: 0 | BB7: 0 | BC7: 0 | BD7: 0 | BE7: 0 | BF7: 0 | BG7: 0 | BH7: 0 | BI7: 0 | BJ7: 0 | BK7: 0 | BL7: 0 | BM7: 0 | BN7: 0 | BO7: 0 | BP7: 0 | BQ7: 0 | BR7: 0 | BS7: 0 | BT7: 0 | BU7: 0 | BV7: 0 | BW7: 0 | BX7: 0 | BY7: 0 | BZ7: 0
A8: 104年3月 | B8: 筆數 | C8: 2 | D8: 18 | E8: 6 | F8: 127 | G8: 2 | H8: 1 | I8: 38 | J8: 0 | K8: 4 | L8: 0 | M8: 0 | N8: 0 | O8: 1 | P8: 1 | Q8: 48 | R8: 0 | S8: 0 | T8: 14 | U8: 16 | V8: 0 | W8: 0 | X8: 0 | Y8: 30 | Z8: 0 | AA8: 10 | AB8: 41 | AC8: 9 | AD8: 1 | AE8: 0 | AF8: 0 | AG8: 0 | AH8: 0 | AI8: 9 | AJ8: 0 | AK8: 15 | AL8: 2 | AM8: 10 | AN8: 405 | AO8: 0 | AP8: 0 | AQ8: 29 | AR8: 0 | AS8: 0 | AT8: 30 | AU8: 0 | AV8: 0 | AW8: 0 | AX8: 0 | AY8: 0 | AZ8: 0 | BA8: 0 | BB8: 0 | BC8: 0 | BD8: 0 | BE8: 0 | BF8: 0 | BG8: 0 | BH8: 0 | BI8: 0 | BJ8: 0 | BK8: 0 | BL8: 0 | BM8: 0 | BN8: 0 | BO8: 0 | BP8: 0 | BQ8: 0 | BR8: 0 | BS8: 0 | BT8: 0 | BU8: 0 | BV8: 0 | BW8: 0 | BX8: 0 | BY8: 0 | BZ8: 59
B9: 面積(M2) | C9: 596.49 | D9: 3024.28 | E9: 2034.65 | F9: 20506.97 | G9: 585.85 | H9: 683.52 | I9: 18579.19 | J9: 0 | K9: 803.89 | L9: 0 | M9: 0 | N9: 0 | O9: 415.81 | P9: 1274.57 | Q9: 89111.39 | R9: 0 | S9: 0 | T9: 2630.52 | U9: 2343.88 | V9: 0 | W9: 0 | X9: 0 | Y9: 11162.7 | Z9: 0 | AA9: 2651.48 | AB9: 50913.23 | AC9: 1158.87 | AD9: 4456.02 | AE9: 0 | AF9: 0 | AG9: 0 | AH9: 0 | AI9: 2745.86 | AJ9: 0 | AK9: 3559.57 | AL9: 1160.12 | AM9: 2781.66 | AN9: 223180.52 | AO9: 0 | AP9: 0 | AQ9: 1367.46 | AR9: 0 | AS9: 0 | AT9: 7191.59 | AU9: 0 | AV9: 0 | AW9: 0 | AX9: 0 | AY9: 0 | AZ9: 0 | BA9: 0 | BB9: 0 | BC9: 0 | BD9: 0 | BE9: 0 | BF9: 0 | BG9: 0 | BH9: 0 | BI9: 0 | BJ9: 0 | BK9: 0 | BL9: 0 | BM9: 0 | BN9: 0 | BO9: 0 | BP9: 0 | BQ9: 0 | BR9: 0 | BS9: 0 | BT9: 0 | BU9: 0 | BV9: 0 | BW9: 0 | BX9: 0 | BY9: 0 | BZ9: 8559.05
A10: 104年4月 | B10: 筆數 | C10: 66 | D10: 23 | E10: 1 | F10: 85 | G10: 5 | H10: 1 | I10: 10 | J10: 0 | K10: 1 | L10: 0 | M10: 0 | N10: 0 | O10: 4 | P10: 0 | Q10: 0 | R10: 3 | S10: 0 | T10: 8 | U10: 6 | V10: 0 | W10: 0 | X10: 0 | Y10: 1 | Z10: 3 | AA10: 9 | AB10: 43 | AC10: 15 | AD10: 3 | AE10: 0 | AF10: 2 | AG10: 0 | AH10: 0 | AI10: 2 | AJ10: 20 | AK10: 25 | AL10: 0 | AM10: 49 | AN10: 385 | AO10: 0 | AP10: 0 | AQ10: 96 | AR10: 0 | AS10: 0 | AT10: 0 | AU10: 0 | AV10: 0 | AW10: 0 | AX10: 0 | AY10: 0 | AZ10: 0 | BA10: 0 | BB10: 0 | BC10: 0 | BD10: 0 | BE10: 0 | BF10: 0 | BG10: 0 | BH10: 0 | BI10: 0 | BJ10: 0 | BK10: 0 | BL10: 0 | BM10: 0 | BN10: 0 | BO10: 0 | BP10: 0 | BQ10: 0 | BR10: 0 | BS10: 0 | BT10: 0 | BU10: 0 | BV10: 0 | BW10: 0 | BX10: 0 | BY10: 0 | BZ10: 96
B11: 面積(M2) | C11: 12482.83 | D11: 4074.4 | E11: 278.79 | F11: 17315.62 | G11: 1698.81 | H11: 545.57 | I11: 2257.56 | J11: 0 | K11: 424.39 | L11: 0 | M11: 0 | N11: 0 | O11: 992.36 | P11: 0 | Q11: 0 | R11: 41957.29 | S11: 0 | T11: 2383.09 | U11: 1152.39 | V11: 0 | W11: 0 | X11: 0 | Y11: 204.82 | Z11: 4023 | AA11: 1804.69 | AB11: 17200.33 | AC11: 4629.39 | AD11: 14202.23 | AE11: 0 | AF11: 749.54 | AG11: 0 | AH11: 0 | AI11: 4755.63 | AJ11: 21652.01 | AK11: 4279.35 | AL11: 0 | AM11: 37389.51 | AN11: 196453.6 | AO11: 0 | AP11: 0 | AQ11: 25309.91 | AR11: 0 | AS11: 0 | AT11: 0 | AU11: 0 | AV11: 0 | AW11: 0 | AX11: 0 | AY11: 0 | AZ11: 0 | BA11: 0 | BB11: 0 | BC11: 0 | BD11: 0 | BE11: 0 | BF11: 0 | BG11: 0 | BH11: 0 | BI11: 0 | BJ11: 0 | BK11: 0 | BL11: 0 | BM11: 0 | BN11: 0 | BO11: 0 | BP11: 0 | BQ11: 0 | BR11: 0 | BS11: 0 | BT11: 0 | BU11: 0 | BV11: 0 | BW11: 0 | BX11: 0 | BY11: 0 | BZ11: 25309.91
A12: 104年5月 | B12: 筆數 | C12: 15 | D12: 0 | E12: 1 | F12: 52 | G12: 1 | H12: 9 | I12: 18 | J12: 0 | K12: 1 | L12: 8 | M12: 0 | N12: 0 | O12: 38 | P12: 0 | Q12: 0 | R12: 16 | S12: 0 | T12: 55 | U12: 0 | V12: 0 | W12: 0 | X12: 0 | Y12: 1 | Z12: 13 | AA12: 7 | AB12: 70 | AC12: 14 | AD12: 0 | AE12: 0 | AF12: 0 | AG12: 0 | AH12: 0 | AI12: 13 | AJ12: 44 | AK12: 26 | AL12: 0 | AM12: 54 | AN12: 456 | AO12: 0 | AP12: 0 | AQ12: 0 | AR12: 0 | AS12: 0 | AT12: 2 | AU12: 0 | AV12: 0 | AW12: 0 | AX12: 0 | AY12: 0 | AZ12: 0 | BA12: 0 | BB12: 0 | BC12: 0 | BD12: 0 | BE12: 0 | BF12: 0 | BG12: 0 | BH12: 0 | BI12: 0 | BJ12: 0 | BK12: 0 | BL12: 0 | BM12: 0 | BN12: 0 | BO12: 0 | BP12: 0 | BQ12: 0 | BR12: 0 | BS12: 0 | BT12: 0 | BU12: 0 | BV12: 0 | BW12: 0 | BX12: 0 | BY12: 0 | BZ12: 2
B13: 面積(M2) | C13: 4566.33 | D13: 0 | E13: 330.44 | F13: 15670.05 | G13: 217.17 | H13: 2403.5 | I13: 3704.55 | J13: 0 | K13: 923.82 | L13: 1703.38 | M13: 0 | N13: 0 | O13: 6689.88 | P13: 0 | Q13: 0 | R13: 3130.97 | S13: 0 | T13: 9778.16 | U13: 0 | V13: 0 | W13: 0 | X13: 0 | Y13: 989.02 | Z13: 2415.21 | AA13: 1523.88 | AB13: 12718.75 | AC13: 2167.15 | AD13: 0 | AE13: 0 | AF13: 0 | AG13: 0 | AH13: 0 | AI13: 7037.37 | AJ13: 15043.3 | AK13: 7455.46 | AL13: 0 | AM13: 26591.75 | AN13: 125060.14 | AO13: 0 | AP13: 0 | AQ13: 0 | AR13: 0 | AS13: 0 | AT13: 1758.99 | AU13: 0 | AV13: 0 | AW13: 0 | AX13: 0 | AY13: 0 | AZ13: 0 | BA13: 0 | BB13: 0 | BC13: 0 | BD13: 0 | BE13: 0 | BF13: 0 | BG13: 0 | BH13: 0 | BI13: 0 | BJ13: 0 | BK13: 0 | BL13: 0 | BM13: 0 | BN13: 0 | BO13: 0 | BP13: 0 | BQ13: 0 | BR13: 0 | BS13: 0 | BT13: 0 | BU13: 0 | BV13: 0 | BW13: 0 | BX13: 0 | BY13: 0 | BZ13: 1758.99
A14: 104年6月 | B14: 筆數 | C14: 17 | D14: 28 | E14: 9 | F14: 43 | G14: 10 | H14: 5 | I14: 21 | J14: 0 | K14: 0 | L14: 0 | M14: 0 | N14: 16 | O14: 20 | P14: 7 | Q14: 8 | R14: 12 | S14: 0 | T14: 4 | U14: 4 | V14: 0 | W14: 0 | X14: 0 | Y14: 7 | Z14: 43 | AA14: 136 | AB14: 21 | AC14: 0 | AD14: 0 | AE14: 0 | AF14: 0 | AG14: 0 | AH14: 0 | AI14: 2 | AJ14: 42 | AK14: 20 | AL14: 0 | AM14: 129 | AN14: 604 | AO14: 0 | AP14: 0 | AQ14: 0 | AR14: 0 | AS14: 0 | AT14: 0 | AU14: 0 | AV14: 0 | AW14: 0 | AX14: 0 | AY14: 0 | AZ14: 0 | BA14: 0 | BB14: 0 | BC14: 0 | BD14: 0 | BE14: 0 | BF14: 0 | BG14: 0 | BH14: 0 | BI14: 0 | BJ14: 0 | BK14: 0 | BL14: 0 | BM14: 0 | BN14: 70 | BO14: 0 | BP14: 0 | BQ14: 0 | BR14: 0 | BS14: 0 | BT14: 0 | BU14: 0 | BV14: 0 | BW14: 0 | BX14: 0 | BY14: 0 | BZ14: 70
B15: 面積(M2) | C15: 4269.14 | D15: 6806.85 | E15: 2414.83 | F15: 9753.73 | G15: 9914.04 | H15: 2133.91 | I15: 4231.94 | J15: 0 | K15: 0 | L15: 0 | M15: 0 | N15: 2399.78 | O15: 3838.88 | P15: 1292.03 | Q15: 1690.58 | R15: 4278.94 | S15: 0 | T15: 842.72 | U15: 718 | V15: 0 | W15: 0 | X15: 0 | Y15: 2323.14 | Z15: 7444.49 | AA15: 36194.88 | AB15: 3879.5 | AC15: 0 | AD15: 0 | AE15: 0 | AF15: 0 | AG15: 0 | AH15: 0 | AI15: 4310.39 | AJ15: 4124.4 | AK15: 3601.19 | AL15: 0 | AM15: 27478.33 | AN15: 143941.69 | AO15: 0 | AP15: 0 | AQ15: 0 | AR15: 0 | AS15: 0 | AT15: 0 | AU15: 0 | AV15: 0 | AW15: 0 | AX15: 0 | AY15: 0 | AZ15: 0 | BA15: 0 | BB15: 0 | BC15: 0 | BD15: 0 | BE15: 0 | BF15: 0 | BG15: 0 | BH15: 0 | BI15: 0 | BJ15: 0 | BK15: 0 | BL15: 0 | BM15: 0 | BN15: 37390.38 | BO15: 0 | BP15: 0 | BQ15: 0 | BR15: 0 | BS15: 0 | BT15: 0 | BU15: 0 | BV15: 0 | BW15: 0 | BX15: 0 | BY15: 0 | BZ15: 37390.38
A16: 104年7月 | B16: 筆數 | C16: 10 | D16: 29 | E16: 11 | F16: 32 | G16: 10 | H16: 5 | I16: 43 | J16: 0 | K16: 0 | L16: 0 | M16: 0 | N16: 0 | O16: 1 | P16: 0 | Q16: 12 | R16: 9 | S16: 0 | T16: 47 | U16: 6 | V16: 0 | W16: 0 | X16: 0 | Y16: 4 | Z16: 3 | AA16: 81 | AB16: 57 | AC16: 0 | AD16: 0 | AE16: 6 | AF16: 0 | AG16: 0 | AH16: 0 | AI16: 66 | AJ16: 33 | AK16: 1 | AL16: 0 | AM16: 39 | AN16: 505 | AO16: 0 | AP16: 0 | AQ16: 0 | AR16: 0 | AS16: 0 | AT16: 0 | AU16: 0 | AV16: 0 | AW16: 0 | AX16: 0 | AY16: 0 | AZ16: 0 | BA16: 1 | BB16: 0 | BC16: 0 | BD16: 0 | BE16: 0 | BF16: 0 | BG16: 0 | BH16: 0 | BI16: 0 | BJ16: 0 | BK16: 0 | BL16: 0 | BM16: 0 | BN16: 67 | BO16: 0 | BP16: 0 | BQ16: 0 | BR16: 0 | BS16: 0 | BT16: 0 | BU16: 0 | BV16: 0 | BW16: 0 | BX16: 0 | BY16: 0 | BZ16: 68
B17: 面積(M2) | C17: 2603.74 | D17: 4974.26 | E17: 2392.77 | F17: 5837.32 | G17: 3096.94 | H17: 4548.43 | I17: 10194.35 | J17: 0 | K17: 0 | L17: 0 | M17: 0 | N17: 0 | O17: 2802.28 | P17: 0 | Q17: 2441.66 | R17: 1414.25 | S17: 0 | T17: 9286.17 | U17: 956.83 | V17: 0 | W17: 0 | X17: 0 | Y17: 654.4 | Z17: 2617.83 | AA17: 15741.27 | AB17: 12202.2 | AC17: 0 | AD17: 0 | AE17: 1297.34 | AF17: 0 | AG17: 0 | AH17: 0 | AI17: 13592.49 | AJ17: 6637 | AK17: 206.5 | AL17: 0 | AM17: 22112.23 | AN17: 125610.26 | AO17: 0 | AP17: 0 | AQ17: 0 | AR17: 0 | AS17: 0 | AT17: 0 | AU17: 0 | AV17: 0 | AW17: 0 | AX17: 0 | AY17: 0 | AZ17: 0 | BA17: 17116.8 | BB17: 0 | BC17: 0 | BD17: 0 | BE17: 0 | BF17: 0 | BG17: 0 | BH17: 0 | BI17: 0 | BJ17: 0 | BK17: 0 | BL17: 0 | BM17: 0 | BN17: 2217.92 | BO17: 0 | BP17: 0 | BQ17: 0 | BR17: 0 | BS17: 0 | BT17: 0 | BU17: 0 | BV17: 0 | BW17: 0 | BX17: 0 | BY17: 0 | BZ17: 19334.72
A18: 104年8月 | B18: 筆數 | C18: 3 | D18: 58 | E18: 4 | F18: 133 | G18: 12 | H18: 0 | I18: 28 | J18: 10 | K18: 1 | L18: 0 | M18: 0 | N18: 15 | O18: 10 | P18: 0 | Q18: 1 | R18: 0 | S18: 0 | T18: 0 | U18: 0 | V18: 0 | W18: 0 | X18: 0 | Y18: 1 | Z18: 1 | AA18: 6 | AB18: 3 | AC18: 10 | AD18: 29 | AE18: 0 | AF18: 0 | AG18: 0 | AH18: 0 | AI18: 79 | AJ18: 6 | AK18: 9 | AL18: 0 | AM18: 40 | AN18: 459 | AO18: 0 | AP18: 0 | AQ18: 0 | AR18: 0 | AS18: 0 | AT18: 0 | AU18: 0 | AV18: 0 | AW18: 0 | AX18: 0 | AY18: 0 | AZ18: 0 | BA18: 0 | BB18: 0 | BC18: 0 | BD18: 0 | BE18: 0 | BF18: 0 | BG18: 0 | BH18: 0 | BI18: 0 | BJ18: 0 | BK18: 0 | BL18: 0 | BM18: 0 | BN18: 0 | BO18: 0 | BP18: 0 | BQ18: 0 | BR18: 0 | BS18: 0 | BT18: 0 | BU18: 0 | BV18: 0 | BW18: 0 | BX18: 0 | BY18: 96 | BZ18: 96
